BEGIN:VCALENDAR
VERSION:2.0
PRODID:-//Game On Sports Bar &amp; Grill - ECPv6.0.8//NONSGML v1.0//EN
CALSCALE:GREGORIAN
METHOD:PUBLISH
X-ORIGINAL-URL:https://www.gameonsports.bar
X-WR-CALDESC:Events for Game On Sports Bar &amp; Grill
REFRESH-INTERVAL;VALUE=DURATION:PT1H
X-Robots-Tag:noindex
X-PUBLISHED-TTL:PT1H
BEGIN:VTIMEZONE
TZID:America/Vancouver
BEGIN:DAYLIGHT
TZOFFSETFROM:-0800
TZOFFSETTO:-0700
TZNAME:PDT
DTSTART:20230312T100000
END:DAYLIGHT
BEGIN:STANDARD
TZOFFSETFROM:-0700
TZOFFSETTO:-0800
TZNAME:PST
DTSTART:20231105T090000
END:STANDARD
END:VTIMEZONE
BEGIN:VEVENT
DTSTART;TZID=America/Vancouver:20230710T120000
DTEND;TZID=America/Vancouver:20230710T160000
DTSTAMP:20260422T092135
CREATED:20230710T184933Z
LAST-MODIFIED:20230710T184933Z
UID:1842-1688990400-1689004800@www.gameonsports.bar
SUMMARY:Monday Special Feature
DESCRIPTION:BBQ Swiss Burger with Crispy Jalapenos with Soup\, Salad or Fries\n$16.99 \nSoup of the Day: \nCream of Tomato\nBeef Barley\nMulligatawny \nDrink Special:  \nPints of Canadian $5.80\nMargaritas $6.00
URL:https://www.gameonsports.bar/event/monday-special-feature-10/
LOCATION:Game On Sports Bar & Grill\, 3701 Dewolf Way\, Merritt\, BC\, V1K 1C4\, Canada
ATTACH;FMTTYPE=image/jpeg:https://www.gameonsports.bar/wp-content/uploads/2023/07/Monday-July-10-2023-Special-calendar.jpeg
ORGANIZER;CN="Jim%20Cooley":MAILTO:jim.cooley@live.ca
END:VEVENT
BEGIN:VEVENT
DTSTART;TZID=America/Vancouver:20230711T120000
DTEND;TZID=America/Vancouver:20230711T160000
DTSTAMP:20260422T092135
CREATED:20230711T183045Z
LAST-MODIFIED:20230711T183045Z
UID:1845-1689076800-1689091200@www.gameonsports.bar
SUMMARY:Tuesday Special Feature
DESCRIPTION:Grilled Bacon Tomato\nCheese Sandwich\nwith Soup\, Salad or Fries. $14.99 \nSoup of the Day: \nCream of Mushroom\nLobster Bisque \nDrink Special: \nPints of Sleeman Honey Brown\n$5.80
URL:https://www.gameonsports.bar/event/tuesday-special-feature-10/
LOCATION:Game On Sports Bar & Grill\, 3701 Dewolf Way\, Merritt\, BC\, V1K 1C4\, Canada
ATTACH;FMTTYPE=image/jpeg:https://www.gameonsports.bar/wp-content/uploads/2023/07/Tuesday-July-11-2023-Special-Calendar.jpeg
ORGANIZER;CN="Jim%20Cooley":MAILTO:jim.cooley@live.ca
END:VEVENT
BEGIN:VEVENT
DTSTART;TZID=America/Vancouver:20230712T120000
DTEND;TZID=America/Vancouver:20230712T160000
DTSTAMP:20260422T092135
CREATED:20230712T182932Z
LAST-MODIFIED:20230712T182932Z
UID:1849-1689163200-1689177600@www.gameonsports.bar
SUMMARY:Wednesday Special Feature
DESCRIPTION:Chipotle Swiss Bacon Chicken Burger\, with Soup Salad or Fries $16.99 \nSoup of the Day: \nChicken Taco\nPhilly Beef \nDrink Special: \nBottles of Bud $5.15 \n 
URL:https://www.gameonsports.bar/event/wednesday-special-feature-9/
LOCATION:Game On Sports Bar & Grill\, 3701 Dewolf Way\, Merritt\, BC\, V1K 1C4\, Canada
ATTACH;FMTTYPE=image/jpeg:https://www.gameonsports.bar/wp-content/uploads/2023/07/Wednesday-July-12-2023-Special-calendar.jpeg
ORGANIZER;CN="Jim%20Cooley":MAILTO:jim.cooley@live.ca
END:VEVENT
BEGIN:VEVENT
DTSTART;TZID=America/Vancouver:20230713T120000
DTEND;TZID=America/Vancouver:20230713T160000
DTSTAMP:20260422T092135
CREATED:20230713T190604Z
LAST-MODIFIED:20230713T190604Z
UID:1852-1689249600-1689264000@www.gameonsports.bar
SUMMARY:Thursday Special Feature
DESCRIPTION:Patty Melt with Soup\, Salad or Fries $16.99 \nSoup of the Day: \nCream of Mushroom\nBeef Barley\nPhilly Beef \nDrink Special: \nPints of 1516 $5.80
URL:https://www.gameonsports.bar/event/thursday-special-feature-12/
LOCATION:Game On Sports Bar & Grill\, 3701 Dewolf Way\, Merritt\, BC\, V1K 1C4\, Canada
ATTACH;FMTTYPE=image/jpeg:https://www.gameonsports.bar/wp-content/uploads/2023/07/Thursday-July-13-2023-Special-calendar.jpeg
ORGANIZER;CN="Jim%20Cooley":MAILTO:jim.cooley@live.ca
END:VEVENT
BEGIN:VEVENT
DTSTART;TZID=America/Vancouver:20230714T120000
DTEND;TZID=America/Vancouver:20230714T160000
DTSTAMP:20260422T092135
CREATED:20230714T185209Z
LAST-MODIFIED:20230714T185209Z
UID:1855-1689336000-1689350400@www.gameonsports.bar
SUMMARY:Friday Special Feature
DESCRIPTION:Parmesan Crusted Chicken Caesar\nSandwich with Soup\, Salad or Fries\n$14.99 \nSoup of the Day: \nLobster Bisque\nSplit Pea & Ham\nBeef Barley \nDrink Special: \nPints of Rickards Red $5.80
URL:https://www.gameonsports.bar/event/friday-special-feature-11/
LOCATION:Game On Sports Bar & Grill\, 3701 Dewolf Way\, Merritt\, BC\, V1K 1C4\, Canada
ATTACH;FMTTYPE=image/jpeg:https://www.gameonsports.bar/wp-content/uploads/2023/07/Friday-July-14-2023-Special-calendar.jpeg
ORGANIZER;CN="Jim%20Cooley":MAILTO:jim.cooley@live.ca
END:VEVENT
BEGIN:VEVENT
DTSTART;TZID=America/Vancouver:20230715T120000
DTEND;TZID=America/Vancouver:20230715T160000
DTSTAMP:20260422T092135
CREATED:20230715T184923Z
LAST-MODIFIED:20230715T184923Z
UID:1858-1689422400-1689436800@www.gameonsports.bar
SUMMARY:Saturday Special Feature
DESCRIPTION:Baked French Onion\nwith Garlic Toast $10.95 \nSoup of the Day: \nMulligatawny\nCream of Mushroom \nDrink Special: \nBottles of Lucky $515
URL:https://www.gameonsports.bar/event/saturday-special-feature-13/
LOCATION:Game On Sports Bar & Grill\, 3701 Dewolf Way\, Merritt\, BC\, V1K 1C4\, Canada
ATTACH;FMTTYPE=image/jpeg:https://www.gameonsports.bar/wp-content/uploads/2023/07/Saturday-July-15-2023-Special-Calendar.jpeg
ORGANIZER;CN="Jim%20Cooley":MAILTO:jim.cooley@live.ca
END:VEVENT
BEGIN:VEVENT
DTSTART;TZID=America/Vancouver:20230717T120000
DTEND;TZID=America/Vancouver:20230717T160000
DTSTAMP:20260422T092135
CREATED:20230717T180740Z
LAST-MODIFIED:20230717T180740Z
UID:1861-1689595200-1689609600@www.gameonsports.bar
SUMMARY:Monday Special Feature
DESCRIPTION:Lobster Roll with Soup\, Salad or Fries $19.99 \nBaked French Onion Soup with\nGarlic Toast $10.99 \nSoup of the Day: \nMulligatawny\nCream of Chicken & Mushroom \nDrink Special: \nPints of Canadian $5.80
URL:https://www.gameonsports.bar/event/monday-special-feature-11/
LOCATION:Game On Sports Bar & Grill\, 3701 Dewolf Way\, Merritt\, BC\, V1K 1C4\, Canada
ATTACH;FMTTYPE=image/jpeg:https://www.gameonsports.bar/wp-content/uploads/2023/07/Monday-July-17-2023-Special-calendar.jpeg
ORGANIZER;CN="Jim%20Cooley":MAILTO:jim.cooley@live.ca
END:VEVENT
BEGIN:VEVENT
DTSTART;TZID=America/Vancouver:20230718T120000
DTEND;TZID=America/Vancouver:20230718T160000
DTSTAMP:20260422T092135
CREATED:20230718T180552Z
LAST-MODIFIED:20230718T180552Z
UID:1864-1689681600-1689696000@www.gameonsports.bar
SUMMARY:Tuesday Special Feature
DESCRIPTION:3pc Lobster Taco’s $19.95 \nSoup of the Day: \nSplit Pea & Ham\nBeef Barley \nDrink Special: \nGame On Ice Tea $5.40\nPints of Lions Gate Lager $5.80
URL:https://www.gameonsports.bar/event/tuesday-special-feature-11/
LOCATION:Game On Sports Bar & Grill\, 3701 Dewolf Way\, Merritt\, BC\, V1K 1C4\, Canada
ATTACH;FMTTYPE=image/jpeg:https://www.gameonsports.bar/wp-content/uploads/2023/07/Tuesday-July-18-2023-Special-Calendar.jpeg
ORGANIZER;CN="Jim%20Cooley":MAILTO:jim.cooley@live.ca
END:VEVENT
BEGIN:VEVENT
DTSTART;TZID=America/Vancouver:20230719T120000
DTEND;TZID=America/Vancouver:20230719T160000
DTSTAMP:20260422T092135
CREATED:20230719T191500Z
LAST-MODIFIED:20230719T191500Z
UID:1867-1689768000-1689782400@www.gameonsports.bar
SUMMARY:Wednesday Special Feature
DESCRIPTION:Western Burger\nwith Soup\, Salad or Fries. $18.99 \nSoup of the Day: \nCooley Burger\nCream of Mushroom & Chicken\nCorn Chowder \nDrink Special: \nPints of O.K 1516 $5.80\nBellini’s $5.40
URL:https://www.gameonsports.bar/event/wednesday-special-feature-10/
LOCATION:Game On Sports Bar & Grill\, 3701 Dewolf Way\, Merritt\, BC\, V1K 1C4\, Canada
ATTACH;FMTTYPE=image/jpeg:https://www.gameonsports.bar/wp-content/uploads/2023/07/Wednesday-July-19-2023-Special-calendar.jpeg
ORGANIZER;CN="Jim%20Cooley":MAILTO:jim.cooley@live.ca
END:VEVENT
BEGIN:VEVENT
DTSTART;TZID=America/Vancouver:20230720T120000
DTEND;TZID=America/Vancouver:20230720T160000
DTSTAMP:20260422T092135
CREATED:20230720T193840Z
LAST-MODIFIED:20230720T193840Z
UID:1871-1689854400-1689868800@www.gameonsports.bar
SUMMARY:Thursday Special Feature
DESCRIPTION:Mushroom & Swiss Burger with\nSoup\, Salad or Fries $16.99 \nSoup of the Day: \nChicken Taco\nCorn Chowder\nSplit Ham & Pea \nDrink Special: \nPints of Coors Light $5.80
URL:https://www.gameonsports.bar/event/thursday-special-feature-13/
LOCATION:Game On Sports Bar & Grill\, 3701 Dewolf Way\, Merritt\, BC\, V1K 1C4\, Canada
ATTACH;FMTTYPE=image/jpeg:https://www.gameonsports.bar/wp-content/uploads/2023/07/Thursday-July-20-2023-Special-calendar.jpeg
ORGANIZER;CN="Jim%20Cooley":MAILTO:jim.cooley@live.ca
END:VEVENT
BEGIN:VEVENT
DTSTART;TZID=America/Vancouver:20230721T120000
DTEND;TZID=America/Vancouver:20230721T160000
DTSTAMP:20260422T092135
CREATED:20230721T184046Z
LAST-MODIFIED:20230721T184046Z
UID:1874-1689940800-1689955200@www.gameonsports.bar
SUMMARY:Friday Special Feature
DESCRIPTION:Parmesan Crusted Chicken Caesar Sandwich\nwith Soup\, Salad or Fries $14.99 \nBaked French Onion Soup with\nGarlic Toast $10.99 \nSoup of the Day: \nCorn Chowder\nCooley Burger Soup \nDrink Special: \nVodka & Cranberry $5.40
URL:https://www.gameonsports.bar/event/friday-special-feature-12/
LOCATION:Game On Sports Bar & Grill\, 3701 Dewolf Way\, Merritt\, BC\, V1K 1C4\, Canada
ATTACH;FMTTYPE=image/jpeg:https://www.gameonsports.bar/wp-content/uploads/2023/07/Friday-July-21-2023-Special-calendar.jpeg
ORGANIZER;CN="Jim%20Cooley":MAILTO:jim.cooley@live.ca
END:VEVENT
BEGIN:VEVENT
DTSTART;TZID=America/Vancouver:20230722T120000
DTEND;TZID=America/Vancouver:20230722T160000
DTSTAMP:20260422T092135
CREATED:20230722T185637Z
LAST-MODIFIED:20230722T185637Z
UID:1878-1690027200-1690041600@www.gameonsports.bar
SUMMARY:Saturday Special Feature
DESCRIPTION:Chipotle\, Swiss & Bacon\nChicken Burger with Soup\, Salad or Fries $14.99 \nSoup of the Day: \nPhilly Beef\nPotato Bacon \nDrink Special: \nBottles of Coors Light $5.15
URL:https://www.gameonsports.bar/event/saturday-special-feature-14/
LOCATION:Game On Sports Bar & Grill\, 3701 Dewolf Way\, Merritt\, BC\, V1K 1C4\, Canada
ATTACH;FMTTYPE=image/jpeg:https://www.gameonsports.bar/wp-content/uploads/2023/07/Saturday-July-22-2023-Special-calendar.jpeg
ORGANIZER;CN="Jim%20Cooley":MAILTO:jim.cooley@live.ca
END:VEVENT
BEGIN:VEVENT
DTSTART;TZID=America/Vancouver:20230724T120000
DTEND;TZID=America/Vancouver:20230724T160000
DTSTAMP:20260422T092135
CREATED:20230724T182814Z
LAST-MODIFIED:20230724T182814Z
UID:1881-1690200000-1690214400@www.gameonsports.bar
SUMMARY:Monday Special Feature
DESCRIPTION:Chicken\, Bacon\, Swiss & Ranch\nBurger with soup\, salad or fries $14.99 \nSoup of the Day: \nCajun Bacon Corn Chowder\nMulligatawny\nPhilly Beef \nPints of Canadian $5.80
URL:https://www.gameonsports.bar/event/monday-special-feature-12/
LOCATION:Game On Sports Bar & Grill\, 3701 Dewolf Way\, Merritt\, BC\, V1K 1C4\, Canada
ATTACH;FMTTYPE=image/jpeg:https://www.gameonsports.bar/wp-content/uploads/2023/07/Monday-July-24-2023-Special-calendar.jpeg
ORGANIZER;CN="Jim%20Cooley":MAILTO:jim.cooley@live.ca
END:VEVENT
BEGIN:VEVENT
DTSTART;TZID=America/Vancouver:20230725T120000
DTEND;TZID=America/Vancouver:20230725T160000
DTSTAMP:20260422T092135
CREATED:20230725T190352Z
LAST-MODIFIED:20230725T190352Z
UID:1884-1690286400-1690300800@www.gameonsports.bar
SUMMARY:Tuesday Special Feature
DESCRIPTION:Pulled Pork Sandwich\nwith Soup\, Salad or Fries. $16.99 \nSoup of the Day: \nCajun Bacon\nCorn Chowder\nCream of Broccoli \nLobster Bisque \nDrink Special: \nPints of Coorslight $5.80\nGreyhounds. $5.40
URL:https://www.gameonsports.bar/event/tuesday-special-feature-12/
LOCATION:Game On Sports Bar & Grill\, 3701 Dewolf Way\, Merritt\, BC\, V1K 1C4\, Canada
ATTACH;FMTTYPE=image/jpeg:https://www.gameonsports.bar/wp-content/uploads/2023/07/Tuesday-July-25-2023-Special-calendar.jpeg
ORGANIZER;CN="Jim%20Cooley":MAILTO:jim.cooley@live.ca
END:VEVENT
BEGIN:VEVENT
DTSTART;TZID=America/Vancouver:20230726T120000
DTEND;TZID=America/Vancouver:20230726T160000
DTSTAMP:20260422T092135
CREATED:20230726T182153Z
LAST-MODIFIED:20230726T182153Z
UID:1887-1690372800-1690387200@www.gameonsports.bar
SUMMARY:Wednesday Special Feature
DESCRIPTION:Cubano Sandwich\nwith Soup\, Salad or Fries. $16.99 \nSoup of the Day: \nRoasted Cauliflower\nCream of Mushroom\nLobster Bisque \nDrink Special: \nPints of flagship I.P.A. $5.80\nGame On Ice Tea $5.40
URL:https://www.gameonsports.bar/event/wednesday-special-feature-11/
LOCATION:Game On Sports Bar & Grill\, 3701 Dewolf Way\, Merritt\, BC\, V1K 1C4\, Canada
ATTACH;FMTTYPE=image/jpeg:https://www.gameonsports.bar/wp-content/uploads/2023/07/Wednesday-July-26-2023-Special-calendar.jpeg
ORGANIZER;CN="Jim%20Cooley":MAILTO:jim.cooley@live.ca
END:VEVENT
BEGIN:VEVENT
DTSTART;TZID=America/Vancouver:20230727T120000
DTEND;TZID=America/Vancouver:20230727T160000
DTSTAMP:20260422T092135
CREATED:20230727T185309Z
LAST-MODIFIED:20230727T185309Z
UID:1890-1690459200-1690473600@www.gameonsports.bar
SUMMARY:Thursday Special Feature
DESCRIPTION:Pulled Pork Poutine $14.99 \nSoup of the Day: \nChicken Taco\nPotato Bacon\nRoasted Cauliflour \nDrink Special: \nPints of Rickard Red $5.80 \n 
URL:https://www.gameonsports.bar/event/thursday-special-feature-14/
LOCATION:Game On Sports Bar & Grill\, 3701 Dewolf Way\, Merritt\, BC\, V1K 1C4\, Canada
ATTACH;FMTTYPE=image/jpeg:https://www.gameonsports.bar/wp-content/uploads/2023/07/Thursday-July-27-2023-Special-calendar.jpeg
ORGANIZER;CN="Jim%20Cooley":MAILTO:jim.cooley@live.ca
END:VEVENT
BEGIN:VEVENT
DTSTART;TZID=America/Vancouver:20230728T120000
DTEND;TZID=America/Vancouver:20230728T160000
DTSTAMP:20260422T092135
CREATED:20230728T192038Z
LAST-MODIFIED:20230728T192038Z
UID:1894-1690545600-1690560000@www.gameonsports.bar
SUMMARY:Friday Special Feature
DESCRIPTION:Parmesan Crusted Chicken Caesar\nSandwich with Soup\, Salad or Fries $14.99 \nSoup of the Day: \nChicken & Mushroom\nPhilly Beef\nPotato Bacon \nDrink Special: \nPints of Lions Gate Lager $5.80
URL:https://www.gameonsports.bar/event/friday-special-feature-13/
LOCATION:Game On Sports Bar & Grill\, 3701 Dewolf Way\, Merritt\, BC\, V1K 1C4\, Canada
ATTACH;FMTTYPE=image/jpeg:https://www.gameonsports.bar/wp-content/uploads/2023/07/Friday-July-28-2023-Special-calendar.jpeg
ORGANIZER;CN="Jim%20Cooley":MAILTO:jim.cooley@live.ca
END:VEVENT
BEGIN:VEVENT
DTSTART;TZID=America/Vancouver:20230729T120000
DTEND;TZID=America/Vancouver:20230729T160000
DTSTAMP:20260422T092135
CREATED:20230729T183807Z
LAST-MODIFIED:20230729T183807Z
UID:1897-1690632000-1690646400@www.gameonsports.bar
SUMMARY:Saturday Special Feature
DESCRIPTION:2 Calamari Tacos with Soup\, Salad or Fries $16.99 \nSoup of the Day: \nCooley Burger Soup\nBeef Barley \nDrink Special: \nScrew Drivers $5.40
URL:https://www.gameonsports.bar/event/saturday-special-feature-15/
LOCATION:Game On Sports Bar & Grill\, 3701 Dewolf Way\, Merritt\, BC\, V1K 1C4\, Canada
ATTACH;FMTTYPE=image/jpeg:https://www.gameonsports.bar/wp-content/uploads/2023/07/Saturday-July-29-2023-Special-calendar.jpeg
ORGANIZER;CN="Jim%20Cooley":MAILTO:jim.cooley@live.ca
END:VEVENT
BEGIN:VEVENT
DTSTART;TZID=America/Vancouver:20230731T120000
DTEND;TZID=America/Vancouver:20230731T160000
DTSTAMP:20260422T092135
CREATED:20230731T184855Z
LAST-MODIFIED:20230731T184855Z
UID:1900-1690804800-1690819200@www.gameonsports.bar
SUMMARY:Monday Special Feature
DESCRIPTION:Calamari Wrap with Soup\, Salad or Fries $14.99 \nSoup of the Day: \nRoasted Cauliflower\nLobster Bisque\nChicken Taco \nDrink Special: \nPints of Canadian $5.80
URL:https://www.gameonsports.bar/event/monday-special-feature-13/
LOCATION:Game On Sports Bar & Grill\, 3701 Dewolf Way\, Merritt\, BC\, V1K 1C4\, Canada
ATTACH;FMTTYPE=image/jpeg:https://www.gameonsports.bar/wp-content/uploads/2023/07/Monday-July-31-2023-Special-calendar.jpeg
ORGANIZER;CN="Jim%20Cooley":MAILTO:jim.cooley@live.ca
END:VEVENT
BEGIN:VEVENT
DTSTART;TZID=America/Vancouver:20230801T120000
DTEND;TZID=America/Vancouver:20230801T160000
DTSTAMP:20260422T092135
CREATED:20230801T201621Z
LAST-MODIFIED:20230801T201621Z
UID:1903-1690891200-1690905600@www.gameonsports.bar
SUMMARY:Tuesday Special Feature
DESCRIPTION:Mushroom & Swiss Beef Burger\nwith your choice of side $16.99 \nSoups: \nBeef Barley\nCream of Broccoli \nDrink Special: \nBottles of Budweiser $5.15
URL:https://www.gameonsports.bar/event/tuesday-special-feature-13/
LOCATION:Game On Sports Bar & Grill\, 3701 Dewolf Way\, Merritt\, BC\, V1K 1C4\, Canada
ATTACH;FMTTYPE=image/jpeg:https://www.gameonsports.bar/wp-content/uploads/2023/08/Tuesday-August-1-2023-Special-calendar.jpeg
ORGANIZER;CN="Jim%20Cooley":MAILTO:jim.cooley@live.ca
END:VEVENT
BEGIN:VEVENT
DTSTART;TZID=America/Vancouver:20230802T120000
DTEND;TZID=America/Vancouver:20230802T160000
DTSTAMP:20260422T092135
CREATED:20230802T185503Z
LAST-MODIFIED:20230802T185503Z
UID:1906-1690977600-1690992000@www.gameonsports.bar
SUMMARY:Wednesday Special Feature
DESCRIPTION:Bacon Ranch Swiss Chicken\nBurger with your choice of side. $16.99 \nSoups: \nMushroom Chicken\nPhilly Beef\nBeef Barley \nDrink Special: \nPints of Sleeman’s Honey Brown $5.80 \n 
URL:https://www.gameonsports.bar/event/wednesday-special-feature-12/
LOCATION:Game On Sports Bar & Grill\, 3701 Dewolf Way\, Merritt\, BC\, V1K 1C4\, Canada
ATTACH;FMTTYPE=image/jpeg:https://www.gameonsports.bar/wp-content/uploads/2023/08/Wednesday-August-2-2023-Special-calendar.jpeg
ORGANIZER;CN="Jim%20Cooley":MAILTO:jim.cooley@live.ca
END:VEVENT
BEGIN:VEVENT
DTSTART;TZID=America/Vancouver:20230803T120000
DTEND;TZID=America/Vancouver:20230803T160000
DTSTAMP:20260422T092135
CREATED:20230803T191202Z
LAST-MODIFIED:20230803T191202Z
UID:1909-1691064000-1691078400@www.gameonsports.bar
SUMMARY:Thursday Special Feature
DESCRIPTION:Pulled Pork Sandwich\nwith Soup\, Salad or Fries $16.99 \nSoup of the Day: \nChicken Taco\nCream of Broccoli\nPhilly Beef \nDrink Special: \nBottles of Canadian $5.15\nLong Island Icedtea $5.40
URL:https://www.gameonsports.bar/event/thursday-special-feature-15/
LOCATION:Game On Sports Bar & Grill\, 3701 Dewolf Way\, Merritt\, BC\, V1K 1C4\, Canada
ATTACH;FMTTYPE=image/jpeg:https://www.gameonsports.bar/wp-content/uploads/2023/08/Thursday-August-3-2023-Special-calendar.jpeg
ORGANIZER;CN="Jim%20Cooley":MAILTO:jim.cooley@live.ca
END:VEVENT
BEGIN:VEVENT
DTSTART;TZID=America/Vancouver:20230804T120000
DTEND;TZID=America/Vancouver:20230804T160000
DTSTAMP:20260422T092135
CREATED:20230804T174656Z
LAST-MODIFIED:20230804T174656Z
UID:1912-1691150400-1691164800@www.gameonsports.bar
SUMMARY:Friday Special Feature
DESCRIPTION:Parmesan Crusted Chicken Caesar Sandwich with soup\, salad or fries\n$14.99 \nSoup of the Day: \nPotato Bacon\nBeef Barley\nChicken Taco \nDrink Special: \nPints of Lions Gate Lager $5.80
URL:https://www.gameonsports.bar/event/friday-special-feature-14/
LOCATION:Game On Sports Bar & Grill\, 3701 Dewolf Way\, Merritt\, BC\, V1K 1C4\, Canada
ATTACH;FMTTYPE=image/jpeg:https://www.gameonsports.bar/wp-content/uploads/2023/08/Friday-August-4-2023-Special-calendar.jpeg
ORGANIZER;CN="Jim%20Cooley":MAILTO:jim.cooley@live.ca
END:VEVENT
BEGIN:VEVENT
DTSTART;TZID=America/Vancouver:20230805T120000
DTEND;TZID=America/Vancouver:20230805T160000
DTSTAMP:20260422T092135
CREATED:20230805T201135Z
LAST-MODIFIED:20230805T201135Z
UID:1916-1691236800-1691251200@www.gameonsports.bar
SUMMARY:Saturday Special Feature
DESCRIPTION:Southern BBQ Pulled Pork Panini with Soup\, Salad or Fries $16.99 \nSoup of the Day: \nCream of Broccoli\nCream of mushroom \nDrink Special: \nBlue Crush Margarita $5.75\nPints of Coors Light $5.80
URL:https://www.gameonsports.bar/event/saturday-special-feature-16/
LOCATION:Game On Sports Bar & Grill\, 3701 Dewolf Way\, Merritt\, BC\, V1K 1C4\, Canada
ATTACH;FMTTYPE=image/jpeg:https://www.gameonsports.bar/wp-content/uploads/2023/08/Saturday-August-5-2023-Special-calendar.jpeg
ORGANIZER;CN="Jim%20Cooley":MAILTO:jim.cooley@live.ca
END:VEVENT
BEGIN:VEVENT
DTSTART;TZID=America/Vancouver:20230807T120000
DTEND;TZID=America/Vancouver:20230807T160000
DTSTAMP:20260422T092135
CREATED:20230807T192039Z
LAST-MODIFIED:20230807T192039Z
UID:1919-1691409600-1691424000@www.gameonsports.bar
SUMMARY:Monday Special Feature
DESCRIPTION:Grilled Cheese with Bacon & Tomato with Soup\, Salad or Fries $14.99 \nSoup of the Day: \nCorn Chowder\nCream of Broccoli\nBeef Barley \nDrink Special: \nPints of Canadian $5.80
URL:https://www.gameonsports.bar/event/monday-special-feature-14/
LOCATION:Game On Sports Bar & Grill\, 3701 Dewolf Way\, Merritt\, BC\, V1K 1C4\, Canada
ATTACH;FMTTYPE=image/jpeg:https://www.gameonsports.bar/wp-content/uploads/2023/08/Monday-August-7-2023-Special-calendar.jpeg
ORGANIZER;CN="Jim%20Cooley":MAILTO:jim.cooley@live.ca
END:VEVENT
BEGIN:VEVENT
DTSTART;TZID=America/Vancouver:20230808T120000
DTEND;TZID=America/Vancouver:20230808T160000
DTSTAMP:20260422T092135
CREATED:20230808T182553Z
LAST-MODIFIED:20230808T183015Z
UID:1922-1691496000-1691510400@www.gameonsports.bar
SUMMARY:Tuesday Special Feature
DESCRIPTION:Mushroom Swiss Beef Burger\nwith Soup\, Salad or Fries $16.99 \nSoup of the Day: \nBeef Barley\nRoasted Cauliflower \nDrink Special: \nBottles of Budweiser $5.15
URL:https://www.gameonsports.bar/event/tuesday-special-feature-14/
LOCATION:Game On Sports Bar & Grill\, 3701 Dewolf Way\, Merritt\, BC\, V1K 1C4\, Canada
ATTACH;FMTTYPE=image/jpeg:https://www.gameonsports.bar/wp-content/uploads/2023/08/Tuesday-August-8-2023-Special-calendar.jpeg
ORGANIZER;CN="Jim%20Cooley":MAILTO:jim.cooley@live.ca
END:VEVENT
BEGIN:VEVENT
DTSTART;TZID=America/Vancouver:20230809T120000
DTEND;TZID=America/Vancouver:20230809T160000
DTSTAMP:20260422T092135
CREATED:20230809T182159Z
LAST-MODIFIED:20230809T182159Z
UID:1925-1691582400-1691596800@www.gameonsports.bar
SUMMARY:Wednesday Special Feature
DESCRIPTION:Crispy Chicken Clubhouse Panini\, with Soup\, Salad or Fries $16.99 \nSoup of Day: \nCream of Carrot\nCream of Mushroom \nDrink Special: \nPints of Lions Gate Lager $5.80\nGreyhounds $5.40
URL:https://www.gameonsports.bar/event/wednesday-special-feature-13/
LOCATION:Game On Sports Bar & Grill\, 3701 Dewolf Way\, Merritt\, BC\, V1K 1C4\, Canada
ATTACH;FMTTYPE=image/jpeg:https://www.gameonsports.bar/wp-content/uploads/2023/08/Wednesday-August-9-2023-Special-calendar.jpeg
ORGANIZER;CN="Jim%20Cooley":MAILTO:jim.cooley@live.ca
END:VEVENT
BEGIN:VEVENT
DTSTART;TZID=America/Vancouver:20230810T120000
DTEND;TZID=America/Vancouver:20230810T160000
DTSTAMP:20260422T092135
CREATED:20230810T190747Z
LAST-MODIFIED:20230810T190747Z
UID:1928-1691668800-1691683200@www.gameonsports.bar
SUMMARY:Thursday Special Feature
DESCRIPTION:Swiss Beef Dip\nwith Soup\, Salad or Fries $14.99 \nSoup of the Day: \nCorned Beef & Cabbage\nPotato Bacon \nDrink Special: \nPints of 1516 $5.80\nVodka Cranberry $5.40
URL:https://www.gameonsports.bar/event/thursday-special-feature-16/
LOCATION:Game On Sports Bar & Grill\, 3701 Dewolf Way\, Merritt\, BC\, V1K 1C4\, Canada
ATTACH;FMTTYPE=image/jpeg:https://www.gameonsports.bar/wp-content/uploads/2023/08/Thursday-August-10-2023-Special-calendar.jpeg
ORGANIZER;CN="Jim%20Cooley":MAILTO:jim.cooley@live.ca
END:VEVENT
BEGIN:VEVENT
DTSTART;TZID=America/Vancouver:20230811T120000
DTEND;TZID=America/Vancouver:20230811T160000
DTSTAMP:20260422T092135
CREATED:20230811T190520Z
LAST-MODIFIED:20230811T190520Z
UID:1931-1691755200-1691769600@www.gameonsports.bar
SUMMARY:Friday Special Feature
DESCRIPTION:Chipotle\, Bacon Swiss Chicken Burger with Soup\, Salad or Fries $14.99 \nSoup of the Day: \nCorn Chowder\nBeef Barley \nDrink Special: \nPints of Flagship IPA $5.80\nScrew Drivers $5.40
URL:https://www.gameonsports.bar/event/friday-special-feature-15/
LOCATION:Game On Sports Bar & Grill\, 3701 Dewolf Way\, Merritt\, BC\, V1K 1C4\, Canada
ATTACH;FMTTYPE=image/jpeg:https://www.gameonsports.bar/wp-content/uploads/2023/08/Friday-August-11-2023-calendar.jpeg
ORGANIZER;CN="Jim%20Cooley":MAILTO:jim.cooley@live.ca
END:VEVENT
BEGIN:VEVENT
DTSTART;TZID=America/Vancouver:20230814T120000
DTEND;TZID=America/Vancouver:20230814T160000
DTSTAMP:20260422T092135
CREATED:20230814T184622Z
LAST-MODIFIED:20230814T184622Z
UID:1935-1692014400-1692028800@www.gameonsports.bar
SUMMARY:Monday Special Feature
DESCRIPTION:Grilled Cheese with Bacon & Tomato with Soup\, Salad or Fries $14.99 \nSoup of the Day: \nCream of Broccoli\nGinger Beef\nBeef Barley \nPints of Canadian $5.80\nGrowers Dry Apple $5.00
URL:https://www.gameonsports.bar/event/monday-special-feature-15/
LOCATION:Game On Sports Bar & Grill\, 3701 Dewolf Way\, Merritt\, BC\, V1K 1C4\, Canada
ATTACH;FMTTYPE=image/jpeg:https://www.gameonsports.bar/wp-content/uploads/2023/08/Monday-August-14-2023-Special-calendar.jpeg
ORGANIZER;CN="Jim%20Cooley":MAILTO:jim.cooley@live.ca
END:VEVENT
END:VCALENDAR