BEGIN:VCALENDAR
VERSION:2.0
PRODID:-//Game On Sports Bar &amp; Grill - ECPv6.0.8//NONSGML v1.0//EN
CALSCALE:GREGORIAN
METHOD:PUBLISH
X-WR-CALNAME:Game On Sports Bar &amp; Grill
X-ORIGINAL-URL:https://www.gameonsports.bar
X-WR-CALDESC:Events for Game On Sports Bar &amp; Grill
REFRESH-INTERVAL;VALUE=DURATION:PT1H
X-Robots-Tag:noindex
X-PUBLISHED-TTL:PT1H
BEGIN:VTIMEZONE
TZID:America/Vancouver
BEGIN:DAYLIGHT
TZOFFSETFROM:-0800
TZOFFSETTO:-0700
TZNAME:PDT
DTSTART:20230312T100000
END:DAYLIGHT
BEGIN:STANDARD
TZOFFSETFROM:-0700
TZOFFSETTO:-0800
TZNAME:PST
DTSTART:20231105T090000
END:STANDARD
END:VTIMEZONE
BEGIN:VEVENT
DTSTART;TZID=America/Vancouver:20230210T170000
DTEND;TZID=America/Vancouver:20230210T220000
DTSTAMP:20260422T092306
CREATED:20230209T155122Z
LAST-MODIFIED:20230209T160328Z
UID:1370-1676048400-1676066400@www.gameonsports.bar
SUMMARY:Friday's Prime Rib Dinner Special
DESCRIPTION:Two sizes to choose from: \n8 oz for $26.95\n12 oz for $32.95 \nIncludes: \nchoice of potato\nsauteed vegetables\nand Yorkshire pudding \nEvery Friday Night!
URL:https://www.gameonsports.bar/event/fridays-prime-rib-dinner-special/
LOCATION:Game On Sports Bar & Grill\, 3701 Dewolf Way\, Merritt\, BC\, V1K 1C4\, Canada
ATTACH;FMTTYPE=image/png:https://www.gameonsports.bar/wp-content/uploads/2023/02/FRIDAY-Prime-Rib-Calendar.png
ORGANIZER;CN="Jim%20Cooley":MAILTO:jim.cooley@live.ca
END:VEVENT
BEGIN:VEVENT
DTSTART;TZID=America/Vancouver:20230210T110000
DTEND;TZID=America/Vancouver:20230210T150000
DTSTAMP:20260422T092306
CREATED:20230210T190853Z
LAST-MODIFIED:20230210T190853Z
UID:1387-1676026800-1676041200@www.gameonsports.bar
SUMMARY:Friday Lunch Special
DESCRIPTION:Lunch Special: \nBraised Beef Poutine – $15.99 \nSoup of the Day: \nCream of Mushroom\nBeef Barley \nDrink of the Day: \nLong Island Iced Tea – $5.40
URL:https://www.gameonsports.bar/event/friday-lunch-special/
LOCATION:Game On Sports Bar & Grill\, 3701 Dewolf Way\, Merritt\, BC\, V1K 1C4\, Canada
ATTACH;FMTTYPE=image/png:https://www.gameonsports.bar/wp-content/uploads/2023/02/Friday-Feb-10-2023-Lunch-calendar.png
ORGANIZER;CN="Jim%20Cooley":MAILTO:jim.cooley@live.ca
END:VEVENT
BEGIN:VEVENT
DTSTART;TZID=America/Vancouver:20230209T170000
DTEND;TZID=America/Vancouver:20230209T220000
DTSTAMP:20260422T092306
CREATED:20230210T013820Z
LAST-MODIFIED:20230210T013820Z
UID:1384-1675962000-1675980000@www.gameonsports.bar
SUMMARY:Thursday's Wing Night
DESCRIPTION:Thursday’s Wing Night is Back!  $9.50 per pound. \n 
URL:https://www.gameonsports.bar/event/thursdays-wing-night/
LOCATION:Game On Sports Bar & Grill\, 3701 Dewolf Way\, Merritt\, BC\, V1K 1C4\, Canada
ATTACH;FMTTYPE=image/jpeg:https://www.gameonsports.bar/wp-content/uploads/2023/02/Thursdays-Wing-Nights-890×668px-calendar.jpeg
ORGANIZER;CN="Jim%20Cooley":MAILTO:jim.cooley@live.ca
END:VEVENT
BEGIN:VEVENT
DTSTART;TZID=America/Vancouver:20230209T110000
DTEND;TZID=America/Vancouver:20230209T160000
DTSTAMP:20260422T092306
CREATED:20230209T202757Z
LAST-MODIFIED:20230209T203149Z
UID:1379-1675940400-1675958400@www.gameonsports.bar
SUMMARY:Thursday Lunch Special
DESCRIPTION:Lunch Special: \nBacon cheeseburger with Crispy Jalapenos with Soup\, Salad or Fries $16.99 \nSoup of the Day: \nCream of Carrot\nCabbage Roll Soup\nMulligatawny \nBottles of Lucky $5.15
URL:https://www.gameonsports.bar/event/thursday-lunch-special/
LOCATION:Game On Sports Bar & Grill\, 3701 Dewolf Way\, Merritt\, BC\, V1K 1C4\, Canada
ATTACH;FMTTYPE=image/jpeg:https://www.gameonsports.bar/wp-content/uploads/2023/02/Thursday-Feb-9-2023-Lunch-Special-Calendar.jpeg
ORGANIZER;CN="Jim%20Cooley":MAILTO:jim.cooley@live.ca
END:VEVENT
END:VCALENDAR