BEGIN:VCALENDAR
VERSION:2.0
PRODID:-//Game On Sports Bar &amp; Grill - ECPv6.0.8//NONSGML v1.0//EN
CALSCALE:GREGORIAN
METHOD:PUBLISH
X-ORIGINAL-URL:https://www.gameonsports.bar
X-WR-CALDESC:Events for Game On Sports Bar &amp; Grill
REFRESH-INTERVAL;VALUE=DURATION:PT1H
X-Robots-Tag:noindex
X-PUBLISHED-TTL:PT1H
BEGIN:VTIMEZONE
TZID:America/Vancouver
BEGIN:DAYLIGHT
TZOFFSETFROM:-0800
TZOFFSETTO:-0700
TZNAME:PDT
DTSTART:20250309T100000
END:DAYLIGHT
BEGIN:STANDARD
TZOFFSETFROM:-0700
TZOFFSETTO:-0800
TZNAME:PST
DTSTART:20251102T090000
END:STANDARD
END:VTIMEZONE
BEGIN:VEVENT
DTSTART;TZID=America/Vancouver:20250714T120000
DTEND;TZID=America/Vancouver:20250714T160000
DTSTAMP:20260425T201504
CREATED:20250714T181112Z
LAST-MODIFIED:20250714T181112Z
UID:3642-1752494400-1752508800@www.gameonsports.bar
SUMMARY:🌊 Monday Special Feature
DESCRIPTION:Bowl of Seafood ChowderServed with Garlic Toast – $11.99 \n\n🥣 Soup of the Day\n\n\nCream of Mushroom \n\n\nBeef Vegetable \n\n\nPotato Bacon \n\n\n\n🍹 Drink Specials\n\n\nPints of Flagship IPA – $7.00 \n\n\nGin & Tonic – $5.50
URL:https://www.gameonsports.bar/event/%f0%9f%8c%8a-monday-special-feature/
LOCATION:Game On Sports Bar & Grill\, 3701 Dewolf Way\, Merritt\, BC\, V1K 1C4\, Canada
ATTACH;FMTTYPE=image/jpeg:https://www.gameonsports.bar/wp-content/uploads/2025/07/Monday-July-14-2025-Instagram-Post.jpg
ORGANIZER;CN="Jim%20Cooley":MAILTO:jim.cooley@live.ca
END:VEVENT
BEGIN:VEVENT
DTSTART;TZID=America/Vancouver:20250715T120000
DTEND;TZID=America/Vancouver:20250715T160000
DTSTAMP:20260425T201504
CREATED:20250715T191211Z
LAST-MODIFIED:20250715T191211Z
UID:3645-1752580800-1752595200@www.gameonsports.bar
SUMMARY:Tuesday Special Feature
DESCRIPTION:✨ Try Our New Feature Sheet! ✨Ask your server for today’s highlighted creation! \n\n🥣 Soup of the Day\n\n\nBorscht \n\n\nCabbage Roll \n\n\nChicken Taco \n\n\nMulligatawny \n\n\n\n🍹 Drink Specials\n\n\nPints of OK Springs 1516 – $7.00 \n\n\nVodka Screwdriver – $6.25
URL:https://www.gameonsports.bar/event/tuesday-special-feature-78/
LOCATION:Game On Sports Bar & Grill\, 3701 Dewolf Way\, Merritt\, BC\, V1K 1C4\, Canada
ATTACH;FMTTYPE=image/jpeg:https://www.gameonsports.bar/wp-content/uploads/2025/07/Tuesday-July-15-2025-Instagram-Post.jpg
ORGANIZER;CN="Jim%20Cooley":MAILTO:jim.cooley@live.ca
END:VEVENT
BEGIN:VEVENT
DTSTART;TZID=America/Vancouver:20250716T120000
DTEND;TZID=America/Vancouver:20250716T160000
DTSTAMP:20260425T201504
CREATED:20250716T185053Z
LAST-MODIFIED:20250716T185053Z
UID:3651-1752667200-1752681600@www.gameonsports.bar
SUMMARY:🌟 Wednesday Special Feature
DESCRIPTION:✨ Try Our NEW Feature Sheet! ✨Ask your server for today’s featured dish! \n🍲 Seafood ChowderServed with garlic toast – $11.99 \n\n🥣 Soup of the Day\n\n\nCream of Broccoli \n\n\nBeef Vegetable \n\n\nBorscht \n\n\n\n🍹 Drink Specials\n\n\nPints of 378 Lager – $7.00 \n\n\nLong Island Iced Tea – $6.25
URL:https://www.gameonsports.bar/event/%f0%9f%8c%9f-wednesday-special-feature/
LOCATION:Game On Sports Bar & Grill\, 3701 Dewolf Way\, Merritt\, BC\, V1K 1C4\, Canada
ATTACH;FMTTYPE=image/jpeg:https://www.gameonsports.bar/wp-content/uploads/2025/07/Wednesday-July-16-2025-Instagram-Post.jpg
ORGANIZER;CN="Jim%20Cooley":MAILTO:jim.cooley@live.ca
END:VEVENT
BEGIN:VEVENT
DTSTART;TZID=America/Vancouver:20250717T120000
DTEND;TZID=America/Vancouver:20250717T160000
DTSTAMP:20260425T201504
CREATED:20250717T182815Z
LAST-MODIFIED:20250717T182815Z
UID:3655-1752753600-1752768000@www.gameonsports.bar
SUMMARY:🌟 Thursday Special Feature
DESCRIPTION:✨ Check Out Our NEW Feature Sheet!\nAsk your server for today’s featured item. \n\n🥣 Soup of the Day\n\n\nThai Coconut Curry \n\n\nMulligatawny \n\n\nSplit Pea & Ham \n\n\n\n🍹 Drink Specials\n\n\nBottles of Coors Original – $5.75 \n\n\nHoly Water – $6.25 \n\n\n 
URL:https://www.gameonsports.bar/event/%f0%9f%8c%9f-thursday-special-feature/
LOCATION:Game On Sports Bar & Grill\, 3701 Dewolf Way\, Merritt\, BC\, V1K 1C4\, Canada
ATTACH;FMTTYPE=image/jpeg:https://www.gameonsports.bar/wp-content/uploads/2025/07/Thursday-July-17-2025-Instagram-Post.jpg
ORGANIZER;CN="Jim%20Cooley":MAILTO:jim.cooley@live.ca
END:VEVENT
BEGIN:VEVENT
DTSTART;TZID=America/Vancouver:20250721T120000
DTEND;TZID=America/Vancouver:20250721T160000
DTSTAMP:20260425T201504
CREATED:20250721T183937Z
LAST-MODIFIED:20250721T183941Z
UID:3658-1753099200-1753113600@www.gameonsports.bar
SUMMARY:🍽️ Monday Special Feature
DESCRIPTION:2 Prime Rib & Mushroom Stuffed YorkiesServed with rich gravy – $18.99 \n\n🥣 Soup of the Day\n\n\nThai Chicken Coconut Curry \n\n\nBeef Vegetable \n\n\nMulligatawny \n\n\nCabbage Roll \n\n\n\n🍻 Drink Specials\n\n\nBottles of Canadian – $5.75 \n\n\nArizona Half & Half – $5.75
URL:https://www.gameonsports.bar/event/%f0%9f%8d%bd%ef%b8%8f-monday-special-feature/
LOCATION:Game On Sports Bar & Grill\, 3701 Dewolf Way\, Merritt\, BC\, V1K 1C4\, Canada
ATTACH;FMTTYPE=image/jpeg:https://www.gameonsports.bar/wp-content/uploads/2025/07/Monday-July-21-2025-Instagram-Post.jpg
ORGANIZER;CN="Jim%20Cooley":MAILTO:jim.cooley@live.ca
END:VEVENT
BEGIN:VEVENT
DTSTART;TZID=America/Vancouver:20250722T120000
DTEND;TZID=America/Vancouver:20250722T160000
DTSTAMP:20260425T201504
CREATED:20250722T191852Z
LAST-MODIFIED:20250722T191852Z
UID:3661-1753185600-1753200000@www.gameonsports.bar
SUMMARY:🍽️ Tuesday Special Feature
DESCRIPTION:BBQ Cheddar Prime Rib Beef DipWith raw onions and your choice of side – $19.99 \n\n🥣 Soup of the Day\n\n\nCooley Burger Soup \n\n\nPotato Bacon \n\n\nCream of Carrot \n\n\nCorned Beef & Cabbage \n\n\nBorscht \n\n\n\n🍹 Drink Specials\n\n\nPints of Sleeman’s Honey Brown – $7.00 \n\n\nLong Island Iced Tea – $6.25
URL:https://www.gameonsports.bar/event/%f0%9f%8d%bd%ef%b8%8f-tuesday-special-feature/
LOCATION:Game On Sports Bar & Grill\, 3701 Dewolf Way\, Merritt\, BC\, V1K 1C4\, Canada
ATTACH;FMTTYPE=image/jpeg:https://www.gameonsports.bar/wp-content/uploads/2025/07/Tuesday-July-22-2025-Instagram-Post.jpg
ORGANIZER;CN="Jim%20Cooley":MAILTO:jim.cooley@live.ca
END:VEVENT
BEGIN:VEVENT
DTSTART;TZID=America/Vancouver:20250723T120000
DTEND;TZID=America/Vancouver:20250723T160000
DTSTAMP:20260425T201504
CREATED:20250723T174833Z
LAST-MODIFIED:20250723T174838Z
UID:3664-1753272000-1753286400@www.gameonsports.bar
SUMMARY:🍽️ Wednesday Special Feature
DESCRIPTION:Seafood ChowderServed with garlic toast – $11.99 \n\n🥣 Soup of the Day\n\n\nPotato Bacon \n\n\nMulligatawny \n\n\nCream of Broccoli \n\n\nCream of Mushroom \n\n\n\n🍹 Drink Specials\n\n\nPints of 378 Lager – $7.00 \n\n\nVodka Cranberry – $6.25
URL:https://www.gameonsports.bar/event/%f0%9f%8d%bd%ef%b8%8f-wednesday-special-feature/
LOCATION:Game On Sports Bar & Grill\, 3701 Dewolf Way\, Merritt\, BC\, V1K 1C4\, Canada
ATTACH;FMTTYPE=image/jpeg:https://www.gameonsports.bar/wp-content/uploads/2025/07/Wednesday-July-23-2025-Instagram-Post.jpg
ORGANIZER;CN="Jim%20Cooley":MAILTO:jim.cooley@live.ca
END:VEVENT
BEGIN:VEVENT
DTSTART;TZID=America/Vancouver:20250724T120000
DTEND;TZID=America/Vancouver:20250724T160000
DTSTAMP:20260425T201504
CREATED:20250724T181227Z
LAST-MODIFIED:20250724T181230Z
UID:3667-1753358400-1753372800@www.gameonsports.bar
SUMMARY:🍽️ Thursday Special Feature
DESCRIPTION:BBQ Bacon Cheddar BurgerServed with soup\, salad\, or fries – $19.99 \n\n🥣 Soup of the Day\n\n\nCream of Tomato \n\n\nCorned Beef & Cabbage \n\n\nBroccoli Cheddar \n\n\nCooley Burger \n\n\nThai Coconut Curry \n\n\n\n🍹 Drink Specials\n\n\nPints of Flagship IPA – $7.00 \n\n\nPeach Whiteclaw – $5.75
URL:https://www.gameonsports.bar/event/%f0%9f%8d%bd%ef%b8%8f-thursday-special-feature/
LOCATION:Game On Sports Bar & Grill\, 3701 Dewolf Way\, Merritt\, BC\, V1K 1C4\, Canada
ATTACH;FMTTYPE=image/jpeg:https://www.gameonsports.bar/wp-content/uploads/2025/07/Thursday-July-24-2025-Instagram-Post.jpg
ORGANIZER;CN="Jim%20Cooley":MAILTO:jim.cooley@live.ca
END:VEVENT
BEGIN:VEVENT
DTSTART;TZID=America/Vancouver:20250725T120000
DTEND;TZID=America/Vancouver:20250725T160000
DTSTAMP:20260425T201504
CREATED:20250725T191453Z
LAST-MODIFIED:20250725T191453Z
UID:3671-1753444800-1753459200@www.gameonsports.bar
SUMMARY:🐟 Friday Special Feature
DESCRIPTION:Seafood ChowderServed with garlic toast – $11.99 \n\n🥣 Soup of the Day\n\n\nCooley Burger \n\n\nThai Coconut Curry \n\n\nBeef Vegetable \n\n\n\n🍹 Drink Specials\n\n\nPints of Sleeman Honey Brown – $7.00 \n\n\nVodka Cranberry – $6.25
URL:https://www.gameonsports.bar/event/%f0%9f%90%9f-friday-special-feature/
LOCATION:Game On Sports Bar & Grill\, 3701 Dewolf Way\, Merritt\, BC\, V1K 1C4\, Canada
ATTACH;FMTTYPE=image/jpeg:https://www.gameonsports.bar/wp-content/uploads/2025/07/Friday-July-25-2025-Instagram-Post.jpg
ORGANIZER;CN="Jim%20Cooley":MAILTO:jim.cooley@live.ca
END:VEVENT
BEGIN:VEVENT
DTSTART;TZID=America/Vancouver:20250726T120000
DTEND;TZID=America/Vancouver:20250726T160000
DTSTAMP:20260425T201504
CREATED:20250726T202018Z
LAST-MODIFIED:20250726T202018Z
UID:3674-1753531200-1753545600@www.gameonsports.bar
SUMMARY:🍗 Saturday Special Feature
DESCRIPTION:Crispy Chicken Caesar WrapServed with soup\, salad\, or fries – $16.99 \n\n🥣 Soup of the Day\n\n\nCream of Mushroom \n\n\nBeef Vegetable \n\n\n\n🍹 Drink Specials\n\n\nPints of 1516 – $7.00 \n\n\nGame On Iced Tea – $6.25
URL:https://www.gameonsports.bar/event/%f0%9f%8d%97-saturday-special-feature/
LOCATION:Game On Sports Bar & Grill\, 3701 Dewolf Way\, Merritt\, BC\, V1K 1C4\, Canada
ATTACH;FMTTYPE=image/jpeg:https://www.gameonsports.bar/wp-content/uploads/2025/07/Saturday-July-26-2025-1950-x-1950-px.jpg
ORGANIZER;CN="Jim%20Cooley":MAILTO:jim.cooley@live.ca
END:VEVENT
BEGIN:VEVENT
DTSTART;TZID=America/Vancouver:20250729T120000
DTEND;TZID=America/Vancouver:20250729T160000
DTSTAMP:20260425T201504
CREATED:20250729T184710Z
LAST-MODIFIED:20250729T184714Z
UID:3677-1753790400-1753804800@www.gameonsports.bar
SUMMARY:🍔 Tuesday Special Feature
DESCRIPTION:BBQ Cheddar BurgerServed with fries\, soup\, or salad – $18.99 \n\n🥣 Soup of the Day\n\n\nCream of Carrot \n\n\nBorsht \n\n\nBeef Veggie \n\n\nPotato Bacon \n\n\n\n🍹 Drink Specials\n\n\nPints of OK Springs 1516 – $7.00 \n\n\nLong Island Iced Tea – $6.25
URL:https://www.gameonsports.bar/event/%f0%9f%8d%94-tuesday-special-feature/
LOCATION:Game On Sports Bar & Grill\, 3701 Dewolf Way\, Merritt\, BC\, V1K 1C4\, Canada
ATTACH;FMTTYPE=image/jpeg:https://www.gameonsports.bar/wp-content/uploads/2025/07/Tuesday-July-29-2025-1950-x-1950-px.jpg
ORGANIZER;CN="Jim%20Cooley":MAILTO:jim.cooley@live.ca
END:VEVENT
BEGIN:VEVENT
DTSTART;TZID=America/Vancouver:20250730T120000
DTEND;TZID=America/Vancouver:20250730T160000
DTSTAMP:20260425T201504
CREATED:20250730T180918Z
LAST-MODIFIED:20250730T180925Z
UID:3680-1753876800-1753891200@www.gameonsports.bar
SUMMARY:🍲 Wednesday Special Feature
DESCRIPTION:🍲 Wednesday Special Feature\n✔ Seafood Chowderwith Garlic Toast – $11.99 \n\n🥣 Soups of the Day\n✔ Borscht✔ Potato Bacon✔ Split Pea & Ham \n\n🍹 Drink Specials\n✔ Pints of Rickard’s Red – $7.00✔ Paralyzers – $6.25
URL:https://www.gameonsports.bar/event/%f0%9f%8d%b2-wednesday-special-feature/
LOCATION:Game On Sports Bar & Grill\, 3701 Dewolf Way\, Merritt\, BC\, V1K 1C4\, Canada
ATTACH;FMTTYPE=image/jpeg:https://www.gameonsports.bar/wp-content/uploads/2025/07/Wednesday-July-30-2025-1950-x-1950-px.jpg
ORGANIZER;CN="Jim%20Cooley":MAILTO:jim.cooley@live.ca
END:VEVENT
BEGIN:VEVENT
DTSTART;TZID=America/Vancouver:20250731T120000
DTEND;TZID=America/Vancouver:20250731T160000
DTSTAMP:20260425T201504
CREATED:20250731T181647Z
LAST-MODIFIED:20250731T181647Z
UID:3683-1753963200-1753977600@www.gameonsports.bar
SUMMARY:🍽 Thursday Special Feature
DESCRIPTION:Grilled Cheese with Bacon & TomatoServed with Soup\, Salad or Fries — $14.99 \n\n🥣 Soup of the Day: \n\n\nCream of Broccoli \n\n\nSplit Pea & Ham \n\n\nCooley Burger \n\n\nBeef Vegetable \n\n\n\n🍹 Drink Specials: \n\n\nPints of Flagship IPA — $7.00 \n\n\nVodka Cranberry — $6.25
URL:https://www.gameonsports.bar/event/%f0%9f%8d%bd-thursday-special-feature-2/
LOCATION:Game On Sports Bar & Grill\, 3701 Dewolf Way\, Merritt\, BC\, V1K 1C4\, Canada
ATTACH;FMTTYPE=image/jpeg:https://www.gameonsports.bar/wp-content/uploads/2025/07/Thursday-July-31-2025-1950-x-1950-px.jpg
ORGANIZER;CN="Jim%20Cooley":MAILTO:jim.cooley@live.ca
END:VEVENT
BEGIN:VEVENT
DTSTART;TZID=America/Vancouver:20250801T120000
DTEND;TZID=America/Vancouver:20250801T160000
DTSTAMP:20260425T201504
CREATED:20250801T185816Z
LAST-MODIFIED:20250801T185816Z
UID:3686-1754049600-1754064000@www.gameonsports.bar
SUMMARY:🍔 Friday Special Feature
DESCRIPTION:Bacon Ranch Swiss Chicken Burger \nServed with Soup\, Salad\, or Fries — $19.99 \n🥣 Soup of the Day: \n\n\nBroccoli & Cheddar \n\n\nCorned Beef & Cabbage \n\n\nSplit Pea & Ham \n\n\nPotato Bacon \n\n\nCream of Carrot \n\n\n🍹 Drink Specials: \n\n\nBottles of Coors Original — $5.75 \n\n\nLast Chance Ciders — $5.50(Available in Pear\, Apple\, Peach\, or Haskap)
URL:https://www.gameonsports.bar/event/%f0%9f%8d%94-friday-special-feature-3/
LOCATION:Game On Sports Bar & Grill\, 3701 Dewolf Way\, Merritt\, BC\, V1K 1C4\, Canada
ATTACH;FMTTYPE=image/jpeg:https://www.gameonsports.bar/wp-content/uploads/2025/08/Friday-August-1-2025-1950-x-1950-px.jpg
ORGANIZER;CN="Jim%20Cooley":MAILTO:jim.cooley@live.ca
END:VEVENT
BEGIN:VEVENT
DTSTART;TZID=America/Vancouver:20250802T120000
DTEND;TZID=America/Vancouver:20250802T160000
DTSTAMP:20260425T201504
CREATED:20250802T185115Z
LAST-MODIFIED:20250802T185115Z
UID:3690-1754136000-1754150400@www.gameonsports.bar
SUMMARY:🌯 Saturday Special Feature
DESCRIPTION:BLTC WrapServed with Soup\, Salad\, or Fries — $16.99 \n🥣 Soup of the Day:☑️ Beef Vegetable☑️ Potato Bacon☑️ Split Pea & Ham \n🍹 Drink Specials:☑️ Bottle of Corona — $6.25☑️ Mango Whiteclaw — $5.75
URL:https://www.gameonsports.bar/event/%f0%9f%8c%af-saturday-special-feature/
LOCATION:Game On Sports Bar & Grill\, 3701 Dewolf Way\, Merritt\, BC\, V1K 1C4\, Canada
ATTACH;FMTTYPE=image/jpeg:https://www.gameonsports.bar/wp-content/uploads/2025/08/Saturday-August-2-2025-1950-x-1950-px.jpg
ORGANIZER;CN="Jim%20Cooley":MAILTO:jim.cooley@live.ca
END:VEVENT
BEGIN:VEVENT
DTSTART;TZID=America/Vancouver:20250805T120000
DTEND;TZID=America/Vancouver:20250805T160000
DTSTAMP:20260425T201504
CREATED:20250805T185913Z
LAST-MODIFIED:20250805T185913Z
UID:3693-1754395200-1754409600@www.gameonsports.bar
SUMMARY:🔥 Tuesday Special Feature
DESCRIPTION:Crispy Cajun Chicken BurgerServed with Soup\, Salad\, or Fries — $17.49 \n🥣 Soup of the Day:☑️ Beef Veggie☑️ Cooley Burger☑️ Cream of Broccoli \n🍺 Drink Specials:☑️ Sleeman’s Honey Brown — $7.00☑️ Long Island Iced Tea — $6.25
URL:https://www.gameonsports.bar/event/%f0%9f%94%a5-tuesday-special-feature/
LOCATION:Game On Sports Bar & Grill\, 3701 Dewolf Way\, Merritt\, BC\, V1K 1C4\, Canada
ATTACH;FMTTYPE=image/jpeg:https://www.gameonsports.bar/wp-content/uploads/2025/08/Tuesday-August-5-2025-1950-x-1950-px.jpg
ORGANIZER;CN="Jim%20Cooley":MAILTO:jim.cooley@live.ca
END:VEVENT
BEGIN:VEVENT
DTSTART;TZID=America/Vancouver:20250806T120000
DTEND;TZID=America/Vancouver:20250806T160000
DTSTAMP:20260425T201504
CREATED:20250806T180650Z
LAST-MODIFIED:20250806T180655Z
UID:3696-1754481600-1754496000@www.gameonsports.bar
SUMMARY:🍽️ Wednesday Lunch Special
DESCRIPTION:Bowl of Seafood ChowderServed with Garlic Toast — $11.99 \n🥣 Soup of the Day:✅ Broccoli Cheddar✅ Borscht✅ Split Pea & Ham \n🍹 Drink Specials:✅ Pints of Rickard’s Red — $7.00✅ Paralyzer — $6.25
URL:https://www.gameonsports.bar/event/%f0%9f%8d%bd%ef%b8%8f-wednesday-lunch-special/
LOCATION:Game On Sports Bar & Grill\, 3701 Dewolf Way\, Merritt\, BC\, V1K 1C4\, Canada
ATTACH;FMTTYPE=image/jpeg:https://www.gameonsports.bar/wp-content/uploads/2025/08/Wednesday-August-6-2025-1950-x-1950-px.jpg
ORGANIZER;CN="Jim%20Cooley":MAILTO:jim.cooley@live.ca
END:VEVENT
BEGIN:VEVENT
DTSTART;TZID=America/Vancouver:20250808T120000
DTEND;TZID=America/Vancouver:20250808T160000
DTSTAMP:20260425T201504
CREATED:20250808T184224Z
LAST-MODIFIED:20250808T184224Z
UID:3699-1754654400-1754668800@www.gameonsports.bar
SUMMARY:🔥 Friday Special Feature
DESCRIPTION:Pulled Pork MeltServed with Soup\, Salad or Fries — $16.99 \n🥣 Soup of the Day:✅ Cream of Tomato✅ Cooley Burger✅ Cream of Broccoli \n🍹 Drink Specials:✅ Pints of Flagship IPA — $7.00✅ Long Island Iced Tea — $6.25
URL:https://www.gameonsports.bar/event/%f0%9f%94%a5-friday-special-feature-2/
LOCATION:Game On Sports Bar & Grill\, 3701 Dewolf Way\, Merritt\, BC\, V1K 1C4\, Canada
ATTACH;FMTTYPE=image/jpeg:https://www.gameonsports.bar/wp-content/uploads/2025/08/Friday-August-8-2025-1950-x-1950-px.jpg
ORGANIZER;CN="Jim%20Cooley":MAILTO:jim.cooley@live.ca
END:VEVENT
BEGIN:VEVENT
DTSTART;TZID=America/Vancouver:20250809T120000
DTEND;TZID=America/Vancouver:20250809T160000
DTSTAMP:20260425T201504
CREATED:20250809T184810Z
LAST-MODIFIED:20250809T184816Z
UID:3702-1754740800-1754755200@www.gameonsports.bar
SUMMARY:🔥 Saturday Special Feature
DESCRIPTION:BBQ Bacon Cheddar BurgerServed with Soup\, Salad or Fries — $19.99 \n🥣 Soup of the Day:✅ Mullagatawny✅ Beef Vegetable✅ Potato Bacon \n🍹 Drink Specials:✅ Pints of Rickards Red — $7.00✅ Bellini — $7.75
URL:https://www.gameonsports.bar/event/%f0%9f%94%a5-saturday-special-feature/
LOCATION:Game On Sports Bar & Grill\, 3701 Dewolf Way\, Merritt\, BC\, V1K 1C4\, Canada
ATTACH;FMTTYPE=image/jpeg:https://www.gameonsports.bar/wp-content/uploads/2025/08/Saturday-August-9-2025-1950-x-1950-px.jpg
ORGANIZER;CN="Jim%20Cooley":MAILTO:jim.cooley@live.ca
END:VEVENT
BEGIN:VEVENT
DTSTART;TZID=America/Vancouver:20250811T120000
DTEND;TZID=America/Vancouver:20250811T160000
DTSTAMP:20260425T201504
CREATED:20250811T200407Z
LAST-MODIFIED:20250811T200407Z
UID:3706-1754913600-1754928000@www.gameonsports.bar
SUMMARY:
DESCRIPTION:🔥 Special Feature \nBacon\, Swiss & Ranch Chicken BurgerServed with Soup\, Salad or Fries — $19.99 \n🥣 Soup of the Day:✅ Cream of Tomato✅ Thai Coconut Curry✅ Corned Beef & Cabbage \n🍹 Drink Specials:✅ Pints of Flagship IPA — $7.00✅ Caesars — $6.25
URL:https://www.gameonsports.bar/event/3706/
LOCATION:Game On Sports Bar & Grill\, 3701 Dewolf Way\, Merritt\, BC\, V1K 1C4\, Canada
ATTACH;FMTTYPE=image/jpeg:https://www.gameonsports.bar/wp-content/uploads/2025/08/Monday-August-11-2025-1950-x-1950-px.jpg
ORGANIZER;CN="Jim%20Cooley":MAILTO:jim.cooley@live.ca
END:VEVENT
BEGIN:VEVENT
DTSTART;TZID=America/Vancouver:20250812T120000
DTEND;TZID=America/Vancouver:20250812T160000
DTSTAMP:20260425T201504
CREATED:20250812T184811Z
LAST-MODIFIED:20250812T184814Z
UID:3709-1755000000-1755014400@www.gameonsports.bar
SUMMARY:🍔 Tuesday Special Feature
DESCRIPTION:Bacon Swiss BurgerServed with Fries\, Soup\, or Salad — $19.99 \n🥣 Soup of the Day:✅ Tomato Bacon✅ Beef Veggie✅ Cooley Burger Soup✅ Split Pea & Ham \n🍹 Drink Specials:✅ Pints of Sleeman’s — $7.00✅ Vodka Cranberries — $6.25
URL:https://www.gameonsports.bar/event/%f0%9f%8d%94-tuesday-special-feature-2/
LOCATION:Game On Sports Bar & Grill\, 3701 Dewolf Way\, Merritt\, BC\, V1K 1C4\, Canada
ATTACH;FMTTYPE=image/jpeg:https://www.gameonsports.bar/wp-content/uploads/2025/08/Tuesday-August-12-2025-1950-x-1950-px.jpg
ORGANIZER;CN="Jim%20Cooley":MAILTO:jim.cooley@live.ca
END:VEVENT
BEGIN:VEVENT
DTSTART;TZID=America/Vancouver:20250813T120000
DTEND;TZID=America/Vancouver:20250813T160000
DTSTAMP:20260425T201504
CREATED:20250813T180051Z
LAST-MODIFIED:20250813T180055Z
UID:3712-1755086400-1755100800@www.gameonsports.bar
SUMMARY:🥪 Wednesday Special Feature
DESCRIPTION:Mushroom Swiss Beef DipServed with Soup\, Salad\, or Fries — $19.99 \n🥣 Soup of the Day:✅ Mulligatawny✅ Beef Veg✅ Potato Bacon \n🍹 Drink Specials:✅ Pints of 1516 — $7.00✅ Paralyzers — $6.25
URL:https://www.gameonsports.bar/event/%f0%9f%a5%aa-wednesday-special-feature/
LOCATION:Game On Sports Bar & Grill\, 3701 Dewolf Way\, Merritt\, BC\, V1K 1C4\, Canada
ATTACH;FMTTYPE=image/jpeg:https://www.gameonsports.bar/wp-content/uploads/2025/08/Wednesday-August-13-2025-1950-x-1950-px.jpg
ORGANIZER;CN="Jim%20Cooley":MAILTO:jim.cooley@live.ca
END:VEVENT
BEGIN:VEVENT
DTSTART;TZID=America/Vancouver:20250814T120000
DTEND;TZID=America/Vancouver:20250814T160000
DTSTAMP:20260425T201504
CREATED:20250814T181350Z
LAST-MODIFIED:20250814T181350Z
UID:3715-1755172800-1755187200@www.gameonsports.bar
SUMMARY:🍔 Thursday Special Feature
DESCRIPTION:BBQ Cheddar BurgerServed with Soup\, Salad\, or Fries — $19.99 \n🥣 Soup of the Day:✅ Cabbage Roll✅ Borscht✅ Beef Vegetable✅ Tomato Bacon \n🍹 Drink Specials:✅ Pints of Rickard’s Red — $7.00✅ Vodka Cranberry — $6.25
URL:https://www.gameonsports.bar/event/%f0%9f%8d%94-thursday-special-feature-2/
LOCATION:Game On Sports Bar & Grill\, 3701 Dewolf Way\, Merritt\, BC\, V1K 1C4\, Canada
ATTACH;FMTTYPE=image/jpeg:https://www.gameonsports.bar/wp-content/uploads/2025/08/Thursday-August-14-2025-1950-x-1950-px.jpg
ORGANIZER;CN="Jim%20Cooley":MAILTO:jim.cooley@live.ca
END:VEVENT
BEGIN:VEVENT
DTSTART;TZID=America/Vancouver:20250820T120000
DTEND;TZID=America/Vancouver:20250820T160000
DTSTAMP:20260425T201504
CREATED:20250820T184605Z
LAST-MODIFIED:20250820T184607Z
UID:3719-1755691200-1755705600@www.gameonsports.bar
SUMMARY:🥪 Wednesday Special Feature
DESCRIPTION:Grilled Bacon\, Tomato & Cheese Sandwichserved with Soup\, Salad or Fries — $15.99 \n✨ Now served on sourdough bread! ✨ \n🥣 Soup of the Day:✅ Cream of Broccoli✅ Cream of Tomato✅ Beef Vegetable \n🍹 Drink Specials:✅ Pints of 378 Lager — $7.00✅ Vodka Cran — $6.25
URL:https://www.gameonsports.bar/event/%f0%9f%a5%aa-wednesday-special-feature-2/
LOCATION:Game On Sports Bar & Grill\, 3701 Dewolf Way\, Merritt\, BC\, V1K 1C4\, Canada
ATTACH;FMTTYPE=image/jpeg:https://www.gameonsports.bar/wp-content/uploads/2025/08/Wednesday-August-20-2025-1950-x-1950-px.jpg
ORGANIZER;CN="Jim%20Cooley":MAILTO:jim.cooley@live.ca
END:VEVENT
BEGIN:VEVENT
DTSTART;TZID=America/Vancouver:20250821T120000
DTEND;TZID=America/Vancouver:20250821T160000
DTSTAMP:20260425T201504
CREATED:20250821T182258Z
LAST-MODIFIED:20250821T182317Z
UID:3722-1755777600-1755792000@www.gameonsports.bar
SUMMARY:Thursday Special Feature
DESCRIPTION:Sourdough Patty Melt with MushroomsServed with your choice of Soup\, Salad\, or Fries — $19.99 \nSoup of the Day: \n\n\nCream of Tomato \n\n\nBeef Vegetable \n\n\nCream of Mushroom \n\n\nChicken Sausage Gumbo \n\n\nDrink Specials: \n\n\nPints of Sleeman Honey Brown — $5.75 \n\n\nPeach Whiteclaws — $5.75
URL:https://www.gameonsports.bar/event/thursday-special-feature-87/
LOCATION:Game On Sports Bar & Grill\, 3701 Dewolf Way\, Merritt\, BC\, V1K 1C4\, Canada
ATTACH;FMTTYPE=image/jpeg:https://www.gameonsports.bar/wp-content/uploads/2025/08/Thursday-August-21-2025-1950-x-1950-px.jpg
ORGANIZER;CN="Jim%20Cooley":MAILTO:jim.cooley@live.ca
END:VEVENT
BEGIN:VEVENT
DTSTART;TZID=America/Vancouver:20250822T120000
DTEND;TZID=America/Vancouver:20250822T160000
DTSTAMP:20260425T201504
CREATED:20250822T190326Z
LAST-MODIFIED:20250822T190330Z
UID:3725-1755864000-1755878400@www.gameonsports.bar
SUMMARY:🥗 Friday Special Feature
DESCRIPTION:BBQ Steak Skewer Caesar SaladServed with Garlic Toast — $21.99 \n\n🥣 Soup of the Day:✅ Cream of Mushroom✅ Corned Beef & Cabbage \n\n🍹 Drink Specials:✅ Pints of Flagship IPA — $7.00 ✅ Mango Bellini — $7.75
URL:https://www.gameonsports.bar/event/%f0%9f%a5%97-friday-special-feature/
LOCATION:Game On Sports Bar & Grill\, 3701 Dewolf Way\, Merritt\, BC\, V1K 1C4\, Canada
ATTACH;FMTTYPE=image/jpeg:https://www.gameonsports.bar/wp-content/uploads/2025/08/Friday-August-22-2025-1950-x-1950-px.jpg
ORGANIZER;CN="Jim%20Cooley":MAILTO:jim.cooley@live.ca
END:VEVENT
BEGIN:VEVENT
DTSTART;TZID=America/Vancouver:20250825T120000
DTEND;TZID=America/Vancouver:20250825T160000
DTSTAMP:20260425T201504
CREATED:20250825T185653Z
LAST-MODIFIED:20250825T200457Z
UID:3728-1756123200-1756137600@www.gameonsports.bar
SUMMARY:🍔 Monday Special Feature
DESCRIPTION:Bacon\, Swiss & Ranch Chicken BurgerServed with Soup\, Salad\, or Fries — $19.99 \n\n🥣 Soup of the Day\n✅ Potato Bacon✅ Split Pea & Ham✅ Beef Vegetable \n\n🍹 Drink Specials\n✅ Pints of 378 Lager — $7.25✅ Last Chance Haskap Berry Cider — $5.75
URL:https://www.gameonsports.bar/event/%f0%9f%8d%94-monday-special-feature-2/
LOCATION:Game On Sports Bar & Grill\, 3701 Dewolf Way\, Merritt\, BC\, V1K 1C4\, Canada
ATTACH;FMTTYPE=image/jpeg:https://www.gameonsports.bar/wp-content/uploads/2025/08/Monday-August-25-2025-1950-x-1950-px.jpg
ORGANIZER;CN="Jim%20Cooley":MAILTO:jim.cooley@live.ca
END:VEVENT
BEGIN:VEVENT
DTSTART;TZID=America/Vancouver:20250826T120000
DTEND;TZID=America/Vancouver:20250826T160000
DTSTAMP:20260425T201504
CREATED:20250826T184530Z
LAST-MODIFIED:20250826T184544Z
UID:3731-1756209600-1756224000@www.gameonsports.bar
SUMMARY:🍔 Tuesday Special Feature
DESCRIPTION:🍔 Tuesday Special Feature\nBBQ Bacon CheeseburgerServed with your choice of fries\, soup\, or salad — $19.99 \n\n🥣 Soup of the Day\n✅ Cream of Broccoli✅ Chicken Sausage Gumbo✅ Corned Beef & Cabbage✅ Cream of Tomato \n\n🍹 Drink Specials\n✅ Pints of 1516 — $7.00✅ Vodka Screwdriver — $6.25
URL:https://www.gameonsports.bar/event/%f0%9f%8d%94-tuesday-special-feature-3/
LOCATION:Game On Sports Bar & Grill\, 3701 Dewolf Way\, Merritt\, BC\, V1K 1C4\, Canada
ATTACH;FMTTYPE=image/jpeg:https://www.gameonsports.bar/wp-content/uploads/2025/08/Tuesday-August-26-2025-1950-x-1950-px.jpg
ORGANIZER;CN="Jim%20Cooley":MAILTO:jim.cooley@live.ca
END:VEVENT
BEGIN:VEVENT
DTSTART;TZID=America/Vancouver:20250827T120000
DTEND;TZID=America/Vancouver:20250827T160000
DTSTAMP:20260425T201504
CREATED:20250827T183519Z
LAST-MODIFIED:20250827T183602Z
UID:3734-1756296000-1756310400@www.gameonsports.bar
SUMMARY:🍔 Wednesday Special Feature
DESCRIPTION:Mushroom Swiss BurgerServed with Soup\, Salad\, or Fries — $19.99 \n\n🥣 Soup of the Day\n✅ Cream of Broccoli✅ Chicken Sausage Gumbo✅ Corned Beef & Cabbage \n\n🍹 Drink Specials\n✅ Pints of Rickard’s Red — $7.00✅ Paralyzers — $6.25
URL:https://www.gameonsports.bar/event/%f0%9f%8d%94-wednesday-special-feature-3/
LOCATION:Game On Sports Bar & Grill\, 3701 Dewolf Way\, Merritt\, BC\, V1K 1C4\, Canada
ATTACH;FMTTYPE=image/jpeg:https://www.gameonsports.bar/wp-content/uploads/2025/08/Wednesday-August-27-2025-1950-x-1950-px.jpg
ORGANIZER;CN="Jim%20Cooley":MAILTO:jim.cooley@live.ca
END:VEVENT
BEGIN:VEVENT
DTSTART;TZID=America/Vancouver:20250828T120000
DTEND;TZID=America/Vancouver:20250828T160000
DTSTAMP:20260425T201504
CREATED:20250828T183945Z
LAST-MODIFIED:20250828T183949Z
UID:3738-1756382400-1756396800@www.gameonsports.bar
SUMMARY:🥪 Thursday Special Feature
DESCRIPTION:Crispy Chicken Sourdough MeltServed with Soup\, Salad\, or Fries — $17.99 \n\n🥣 Soup of the Day\n✅ Cream of Mushroom✅ Potato Bacon✅ Ginger Beef with Rice \n\n🍹 Drink Specials\n✅ Pints of 1516 — $7.00✅ Vodka Cranberry — $6.25
URL:https://www.gameonsports.bar/event/%f0%9f%a5%aa-thursday-special-feature/
LOCATION:Game On Sports Bar & Grill\, 3701 Dewolf Way\, Merritt\, BC\, V1K 1C4\, Canada
ATTACH;FMTTYPE=image/jpeg:https://www.gameonsports.bar/wp-content/uploads/2025/08/Thursday-August-28-2025-1950-x-1950-px.jpg
ORGANIZER;CN="Jim%20Cooley":MAILTO:jim.cooley@live.ca
END:VEVENT
END:VCALENDAR