BEGIN:VCALENDAR
VERSION:2.0
PRODID:-//Game On Sports Bar &amp; Grill - ECPv6.0.8//NONSGML v1.0//EN
CALSCALE:GREGORIAN
METHOD:PUBLISH
X-ORIGINAL-URL:https://www.gameonsports.bar
X-WR-CALDESC:Events for Game On Sports Bar &amp; Grill
REFRESH-INTERVAL;VALUE=DURATION:PT1H
X-Robots-Tag:noindex
X-PUBLISHED-TTL:PT1H
BEGIN:VTIMEZONE
TZID:America/Vancouver
BEGIN:DAYLIGHT
TZOFFSETFROM:-0800
TZOFFSETTO:-0700
TZNAME:PDT
DTSTART:20230312T100000
END:DAYLIGHT
BEGIN:STANDARD
TZOFFSETFROM:-0700
TZOFFSETTO:-0800
TZNAME:PST
DTSTART:20231105T090000
END:STANDARD
END:VTIMEZONE
BEGIN:VEVENT
DTSTART;TZID=America/Vancouver:20230616T120000
DTEND;TZID=America/Vancouver:20230616T160000
DTSTAMP:20260422T052109
CREATED:20230616T195815Z
LAST-MODIFIED:20230616T195815Z
UID:1779-1686916800-1686931200@www.gameonsports.bar
SUMMARY:Friday Special Feature
DESCRIPTION:Western Burger with Soup\,\nSalad or Fries $18.99 \nSoup of the Day: \nCream of Broccoli\nCorned Beef $ Cabbage\nBeef Vegetable \nDrink Special: \nPints of 1516 $5.80\nVodka Cranberry $5.40
URL:https://www.gameonsports.bar/event/friday-special-feature-8/
LOCATION:Game On Sports Bar & Grill\, 3701 Dewolf Way\, Merritt\, BC\, V1K 1C4\, Canada
ATTACH;FMTTYPE=image/jpeg:https://www.gameonsports.bar/wp-content/uploads/2023/06/Friday-June-16-2023-Special-calendar.jpeg
ORGANIZER;CN="Jim%20Cooley":MAILTO:jim.cooley@live.ca
END:VEVENT
BEGIN:VEVENT
DTSTART;TZID=America/Vancouver:20230617T120000
DTEND;TZID=America/Vancouver:20230617T160000
DTSTAMP:20260422T052109
CREATED:20230617T185928Z
LAST-MODIFIED:20230617T185928Z
UID:1783-1687003200-1687017600@www.gameonsports.bar
SUMMARY:Saturday Special Feature
DESCRIPTION:Grilled Cheese with Tomato & Bacon with Soup\, Salad or Fries $12.99 \nSoup of the Day: \nCream of Tomato\nChicken Cordon Bleu \n  \nDrink Special: \nPints of Rickards Red $5.80\nParalizers $5.40
URL:https://www.gameonsports.bar/event/saturday-special-feature-10/
LOCATION:Game On Sports Bar & Grill\, 3701 Dewolf Way\, Merritt\, BC\, V1K 1C4\, Canada
ATTACH;FMTTYPE=image/jpeg:https://www.gameonsports.bar/wp-content/uploads/2023/06/Saturday-June-17-2023-Dinner-Special-calendar.jpeg
ORGANIZER;CN="Jim%20Cooley":MAILTO:jim.cooley@live.ca
END:VEVENT
BEGIN:VEVENT
DTSTART;TZID=America/Vancouver:20230618T053000
DTEND;TZID=America/Vancouver:20230618T200000
DTSTAMP:20260422T052109
CREATED:20230619T005004Z
LAST-MODIFIED:20230619T005004Z
UID:1789-1687066200-1687118400@www.gameonsports.bar
SUMMARY:Father’s Day Dinner Special
DESCRIPTION:Steak & Prawn Dinner with choice of Potato with Veggies\, Garlic Toast and choice of Brownie or Carrot Cake \n6oz $32.95\n10oz $37.95 \nSoup of the Day: \nCorned Beef & Cabbage\nCream of Mushroom \nDrink Special: \nPints of Canadian $5.80\nCaesars $5.40
URL:https://www.gameonsports.bar/event/fathers-day-dinner-special/
LOCATION:Game On Sports Bar & Grill\, 3701 Dewolf Way\, Merritt\, BC\, V1K 1C4\, Canada
ATTACH;FMTTYPE=image/jpeg:https://www.gameonsports.bar/wp-content/uploads/2023/06/Fathers-Day-Sunday-June-18-2023-Dinner-Special-calendar.jpeg
ORGANIZER;CN="Jim%20Cooley":MAILTO:jim.cooley@live.ca
END:VEVENT
BEGIN:VEVENT
DTSTART;TZID=America/Vancouver:20230618T120000
DTEND;TZID=America/Vancouver:20230618T160000
DTSTAMP:20260422T052109
CREATED:20230618T185746Z
LAST-MODIFIED:20230618T185746Z
UID:1786-1687089600-1687104000@www.gameonsports.bar
SUMMARY:Father’s Day Lunch Special
DESCRIPTION:BBQ Smoke Brisket on a Bun with soup\, salad or fries with your choice of a Brownie or Carrot Cake $ 18.99 \nSoup of the Day: \nCorned Beef & Cabbage\nBeef Vegetable\nCream of Broccoli \nDrink Special: \nCaesars $5.40\nPints of Canadian $5.80
URL:https://www.gameonsports.bar/event/fathers-day-lunch-special/
LOCATION:Game On Sports Bar & Grill\, 3701 Dewolf Way\, Merritt\, BC\, V1K 1C4\, Canada
ATTACH;FMTTYPE=image/jpeg:https://www.gameonsports.bar/wp-content/uploads/2023/06/Fathers-Day-Sunday-June-18-2023-Special-890-×-668-px.jpeg
ORGANIZER;CN="Jim%20Cooley":MAILTO:jim.cooley@live.ca
END:VEVENT
BEGIN:VEVENT
DTSTART;TZID=America/Vancouver:20230619T120000
DTEND;TZID=America/Vancouver:20230619T160000
DTSTAMP:20260422T052109
CREATED:20230619T182158Z
LAST-MODIFIED:20230619T182158Z
UID:1792-1687176000-1687190400@www.gameonsports.bar
SUMMARY:Monday Special Feature
DESCRIPTION:Bacon\, Swiss Ranch Chicken Burger with Soup\, Salad or Fries $16.99 \nSoup of the Day: \nBeef Vegetable\nCream of Carrot\nCream of mushroom \nDrink Special: \nPints of Coors Light $5.80
URL:https://www.gameonsports.bar/event/monday-special-feature-7/
LOCATION:Game On Sports Bar & Grill\, 3701 Dewolf Way\, Merritt\, BC\, V1K 1C4\, Canada
ATTACH;FMTTYPE=image/jpeg:https://www.gameonsports.bar/wp-content/uploads/2023/06/Monday-June-19-2023-Special-calendar.jpeg
ORGANIZER;CN="Jim%20Cooley":MAILTO:jim.cooley@live.ca
END:VEVENT
BEGIN:VEVENT
DTSTART;TZID=America/Vancouver:20230620T120000
DTEND;TZID=America/Vancouver:20230620T160000
DTSTAMP:20260422T052109
CREATED:20230620T191644Z
LAST-MODIFIED:20230620T191644Z
UID:1795-1687262400-1687276800@www.gameonsports.bar
SUMMARY:Tuesday Special Feature
DESCRIPTION:Mushroom Swiss Beef Burger with Soup\, Salad or Fries $16.99 \nSoup of the Day: \nChicken Cordon Bleu\nCream of Tomato\nPotato Bacon \nDrink Special: \nPints of O.K 1516 $5.80
URL:https://www.gameonsports.bar/event/tuesday-special-feature-7/
LOCATION:Game On Sports Bar & Grill\, 3701 Dewolf Way\, Merritt\, BC\, V1K 1C4\, Canada
ATTACH;FMTTYPE=image/jpeg:https://www.gameonsports.bar/wp-content/uploads/2023/06/Tuesday-June-20-2023-Special-calendar.jpeg
ORGANIZER;CN="Jim%20Cooley":MAILTO:jim.cooley@live.ca
END:VEVENT
BEGIN:VEVENT
DTSTART;TZID=America/Vancouver:20230621T120000
DTEND;TZID=America/Vancouver:20230621T160000
DTSTAMP:20260422T052109
CREATED:20230621T182129Z
LAST-MODIFIED:20230621T182129Z
UID:1798-1687348800-1687363200@www.gameonsports.bar
SUMMARY:Wednesday Special Feature
DESCRIPTION:Starter Garden Salad with a cup of\nSoup and Garlic Toast. $14.00 \nSoup of the Day: \nCream of mushroom\nBeef Barley\nCorned Beef & Cabbage \nDrink Special: \nPints of Flagship I.P.A $5.80
URL:https://www.gameonsports.bar/event/wednesday-special-feature-7/
LOCATION:Game On Sports Bar & Grill\, 3701 Dewolf Way\, Merritt\, BC\, V1K 1C4\, Canada
ATTACH;FMTTYPE=image/jpeg:https://www.gameonsports.bar/wp-content/uploads/2023/06/Wednesday-June-21-2023-Special-calendar.jpeg
ORGANIZER;CN="Jim%20Cooley":MAILTO:jim.cooley@live.ca
END:VEVENT
BEGIN:VEVENT
DTSTART;TZID=America/Vancouver:20230622T120000
DTEND;TZID=America/Vancouver:20230622T160000
DTSTAMP:20260422T052109
CREATED:20230622T191919Z
LAST-MODIFIED:20230622T191919Z
UID:1801-1687435200-1687449600@www.gameonsports.bar
SUMMARY:Thursday Special Feature
DESCRIPTION:Grilled Philly Wrap with Soup\,\nSalad or Fries $14.99 \nSoup of the Day: \nBorscht\nBroccoli & Cheddar\nCorned Beef & Cabbage \nDrink Special: \nSleeman Honey Brown $5.80 \n 
URL:https://www.gameonsports.bar/event/thursday-special-feature-10/
LOCATION:Game On Sports Bar & Grill\, 3701 Dewolf Way\, Merritt\, BC\, V1K 1C4\, Canada
ATTACH;FMTTYPE=image/jpeg:https://www.gameonsports.bar/wp-content/uploads/2023/06/Thursday-June-22-2023-Special-calendar.jpeg
ORGANIZER;CN="Jim%20Cooley":MAILTO:jim.cooley@live.ca
END:VEVENT
BEGIN:VEVENT
DTSTART;TZID=America/Vancouver:20230623T120000
DTEND;TZID=America/Vancouver:20230623T160000
DTSTAMP:20260422T052109
CREATED:20230623T184613Z
LAST-MODIFIED:20230623T184613Z
UID:1804-1687521600-1687536000@www.gameonsports.bar
SUMMARY:Friday Special Feature
DESCRIPTION:Parmesan Crusted Chicken Caesar\nSandwich with Soup\, Salad or Fries\n$14.99 \nSoup of the Day: \nPotato Bacon\nBroccoli & Cheddar\nBeef Barley \n  \nDrink Special: \nLong Island iced Tea $5.40
URL:https://www.gameonsports.bar/event/friday-special-feature-9/
LOCATION:Game On Sports Bar & Grill\, 3701 Dewolf Way\, Merritt\, BC\, V1K 1C4\, Canada
ATTACH;FMTTYPE=image/jpeg:https://www.gameonsports.bar/wp-content/uploads/2023/06/Friday-June-23-2023-Special-calendar.jpeg
ORGANIZER;CN="Jim%20Cooley":MAILTO:jim.cooley@live.ca
END:VEVENT
BEGIN:VEVENT
DTSTART;TZID=America/Vancouver:20230624T120000
DTEND;TZID=America/Vancouver:20230624T160000
DTSTAMP:20260422T052109
CREATED:20230624T181339Z
LAST-MODIFIED:20230624T181339Z
UID:1807-1687608000-1687622400@www.gameonsports.bar
SUMMARY:Saturday Special Feature
DESCRIPTION:BBQ Cheddar Chicken Burger wIth soup\, salad or fries $14.99 \nSoup of the Day: \nCream of Mushroom\nLemon Potato Bacon \nDrink Special: \nPints of Flagship IPA $5.80 \nStrongbow $5.00 \n 
URL:https://www.gameonsports.bar/event/saturday-special-feature-11/
LOCATION:BC
ATTACH;FMTTYPE=image/jpeg:https://www.gameonsports.bar/wp-content/uploads/2023/06/Saturday-June-24-2023-Special-calendar.jpeg
ORGANIZER;CN="Jim%20Cooley":MAILTO:jim.cooley@live.ca
END:VEVENT
BEGIN:VEVENT
DTSTART;TZID=America/Vancouver:20230626T120000
DTEND;TZID=America/Vancouver:20230626T160000
DTSTAMP:20260422T052109
CREATED:20230626T181610Z
LAST-MODIFIED:20230626T181610Z
UID:1811-1687780800-1687795200@www.gameonsports.bar
SUMMARY:Monday Special Feature
DESCRIPTION:Bacon Swiss Ranch Chicken Burger. Served with Soup\, Salad or Fries $6.99 \nSoup of the Day: \nCream of Carrot\nCajun Potato Bacon\nBeef Barley \nDrink Special: \nPints of Lions Gate Lager $5.80
URL:https://www.gameonsports.bar/event/monday-special-feature-8/
LOCATION:Game On Sports Bar & Grill\, 3701 Dewolf Way\, Merritt\, BC\, V1K 1C4\, Canada
ATTACH;FMTTYPE=image/jpeg:https://www.gameonsports.bar/wp-content/uploads/2023/06/Monday-June-26-2023-Special-calendar.jpeg
ORGANIZER;CN="Jim%20Cooley":MAILTO:jim.cooley@live.ca
END:VEVENT
BEGIN:VEVENT
DTSTART;TZID=America/Vancouver:20230627T120000
DTEND;TZID=America/Vancouver:20230627T160000
DTSTAMP:20260422T052109
CREATED:20230627T203213Z
LAST-MODIFIED:20230627T203213Z
UID:1814-1687867200-1687881600@www.gameonsports.bar
SUMMARY:Tuesday Special Feature
DESCRIPTION:Sundried Tomato Pesto\nClubhouse Panini\nwith your choice of side $16.99 \nSoup of the Day: \nCorned Beef & Cabbage\nCheddar Broccoli \nDrink Special: \nPints of Rickards Red $5.80
URL:https://www.gameonsports.bar/event/tuesday-special-feature-8/
LOCATION:Game On Sports Bar & Grill\, 3701 Dewolf Way\, Merritt\, BC\, V1K 1C4\, Canada
ATTACH;FMTTYPE=image/jpeg:https://www.gameonsports.bar/wp-content/uploads/2023/06/Tuesday-June-27-2023-Special-calendar.jpeg
ORGANIZER;CN="Jim%20Cooley":MAILTO:jim.cooley@live.ca
END:VEVENT
BEGIN:VEVENT
DTSTART;TZID=America/Vancouver:20230628T120000
DTEND;TZID=America/Vancouver:20230628T160000
DTSTAMP:20260422T052109
CREATED:20230628T182013Z
LAST-MODIFIED:20230628T182013Z
UID:1817-1687953600-1687968000@www.gameonsports.bar
SUMMARY:Wednesday Special Feature
DESCRIPTION:Grilled Bacon Tomato Cheese Sandwich with Soup\, Salad or Fries.\n$14.95 \nSoup of the Day: \nChicken Cordon Bleu\nCream of Tomato \nDrink Special: \nPints of Sleeman Honey Brown $5.80
URL:https://www.gameonsports.bar/event/wednesday-special-feature-8/
LOCATION:Game On Sports Bar & Grill\, 3701 Dewolf Way\, Merritt\, BC\, V1K 1C4\, Canada
ATTACH;FMTTYPE=image/jpeg:https://www.gameonsports.bar/wp-content/uploads/2023/06/Wednesday-June-28-2023-Special-calendar.jpeg
ORGANIZER;CN="Jim%20Cooley":MAILTO:jim.cooley@live.ca
END:VEVENT
BEGIN:VEVENT
DTSTART;TZID=America/Vancouver:20230629T120000
DTEND;TZID=America/Vancouver:20230629T160000
DTSTAMP:20260422T052109
CREATED:20230629T190311Z
LAST-MODIFIED:20230629T190311Z
UID:1820-1688040000-1688054400@www.gameonsports.bar
SUMMARY:Thursday Special Feature
DESCRIPTION:Western Burger with Soup\,\nSalad or Fries $18.99 \nSoup of the Day: \nLobster Bisque\nBeef Barley\nPotato Bacon \nDrink Special: \nBottles of Coors Original $5.15
URL:https://www.gameonsports.bar/event/thursday-special-feature-11/
LOCATION:Game On Sports Bar & Grill\, 3701 Dewolf Way\, Merritt\, BC\, V1K 1C4\, Canada
ATTACH;FMTTYPE=image/jpeg:https://www.gameonsports.bar/wp-content/uploads/2023/06/Thursday-June-29-2023-Special-calendar.jpeg
ORGANIZER;CN="Jim%20Cooley":MAILTO:jim.cooley@live.ca
END:VEVENT
BEGIN:VEVENT
DTSTART;TZID=America/Vancouver:20230701T120000
DTEND;TZID=America/Vancouver:20230701T160000
DTSTAMP:20260422T052109
CREATED:20230701T194043Z
LAST-MODIFIED:20230701T194043Z
UID:1823-1688212800-1688227200@www.gameonsports.bar
SUMMARY:Happy Canada Day
DESCRIPTION:Tuna & Cheddar Panini with\nSoup\, Salad or Fries $12.99 \nSoup of the Day: \nMulligatawny\nLemon Potato Bacon \nDrink Special: \nPints of 1516 $580\nCans of Blue Moon $5.15
URL:https://www.gameonsports.bar/event/happy-canada-day/
LOCATION:Game On Sports Bar & Grill\, 3701 Dewolf Way\, Merritt\, BC\, V1K 1C4\, Canada
ATTACH;FMTTYPE=image/jpeg:https://www.gameonsports.bar/wp-content/uploads/2023/07/Saturday-July-1-2023-Special-calendar.jpeg
ORGANIZER;CN="Jim%20Cooley":MAILTO:jim.cooley@live.ca
END:VEVENT
BEGIN:VEVENT
DTSTART;TZID=America/Vancouver:20230703T120000
DTEND;TZID=America/Vancouver:20230703T160000
DTSTAMP:20260422T052109
CREATED:20230703T185924Z
LAST-MODIFIED:20230703T185924Z
UID:1826-1688385600-1688400000@www.gameonsports.bar
SUMMARY:Monday Special Feature
DESCRIPTION:Chicken Club Wrap with Sundried Tomato Pesto with Soup\, Salad or Fries $14.99 \nSoup of the Day: \nLobster Bisque\nBeef Barley \nDrink Special: \nBottles of Canadian $5.15\nRaspberry Lemon Nudes $5.00
URL:https://www.gameonsports.bar/event/monday-special-feature-9/
LOCATION:Game On Sports Bar & Grill\, 3701 Dewolf Way\, Merritt\, BC\, V1K 1C4\, Canada
ATTACH;FMTTYPE=image/jpeg:https://www.gameonsports.bar/wp-content/uploads/2023/07/Monday-July-3-2023-Special-calendar.jpeg
ORGANIZER;CN="Jim%20Cooley":MAILTO:jim.cooley@live.ca
END:VEVENT
BEGIN:VEVENT
DTSTART;TZID=America/Vancouver:20230704T120000
DTEND;TZID=America/Vancouver:20230704T160000
DTSTAMP:20260422T052109
CREATED:20230704T180742Z
LAST-MODIFIED:20230704T180742Z
UID:1830-1688472000-1688486400@www.gameonsports.bar
SUMMARY:Tuesday Special Feature
DESCRIPTION:Mushroom & Swiss Burger\nServed with Soup on Salad on Fries $16.99 \nSoup of the Day: \nMullagatawny\nChicken Taco\nCream of Carrot \nDrink Special: \nBottles of Bud Light $5.15
URL:https://www.gameonsports.bar/event/tuesday-special-feature-9/
LOCATION:Game On Sports Bar & Grill\, 3701 Dewolf Way\, Merritt\, BC\, V1K 1C4\, Canada
ATTACH;FMTTYPE=image/jpeg:https://www.gameonsports.bar/wp-content/uploads/2023/07/Tuesday-July-4-2023-Special-calendar.jpeg
ORGANIZER;CN="Jim%20Cooley":MAILTO:jim.cooley@live.ca
END:VEVENT
BEGIN:VEVENT
DTSTART;TZID=America/Vancouver:20230705T120000
DTEND;TZID=America/Vancouver:20230705T160000
DTSTAMP:20260422T052109
CREATED:20230705T180138Z
LAST-MODIFIED:20230705T180138Z
UID:1833-1688558400-1688572800@www.gameonsports.bar
SUMMARY:Wednesday Lunch Specials
DESCRIPTION:Crispy Greek Chicken Panini\nServed with Soup\, Salad or Fries $14.99 \nBaked French Onion Soup with Garlic Toast $11.99 \nSoup of the Day: \nLobster Bisque\nMullagatawny \nDrink Special: \nPints of Rickards Red $5.80
URL:https://www.gameonsports.bar/event/wednesday-lunch-specials/
LOCATION:Game On Sports Bar & Grill\, 3701 Dewolf Way\, Merritt\, BC\, V1K 1C4\, Canada
ATTACH;FMTTYPE=image/jpeg:https://www.gameonsports.bar/wp-content/uploads/2023/07/Wednesday-July-5-2023-Special-Calendar.jpeg
ORGANIZER;CN="Jim%20Cooley":MAILTO:jim.cooley@live.ca
END:VEVENT
BEGIN:VEVENT
DTSTART;TZID=America/Vancouver:20230707T120000
DTEND;TZID=America/Vancouver:20230707T160000
DTSTAMP:20260422T052109
CREATED:20230707T190217Z
LAST-MODIFIED:20230707T190217Z
UID:1836-1688731200-1688745600@www.gameonsports.bar
SUMMARY:Friday Special Feature
DESCRIPTION:Parmesan Crusted Chicken\nCaesar Sandwich with Soup\, Salad or Fries $14.99 \nSoup of the Day: \nSplit Pea & Ham\nCream of Mushroom\nChicken Taco \nDrink Special: \nPints of Sleemen Honey Brown $5.80
URL:https://www.gameonsports.bar/event/friday-special-feature-10/
LOCATION:Game On Sports Bar & Grill\, 3701 Dewolf Way\, Merritt\, BC\, V1K 1C4\, Canada
ATTACH;FMTTYPE=image/jpeg:https://www.gameonsports.bar/wp-content/uploads/2023/07/Friday-July-7-2023-Special-calendar.jpeg
ORGANIZER;CN="Jim%20Cooley":MAILTO:jim.cooley@live.ca
END:VEVENT
BEGIN:VEVENT
DTSTART;TZID=America/Vancouver:20230708T120000
DTEND;TZID=America/Vancouver:20230708T160000
DTSTAMP:20260422T052109
CREATED:20230708T185907Z
LAST-MODIFIED:20230708T185907Z
UID:1839-1688817600-1688832000@www.gameonsports.bar
SUMMARY:Saturday Special Feature
DESCRIPTION:Mushroom Swiss Burger with\nSoup\, Salad and Fries $16.99 \nSoup of the Day: \nBeef Barley\nLobster Bisque\nMulligatawny \nDrink Special: \nBottles of Bud Light $5.15\nStrongbow $5.00
URL:https://www.gameonsports.bar/event/saturday-special-feature-12/
LOCATION:Game On Sports Bar & Grill\, 3701 Dewolf Way\, Merritt\, BC\, V1K 1C4\, Canada
ATTACH;FMTTYPE=image/jpeg:https://www.gameonsports.bar/wp-content/uploads/2023/07/Saturday-July-8-2023-Special-calendar.jpeg
ORGANIZER;CN="Jim%20Cooley":MAILTO:jim.cooley@live.ca
END:VEVENT
BEGIN:VEVENT
DTSTART;TZID=America/Vancouver:20230710T120000
DTEND;TZID=America/Vancouver:20230710T160000
DTSTAMP:20260422T052109
CREATED:20230710T184933Z
LAST-MODIFIED:20230710T184933Z
UID:1842-1688990400-1689004800@www.gameonsports.bar
SUMMARY:Monday Special Feature
DESCRIPTION:BBQ Swiss Burger with Crispy Jalapenos with Soup\, Salad or Fries\n$16.99 \nSoup of the Day: \nCream of Tomato\nBeef Barley\nMulligatawny \nDrink Special:  \nPints of Canadian $5.80\nMargaritas $6.00
URL:https://www.gameonsports.bar/event/monday-special-feature-10/
LOCATION:Game On Sports Bar & Grill\, 3701 Dewolf Way\, Merritt\, BC\, V1K 1C4\, Canada
ATTACH;FMTTYPE=image/jpeg:https://www.gameonsports.bar/wp-content/uploads/2023/07/Monday-July-10-2023-Special-calendar.jpeg
ORGANIZER;CN="Jim%20Cooley":MAILTO:jim.cooley@live.ca
END:VEVENT
BEGIN:VEVENT
DTSTART;TZID=America/Vancouver:20230711T120000
DTEND;TZID=America/Vancouver:20230711T160000
DTSTAMP:20260422T052109
CREATED:20230711T183045Z
LAST-MODIFIED:20230711T183045Z
UID:1845-1689076800-1689091200@www.gameonsports.bar
SUMMARY:Tuesday Special Feature
DESCRIPTION:Grilled Bacon Tomato\nCheese Sandwich\nwith Soup\, Salad or Fries. $14.99 \nSoup of the Day: \nCream of Mushroom\nLobster Bisque \nDrink Special: \nPints of Sleeman Honey Brown\n$5.80
URL:https://www.gameonsports.bar/event/tuesday-special-feature-10/
LOCATION:Game On Sports Bar & Grill\, 3701 Dewolf Way\, Merritt\, BC\, V1K 1C4\, Canada
ATTACH;FMTTYPE=image/jpeg:https://www.gameonsports.bar/wp-content/uploads/2023/07/Tuesday-July-11-2023-Special-Calendar.jpeg
ORGANIZER;CN="Jim%20Cooley":MAILTO:jim.cooley@live.ca
END:VEVENT
BEGIN:VEVENT
DTSTART;TZID=America/Vancouver:20230712T120000
DTEND;TZID=America/Vancouver:20230712T160000
DTSTAMP:20260422T052109
CREATED:20230712T182932Z
LAST-MODIFIED:20230712T182932Z
UID:1849-1689163200-1689177600@www.gameonsports.bar
SUMMARY:Wednesday Special Feature
DESCRIPTION:Chipotle Swiss Bacon Chicken Burger\, with Soup Salad or Fries $16.99 \nSoup of the Day: \nChicken Taco\nPhilly Beef \nDrink Special: \nBottles of Bud $5.15 \n 
URL:https://www.gameonsports.bar/event/wednesday-special-feature-9/
LOCATION:Game On Sports Bar & Grill\, 3701 Dewolf Way\, Merritt\, BC\, V1K 1C4\, Canada
ATTACH;FMTTYPE=image/jpeg:https://www.gameonsports.bar/wp-content/uploads/2023/07/Wednesday-July-12-2023-Special-calendar.jpeg
ORGANIZER;CN="Jim%20Cooley":MAILTO:jim.cooley@live.ca
END:VEVENT
BEGIN:VEVENT
DTSTART;TZID=America/Vancouver:20230713T120000
DTEND;TZID=America/Vancouver:20230713T160000
DTSTAMP:20260422T052109
CREATED:20230713T190604Z
LAST-MODIFIED:20230713T190604Z
UID:1852-1689249600-1689264000@www.gameonsports.bar
SUMMARY:Thursday Special Feature
DESCRIPTION:Patty Melt with Soup\, Salad or Fries $16.99 \nSoup of the Day: \nCream of Mushroom\nBeef Barley\nPhilly Beef \nDrink Special: \nPints of 1516 $5.80
URL:https://www.gameonsports.bar/event/thursday-special-feature-12/
LOCATION:Game On Sports Bar & Grill\, 3701 Dewolf Way\, Merritt\, BC\, V1K 1C4\, Canada
ATTACH;FMTTYPE=image/jpeg:https://www.gameonsports.bar/wp-content/uploads/2023/07/Thursday-July-13-2023-Special-calendar.jpeg
ORGANIZER;CN="Jim%20Cooley":MAILTO:jim.cooley@live.ca
END:VEVENT
BEGIN:VEVENT
DTSTART;TZID=America/Vancouver:20230714T120000
DTEND;TZID=America/Vancouver:20230714T160000
DTSTAMP:20260422T052109
CREATED:20230714T185209Z
LAST-MODIFIED:20230714T185209Z
UID:1855-1689336000-1689350400@www.gameonsports.bar
SUMMARY:Friday Special Feature
DESCRIPTION:Parmesan Crusted Chicken Caesar\nSandwich with Soup\, Salad or Fries\n$14.99 \nSoup of the Day: \nLobster Bisque\nSplit Pea & Ham\nBeef Barley \nDrink Special: \nPints of Rickards Red $5.80
URL:https://www.gameonsports.bar/event/friday-special-feature-11/
LOCATION:Game On Sports Bar & Grill\, 3701 Dewolf Way\, Merritt\, BC\, V1K 1C4\, Canada
ATTACH;FMTTYPE=image/jpeg:https://www.gameonsports.bar/wp-content/uploads/2023/07/Friday-July-14-2023-Special-calendar.jpeg
ORGANIZER;CN="Jim%20Cooley":MAILTO:jim.cooley@live.ca
END:VEVENT
BEGIN:VEVENT
DTSTART;TZID=America/Vancouver:20230715T120000
DTEND;TZID=America/Vancouver:20230715T160000
DTSTAMP:20260422T052109
CREATED:20230715T184923Z
LAST-MODIFIED:20230715T184923Z
UID:1858-1689422400-1689436800@www.gameonsports.bar
SUMMARY:Saturday Special Feature
DESCRIPTION:Baked French Onion\nwith Garlic Toast $10.95 \nSoup of the Day: \nMulligatawny\nCream of Mushroom \nDrink Special: \nBottles of Lucky $515
URL:https://www.gameonsports.bar/event/saturday-special-feature-13/
LOCATION:Game On Sports Bar & Grill\, 3701 Dewolf Way\, Merritt\, BC\, V1K 1C4\, Canada
ATTACH;FMTTYPE=image/jpeg:https://www.gameonsports.bar/wp-content/uploads/2023/07/Saturday-July-15-2023-Special-Calendar.jpeg
ORGANIZER;CN="Jim%20Cooley":MAILTO:jim.cooley@live.ca
END:VEVENT
BEGIN:VEVENT
DTSTART;TZID=America/Vancouver:20230717T120000
DTEND;TZID=America/Vancouver:20230717T160000
DTSTAMP:20260422T052109
CREATED:20230717T180740Z
LAST-MODIFIED:20230717T180740Z
UID:1861-1689595200-1689609600@www.gameonsports.bar
SUMMARY:Monday Special Feature
DESCRIPTION:Lobster Roll with Soup\, Salad or Fries $19.99 \nBaked French Onion Soup with\nGarlic Toast $10.99 \nSoup of the Day: \nMulligatawny\nCream of Chicken & Mushroom \nDrink Special: \nPints of Canadian $5.80
URL:https://www.gameonsports.bar/event/monday-special-feature-11/
LOCATION:Game On Sports Bar & Grill\, 3701 Dewolf Way\, Merritt\, BC\, V1K 1C4\, Canada
ATTACH;FMTTYPE=image/jpeg:https://www.gameonsports.bar/wp-content/uploads/2023/07/Monday-July-17-2023-Special-calendar.jpeg
ORGANIZER;CN="Jim%20Cooley":MAILTO:jim.cooley@live.ca
END:VEVENT
BEGIN:VEVENT
DTSTART;TZID=America/Vancouver:20230718T120000
DTEND;TZID=America/Vancouver:20230718T160000
DTSTAMP:20260422T052109
CREATED:20230718T180552Z
LAST-MODIFIED:20230718T180552Z
UID:1864-1689681600-1689696000@www.gameonsports.bar
SUMMARY:Tuesday Special Feature
DESCRIPTION:3pc Lobster Taco’s $19.95 \nSoup of the Day: \nSplit Pea & Ham\nBeef Barley \nDrink Special: \nGame On Ice Tea $5.40\nPints of Lions Gate Lager $5.80
URL:https://www.gameonsports.bar/event/tuesday-special-feature-11/
LOCATION:Game On Sports Bar & Grill\, 3701 Dewolf Way\, Merritt\, BC\, V1K 1C4\, Canada
ATTACH;FMTTYPE=image/jpeg:https://www.gameonsports.bar/wp-content/uploads/2023/07/Tuesday-July-18-2023-Special-Calendar.jpeg
ORGANIZER;CN="Jim%20Cooley":MAILTO:jim.cooley@live.ca
END:VEVENT
BEGIN:VEVENT
DTSTART;TZID=America/Vancouver:20230719T120000
DTEND;TZID=America/Vancouver:20230719T160000
DTSTAMP:20260422T052109
CREATED:20230719T191500Z
LAST-MODIFIED:20230719T191500Z
UID:1867-1689768000-1689782400@www.gameonsports.bar
SUMMARY:Wednesday Special Feature
DESCRIPTION:Western Burger\nwith Soup\, Salad or Fries. $18.99 \nSoup of the Day: \nCooley Burger\nCream of Mushroom & Chicken\nCorn Chowder \nDrink Special: \nPints of O.K 1516 $5.80\nBellini’s $5.40
URL:https://www.gameonsports.bar/event/wednesday-special-feature-10/
LOCATION:Game On Sports Bar & Grill\, 3701 Dewolf Way\, Merritt\, BC\, V1K 1C4\, Canada
ATTACH;FMTTYPE=image/jpeg:https://www.gameonsports.bar/wp-content/uploads/2023/07/Wednesday-July-19-2023-Special-calendar.jpeg
ORGANIZER;CN="Jim%20Cooley":MAILTO:jim.cooley@live.ca
END:VEVENT
BEGIN:VEVENT
DTSTART;TZID=America/Vancouver:20230720T120000
DTEND;TZID=America/Vancouver:20230720T160000
DTSTAMP:20260422T052109
CREATED:20230720T193840Z
LAST-MODIFIED:20230720T193840Z
UID:1871-1689854400-1689868800@www.gameonsports.bar
SUMMARY:Thursday Special Feature
DESCRIPTION:Mushroom & Swiss Burger with\nSoup\, Salad or Fries $16.99 \nSoup of the Day: \nChicken Taco\nCorn Chowder\nSplit Ham & Pea \nDrink Special: \nPints of Coors Light $5.80
URL:https://www.gameonsports.bar/event/thursday-special-feature-13/
LOCATION:Game On Sports Bar & Grill\, 3701 Dewolf Way\, Merritt\, BC\, V1K 1C4\, Canada
ATTACH;FMTTYPE=image/jpeg:https://www.gameonsports.bar/wp-content/uploads/2023/07/Thursday-July-20-2023-Special-calendar.jpeg
ORGANIZER;CN="Jim%20Cooley":MAILTO:jim.cooley@live.ca
END:VEVENT
END:VCALENDAR