BEGIN:VCALENDAR
VERSION:2.0
PRODID:-//Game On Sports Bar &amp; Grill - ECPv6.0.8//NONSGML v1.0//EN
CALSCALE:GREGORIAN
METHOD:PUBLISH
X-WR-CALNAME:Game On Sports Bar &amp; Grill
X-ORIGINAL-URL:https://www.gameonsports.bar
X-WR-CALDESC:Events for Game On Sports Bar &amp; Grill
REFRESH-INTERVAL;VALUE=DURATION:PT1H
X-Robots-Tag:noindex
X-PUBLISHED-TTL:PT1H
BEGIN:VTIMEZONE
TZID:America/Vancouver
BEGIN:DAYLIGHT
TZOFFSETFROM:-0800
TZOFFSETTO:-0700
TZNAME:PDT
DTSTART:20240310T100000
END:DAYLIGHT
BEGIN:STANDARD
TZOFFSETFROM:-0700
TZOFFSETTO:-0800
TZNAME:PST
DTSTART:20241103T090000
END:STANDARD
END:VTIMEZONE
BEGIN:VEVENT
DTSTART;TZID=America/Vancouver:20241014T170000
DTEND;TZID=America/Vancouver:20241014T220000
DTSTAMP:20260424T203228
CREATED:20241013T143805Z
LAST-MODIFIED:20241013T143844Z
UID:3024-1728925200-1728943200@www.gameonsports.bar
SUMMARY:THANKSGIVING DINNER
DESCRIPTION:JOIN US FOR A FULL TURKEY DINNER\, SERVED WITH HOME MADE STUFFING\, MASHED POTATO\, GRAVY\, DINNER VEG AND CRANBERRIES. $24.99\nADD PUMPKIN PIE FOR $2.99 \nReservations Recommended
URL:https://www.gameonsports.bar/event/thanksgiving-dinner-2/
LOCATION:Game On Sports Bar & Grill\, 3701 Dewolf Way\, Merritt\, BC\, V1K 1C4\, Canada
ATTACH;FMTTYPE=image/jpeg:https://www.gameonsports.bar/wp-content/uploads/2024/10/Happy-Thanksgiving-Dinner-2024-story-ig.jpg
ORGANIZER;CN="Jim%20Cooley":MAILTO:jim.cooley@live.ca
END:VEVENT
BEGIN:VEVENT
DTSTART;TZID=America/Vancouver:20241015T120000
DTEND;TZID=America/Vancouver:20241015T160000
DTSTAMP:20260424T203228
CREATED:20241015T193717Z
LAST-MODIFIED:20241015T193722Z
UID:3030-1728993600-1729008000@www.gameonsports.bar
SUMMARY:Tuesday Special Feature
DESCRIPTION:Mushroom Swiss Prime Rib Beef Dip\nwith soup\, salad or fries $18.99 \nSoup of the Day: \nCabbage Roll\nBorsht\nCream of Mushroom \nDrink Special: \nPints of Coors Light $6.50\nLong Island Iced Tea $6.00
URL:https://www.gameonsports.bar/event/tuesday-special-feature-70/
LOCATION:Game On Sports Bar & Grill\, 3701 Dewolf Way\, Merritt\, BC\, V1K 1C4\, Canada
ATTACH;FMTTYPE=image/jpeg:https://www.gameonsports.bar/wp-content/uploads/2024/10/Tuesday-October-15-2024-IG.jpg
ORGANIZER;CN="Jim%20Cooley":MAILTO:jim.cooley@live.ca
END:VEVENT
BEGIN:VEVENT
DTSTART;TZID=America/Vancouver:20241016T120000
DTEND;TZID=America/Vancouver:20241016T160000
DTSTAMP:20260424T203228
CREATED:20241016T185330Z
LAST-MODIFIED:20241016T185330Z
UID:3033-1729080000-1729094400@www.gameonsports.bar
SUMMARY:Wednesday Special Feature
DESCRIPTION:BBQ Brie Bacon Burger\nwith Soup\, Salad or Fries $18.99 \nPumpkin Pie $2.99 \nBeet Salad $16.75 \nGameOn Sliders $13.95 \nSoup of the Day: \nPepper Pot\nCajun Potato & Bacon \nDrink Special: \nPints of Lions Gate Lager $6.50\nMalibu Pineapple $6.25
URL:https://www.gameonsports.bar/event/wednesday-special-feature-67/
LOCATION:Game On Sports Bar & Grill\, 3701 Dewolf Way\, Merritt\, BC\, V1K 1C4\, Canada
ATTACH;FMTTYPE=image/jpeg:https://www.gameonsports.bar/wp-content/uploads/2024/10/Wednesday-October-16-2024-IG.jpg
ORGANIZER;CN="Jim%20Cooley":MAILTO:jim.cooley@live.ca
END:VEVENT
BEGIN:VEVENT
DTSTART;TZID=America/Vancouver:20241017T120000
DTEND;TZID=America/Vancouver:20241017T160000
DTSTAMP:20260424T203228
CREATED:20241017T190338Z
LAST-MODIFIED:20241017T190338Z
UID:3036-1729166400-1729180800@www.gameonsports.bar
SUMMARY:Thursday Special Feature
DESCRIPTION:Bowl of Stew with Garlic Toast $14.99\nGame On Sliders $13.95\nBeet Salad $15.49 \nSoup of the Day: \nCream of Mushroom\nChicken Sausage Gumbo \nDrink Special: \nPints of 1516 $6.50\nLong Island Icedtea $6.25
URL:https://www.gameonsports.bar/event/thursday-special-feature-74/
LOCATION:Game On Sports Bar & Grill\, 3701 Dewolf Way\, Merritt\, BC\, V1K 1C4\, Canada
ATTACH;FMTTYPE=image/jpeg:https://www.gameonsports.bar/wp-content/uploads/2024/10/Thursday-October-17-2024-IG.jpg
ORGANIZER;CN="Jim%20Cooley":MAILTO:jim.cooley@live.ca
END:VEVENT
BEGIN:VEVENT
DTSTART;TZID=America/Vancouver:20241018T120000
DTEND;TZID=America/Vancouver:20241018T160000
DTSTAMP:20260424T203228
CREATED:20241018T185717Z
LAST-MODIFIED:20241018T185717Z
UID:3039-1729252800-1729267200@www.gameonsports.bar
SUMMARY:Friday Special Feature
DESCRIPTION:Greek Chicken Burger\nwith soup\, salad or fries $18.99 \nGame On Sliders $13.95\nBeet Salad $15.95 \nSoup of the Day: \nTomato & Bacon\nSplit Pea & Ham\nBroccoli Cheddar \nDrink Special: \nPints of Lions Gate Lager $6.50\nParalyzers $6.25
URL:https://www.gameonsports.bar/event/friday-special-feature-74/
LOCATION:Game On Sports Bar & Grill\, 3701 Dewolf Way\, Merritt\, BC\, V1K 1C4\, Canada
ATTACH;FMTTYPE=image/jpeg:https://www.gameonsports.bar/wp-content/uploads/2024/10/Friday-October-18-2024-IG.jpg
ORGANIZER;CN="Jim%20Cooley":MAILTO:jim.cooley@live.ca
END:VEVENT
BEGIN:VEVENT
DTSTART;TZID=America/Vancouver:20241021T120000
DTEND;TZID=America/Vancouver:20241021T160000
DTSTAMP:20260424T203228
CREATED:20241021T184629Z
LAST-MODIFIED:20241021T185002Z
UID:3045-1729512000-1729526400@www.gameonsports.bar
SUMMARY:Monday Special Feature
DESCRIPTION:Beef Stew with Cheese Toast $14.99\n2 Stuffed Prime Rib Yorkies $17.99 \nSoup of the Day: \nTomato Bacon\nChicken Sausage Gumbo\nComed Beef & Cabbage \nDrink Special: \nPints of Flagship IPA $6.50\nParalyzers $6.25
URL:https://www.gameonsports.bar/event/monday-special-feature-62/
LOCATION:Game On Sports Bar & Grill\, 3701 Dewolf Way\, Merritt\, BC\, V1K 1C4\, Canada
CATEGORIES:Special Events
ATTACH;FMTTYPE=image/jpeg:https://www.gameonsports.bar/wp-content/uploads/2024/10/Monday-October-21-2024-ig.jpg
ORGANIZER;CN="Jim%20Cooley":MAILTO:jim.cooley@live.ca
END:VEVENT
BEGIN:VEVENT
DTSTART;TZID=America/Vancouver:20241022T120000
DTEND;TZID=America/Vancouver:20241022T160000
DTSTAMP:20260424T203228
CREATED:20241022T192243Z
LAST-MODIFIED:20241022T192243Z
UID:3048-1729598400-1729612800@www.gameonsports.bar
SUMMARY:Tuesday Special Feature
DESCRIPTION:Prime Rib Philly Beef Dip\nwith fries\, or soup\, or salad $19.99 \nSoup of the Day: \nCream of Carrot\nCream of Turkey and Rice \nDrink Special: \nPints of Sleemans $6.50\nB-52 Coffee $7.25
URL:https://www.gameonsports.bar/event/tuesday-special-feature-71/
LOCATION:Game On Sports Bar & Grill\, 3701 Dewolf Way\, Merritt\, BC\, V1K 1C4\, Canada
ATTACH;FMTTYPE=image/jpeg:https://www.gameonsports.bar/wp-content/uploads/2024/10/Tuesday-October-22-2024-IG.jpg
ORGANIZER;CN="Jim%20Cooley":MAILTO:jim.cooley@live.ca
END:VEVENT
BEGIN:VEVENT
DTSTART;TZID=America/Vancouver:20241023T120000
DTEND;TZID=America/Vancouver:20241023T160000
DTSTAMP:20260424T203228
CREATED:20241023T184708Z
LAST-MODIFIED:20241023T184739Z
UID:3051-1729684800-1729699200@www.gameonsports.bar
SUMMARY:Wednesday Special Feature
DESCRIPTION:Western Burger\nwith Soup\, Salad or Fries. $20.99 \nSoup of the Day: \nCream of Mushrom\nChicken Vegetable \nDrink Special: \nPints of Lions Gate Lager $6.50\nBaileys & Coffee $7.25
URL:https://www.gameonsports.bar/event/wednesday-special-feature-68/
LOCATION:Game On Sports Bar & Grill\, 3701 Dewolf Way\, Merritt\, BC\, V1K 1C4\, Canada
ATTACH;FMTTYPE=image/jpeg:https://www.gameonsports.bar/wp-content/uploads/2024/10/Wednesday-October-23-2024-ig.jpg
ORGANIZER;CN="Jim%20Cooley":MAILTO:jim.cooley@live.ca
END:VEVENT
BEGIN:VEVENT
DTSTART;TZID=America/Vancouver:20241024T120000
DTEND;TZID=America/Vancouver:20241024T160000
DTSTAMP:20260424T203228
CREATED:20241024T184501Z
LAST-MODIFIED:20241024T184553Z
UID:3054-1729771200-1729785600@www.gameonsports.bar
SUMMARY:Thursday Special Feature
DESCRIPTION:Whiskey Peach BBQ Bacon\nCheddar Burger with soup\, salad or\nFries $19.99 \nSoup of the Day: \nLemon Potato Bacon\nCream of Carrot\nCorned Beef & Cabbage \nDrink Special: \nPints of Coors Light $6.50\nParalyzers $6.25
URL:https://www.gameonsports.bar/event/thursday-special-feature-75/
LOCATION:Game On Sports Bar & Grill\, 3701 Dewolf Way\, Merritt\, BC\, V1K 1C4\, Canada
ATTACH;FMTTYPE=image/jpeg:https://www.gameonsports.bar/wp-content/uploads/2024/10/Thursday-October-24-2024-ig.jpg
ORGANIZER;CN="Jim%20Cooley":MAILTO:jim.cooley@live.ca
END:VEVENT
BEGIN:VEVENT
DTSTART;TZID=America/Vancouver:20241025T120000
DTEND;TZID=America/Vancouver:20241025T160000
DTSTAMP:20260424T203228
CREATED:20241025T183306Z
LAST-MODIFIED:20241025T183306Z
UID:3057-1729857600-1729872000@www.gameonsports.bar
SUMMARY:Friday Special Feature
DESCRIPTION:Beef Stew with a Yorkie $14.99 \nGame On Sliders $13.95 \nBeet Salad $1595 \nSoup of the Day: \nCream of Tomato\nBorscht \nDrink Special: \nPints of Flagship IPA $6.50\nVodka Cranberry $6.25
URL:https://www.gameonsports.bar/event/friday-special-feature-75/
LOCATION:Game On Sports Bar & Grill\, 3701 Dewolf Way\, Merritt\, BC\, V1K 1C4\, Canada
ATTACH;FMTTYPE=image/jpeg:https://www.gameonsports.bar/wp-content/uploads/2024/10/Friday-October-25-2024-ig.jpg
ORGANIZER;CN="Jim%20Cooley":MAILTO:jim.cooley@live.ca
END:VEVENT
BEGIN:VEVENT
DTSTART;TZID=America/Vancouver:20241026T120000
DTEND;TZID=America/Vancouver:20241026T160000
DTSTAMP:20260424T203228
CREATED:20241026T184753Z
LAST-MODIFIED:20241026T184755Z
UID:3060-1729944000-1729958400@www.gameonsports.bar
SUMMARY:
DESCRIPTION:Prime Rib Dip with Swiss & Onions\nwith Soup\, Salad or Fries $18.99 \nGame on Sliders $13.95 \nBeet Salad $1595 \nSoup of the Day: \nCabbage Roll\nCream of Turkey & Rice \n  \nDrink Special: \nPints of Lions Gate Lager $6.50\nParalyzers $6.25
URL:https://www.gameonsports.bar/event/3060/
LOCATION:Game On Sports Bar & Grill\, 3701 Dewolf Way\, Merritt\, BC\, V1K 1C4\, Canada
ATTACH;FMTTYPE=image/jpeg:https://www.gameonsports.bar/wp-content/uploads/2024/10/Saturday-October-26-2024-IG.jpg
ORGANIZER;CN="Jim%20Cooley":MAILTO:jim.cooley@live.ca
END:VEVENT
BEGIN:VEVENT
DTSTART;TZID=America/Vancouver:20241028T120000
DTEND;TZID=America/Vancouver:20241028T160000
DTSTAMP:20260424T203228
CREATED:20241028T185956Z
LAST-MODIFIED:20241028T190002Z
UID:3063-1730116800-1730131200@www.gameonsports.bar
SUMMARY:Monday Special Feature
DESCRIPTION:2 Steak & Mushroom Stuffed Yorkies $17.99 \nGame On Sliders $ 13.95 \nBeet Salad $15.95 \nSoup of the Day: \nCorned Beef & Cabbage\nCabbage Roll \nDrink Special: \nPints of Coors Light $6.50\nBaileys & Coffee $7.25
URL:https://www.gameonsports.bar/event/monday-special-feature-63/
LOCATION:Game On Sports Bar & Grill\, 3701 Dewolf Way\, Merritt\, BC\, V1K 1C4\, Canada
ATTACH;FMTTYPE=image/jpeg:https://www.gameonsports.bar/wp-content/uploads/2024/10/Monday-October-28-2024-IG.jpg
ORGANIZER;CN="Jim%20Cooley":MAILTO:jim.cooley@live.ca
END:VEVENT
BEGIN:VEVENT
DTSTART;TZID=America/Vancouver:20241029T120000
DTEND;TZID=America/Vancouver:20241029T160000
DTSTAMP:20260424T203228
CREATED:20241029T190051Z
LAST-MODIFIED:20241029T190113Z
UID:3067-1730203200-1730217600@www.gameonsports.bar
SUMMARY:Tuesday Special Feature
DESCRIPTION:House BBQ Bacon Brie Burger\nwith fries\, soup\, or salad $19.99 \nSoups of the Day: \nCorned Beef and Cabbage\nCream of Mushroom\nGreek Chicken Veggie & Rice \nDrink Special: \nPints of Sleeman’s Honey Brown $6.50
URL:https://www.gameonsports.bar/event/tuesday-special-feature-72/
LOCATION:Game On Sports Bar & Grill\, 3701 Dewolf Way\, Merritt\, BC\, V1K 1C4\, Canada
ATTACH;FMTTYPE=image/jpeg:https://www.gameonsports.bar/wp-content/uploads/2024/10/Tuesday-October-29-2024-IG.jpg
ORGANIZER;CN="Jim%20Cooley":MAILTO:jim.cooley@live.ca
END:VEVENT
BEGIN:VEVENT
DTSTART;TZID=America/Vancouver:20241030T120000
DTEND;TZID=America/Vancouver:20241030T160000
DTSTAMP:20260424T203228
CREATED:20241030T183917Z
LAST-MODIFIED:20241030T183917Z
UID:3070-1730289600-1730304000@www.gameonsports.bar
SUMMARY:Wednesday Special Feature
DESCRIPTION:Ham Brie Cheddar Panini\nwith Soup\, Salad or Fries. $15.99 \nSoup of the Day: \nTomato Bacon\nCooley Burger\nGreek Chicken & Rice \nDrink Special: \nPints of Ricards Red $6.50\nLong Island $6.25
URL:https://www.gameonsports.bar/event/wednesday-special-feature-69/
LOCATION:Game On Sports Bar & Grill\, 3701 Dewolf Way\, Merritt\, BC\, V1K 1C4\, Canada
ATTACH;FMTTYPE=image/jpeg:https://www.gameonsports.bar/wp-content/uploads/2024/10/Wednesday-October-30-2024-IG.jpg
ORGANIZER;CN="Jim%20Cooley":MAILTO:jim.cooley@live.ca
END:VEVENT
BEGIN:VEVENT
DTSTART;TZID=America/Vancouver:20241031T080000
DTEND;TZID=America/Vancouver:20241031T170000
DTSTAMP:20260424T203228
CREATED:20241031T191551Z
LAST-MODIFIED:20241031T191551Z
UID:3073-1730361600-1730394000@www.gameonsports.bar
SUMMARY:Thursday Special Feature
DESCRIPTION:Beef Stew with Garlic Toast $14.99\nCubano Panini with Soup\, Salad or\nFries $19.99 \nSoup of the Day: \nTomato Bacon\nChicken Sausage Gumbo\nLemon Potato Bacon \nDrink Special: \nPints of Lions Gate Lager $6.50\nLong Island IcedTea $6.25
URL:https://www.gameonsports.bar/event/thursday-special-feature-76/
LOCATION:Game On Sports Bar & Grill\, 3701 Dewolf Way\, Merritt\, BC\, V1K 1C4\, Canada
ATTACH;FMTTYPE=image/jpeg:https://www.gameonsports.bar/wp-content/uploads/2024/10/Thursday-October-31-2024-IG.jpg
ORGANIZER;CN="Jim%20Cooley":MAILTO:jim.cooley@live.ca
END:VEVENT
BEGIN:VEVENT
DTSTART;TZID=America/Vancouver:20241102T120000
DTEND;TZID=America/Vancouver:20241102T160000
DTSTAMP:20260424T203228
CREATED:20241102T180049Z
LAST-MODIFIED:20241102T180212Z
UID:3077-1730548800-1730563200@www.gameonsports.bar
SUMMARY:Saturday Special Feature
DESCRIPTION:10 oz Steak Sandwich\nwith Soup\, Salad or Fries $29.95 \nSoup of the Day: \nLemon Potato Bacon\nBeef Vegetable \nDrink Special: \nPints of Flagship IPA $6.50\nVodka Cranberry $6.25
URL:https://www.gameonsports.bar/event/saturday-special-feature-65/
LOCATION:Game On Sports Bar & Grill\, 3701 Dewolf Way\, Merritt\, BC\, V1K 1C4\, Canada
ATTACH;FMTTYPE=image/jpeg:https://www.gameonsports.bar/wp-content/uploads/2024/11/Saturday-November-2-2024-IG.jpg
ORGANIZER;CN="Jim%20Cooley":MAILTO:jim.cooley@live.ca
END:VEVENT
BEGIN:VEVENT
DTSTART;TZID=America/Vancouver:20241104T120000
DTEND;TZID=America/Vancouver:20241104T160000
DTSTAMP:20260424T203228
CREATED:20241104T191027Z
LAST-MODIFIED:20241104T191043Z
UID:3080-1730721600-1730736000@www.gameonsports.bar
SUMMARY:Monday Special Feature
DESCRIPTION:Beef Stew with Cheese Toast $15.99 \nWhiskey Peach Steak Skewer on\nCaesar Salad with Garlic Toast $21.99 \nSoup of the Day: \nBorscht\nCream of Broccoli\nTomato Bacon \nDrink Special: \nPints of Lions Gate Lager $6.50\nParalyzers $6.25
URL:https://www.gameonsports.bar/event/monday-special-feature-64/
LOCATION:Game On Sports Bar & Grill\, 3701 Dewolf Way\, Merritt\, BC\, V1K 1C4\, Canada
ATTACH;FMTTYPE=image/jpeg:https://www.gameonsports.bar/wp-content/uploads/2024/11/Monday-November-4-2024-IG.jpg
ORGANIZER;CN="Jim%20Cooley":MAILTO:jim.cooley@live.ca
END:VEVENT
BEGIN:VEVENT
DTSTART;TZID=America/Vancouver:20241105T120000
DTEND;TZID=America/Vancouver:20241105T160000
DTSTAMP:20260424T203228
CREATED:20241105T191312Z
LAST-MODIFIED:20241105T191312Z
UID:3083-1730808000-1730822400@www.gameonsports.bar
SUMMARY:Tuesday Special Feature
DESCRIPTION:Mushroom Swiss Prime Rib Beef Dip\nwith fries\, or soup or salad $18.99   \nSoup of the Day: \nGreek Chicken Veggie Rice\nLemon Potato Bacon \nDrink Special: \nPints of Rickard’s Red $6.50\nVodka Cranberry $6.25
URL:https://www.gameonsports.bar/event/tuesday-special-feature-73/
LOCATION:Game On Sports Bar & Grill\, 3701 Dewolf Way\, Merritt\, BC\, V1K 1C4\, Canada
ATTACH;FMTTYPE=image/jpeg:https://www.gameonsports.bar/wp-content/uploads/2024/11/Tuesday-November-5-2024-IG.jpg
ORGANIZER;CN="Jim%20Cooley":MAILTO:jim.cooley@live.ca
END:VEVENT
BEGIN:VEVENT
DTSTART;TZID=America/Vancouver:20241106T120000
DTEND;TZID=America/Vancouver:20241106T160000
DTSTAMP:20260424T203228
CREATED:20241106T194118Z
LAST-MODIFIED:20241106T194121Z
UID:3087-1730894400-1730908800@www.gameonsports.bar
SUMMARY:Wednesday Special Feature
DESCRIPTION:Whiskey Peach BBQ\, Bacon\, and Brie Burger $19.99 \nSoup of the Day: \nBorsht\nCream of Tomato\nCorned Beef & Cabbage \nDrink Special: \nPints of Sleemans Нопеy Brown $6.50
URL:https://www.gameonsports.bar/event/wednesday-special-feature-70/
LOCATION:Game On Sports Bar & Grill\, 3701 Dewolf Way\, Merritt\, BC\, V1K 1C4\, Canada
ATTACH;FMTTYPE=image/jpeg:https://www.gameonsports.bar/wp-content/uploads/2024/11/Wednesday-November-6-2024-ig.jpg
ORGANIZER;CN="Jim%20Cooley":MAILTO:jim.cooley@live.ca
END:VEVENT
BEGIN:VEVENT
DTSTART;TZID=America/Vancouver:20241107T120000
DTEND;TZID=America/Vancouver:20241107T160000
DTSTAMP:20260424T203228
CREATED:20241107T201437Z
LAST-MODIFIED:20241107T201441Z
UID:3090-1730980800-1730995200@www.gameonsports.bar
SUMMARY:Thursday Special Feature
DESCRIPTION:Hot Meatloaf with\nSoup\, Salad or Fries $18.99 \nSoup of the Day: \nPotato Bacon\nBeef Barley\nCream of Tomato \nDrink Special: \nPints of Rickards Red $6.50\nParalyzers $6.25
URL:https://www.gameonsports.bar/event/thursday-special-feature-77/
LOCATION:Game On Sports Bar & Grill\, 3701 Dewolf Way\, Merritt\, BC\, V1K 1C4\, Canada
ATTACH;FMTTYPE=image/jpeg:https://www.gameonsports.bar/wp-content/uploads/2024/11/Thursday-November-7-2024-ig.jpg
ORGANIZER;CN="Jim%20Cooley":MAILTO:jim.cooley@live.ca
END:VEVENT
BEGIN:VEVENT
DTSTART;TZID=America/Vancouver:20241108T120000
DTEND;TZID=America/Vancouver:20241108T160000
DTSTAMP:20260424T203228
CREATED:20241108T200342Z
LAST-MODIFIED:20241108T200342Z
UID:3093-1731067200-1731081600@www.gameonsports.bar
SUMMARY:Friday Special Feature
DESCRIPTION:Mushroom Swiss Burger\nwith Soup\, Salad or Fries $19.99 \nSoup of the Day: \nCorned Beef & Cabbage\nChicken Mushroom\nSplit Pea & Ham \nDrink Special: \nBottles of Bud Light $5.75\nLong Island Icedtea $6.25
URL:https://www.gameonsports.bar/event/friday-special-feature-76/
LOCATION:Game On Sports Bar & Grill\, 3701 Dewolf Way\, Merritt\, BC\, V1K 1C4\, Canada
ATTACH;FMTTYPE=image/jpeg:https://www.gameonsports.bar/wp-content/uploads/2024/11/Friday-November-8-2024-IG.jpg
ORGANIZER;CN="Jim%20Cooley":MAILTO:jim.cooley@live.ca
END:VEVENT
BEGIN:VEVENT
DTSTART;TZID=America/Vancouver:20241112T120000
DTEND;TZID=America/Vancouver:20241112T160000
DTSTAMP:20260424T203228
CREATED:20241112T191905Z
LAST-MODIFIED:20241112T192244Z
UID:3096-1731412800-1731427200@www.gameonsports.bar
SUMMARY:Tuesday Special Feature
DESCRIPTION:Prime Rib Philly Dip Wrap\nwith soup\, salad or fries $18.99 \nSoup of the Day: \nChicken Veggie\nBeef Barley\nCream of Broccoli \nDrink Special: \nPints of OK Springs 1516 $6.50\nParalyzers $6.25
URL:https://www.gameonsports.bar/event/tuesday-special-feature-74/
LOCATION:Game On Sports Bar & Grill\, 3701 Dewolf Way\, Merritt\, BC\, V1K 1C4\, Canada
ATTACH;FMTTYPE=image/jpeg:https://www.gameonsports.bar/wp-content/uploads/2024/11/Tuesday-November-12-2024-ig.jpg
ORGANIZER;CN="Jim%20Cooley":MAILTO:jim.cooley@live.ca
END:VEVENT
BEGIN:VEVENT
DTSTART;TZID=America/Vancouver:20241113T120000
DTEND;TZID=America/Vancouver:20241113T160000
DTSTAMP:20260424T203228
CREATED:20241113T200605Z
LAST-MODIFIED:20241113T200605Z
UID:3099-1731499200-1731513600@www.gameonsports.bar
SUMMARY:Wednesday Special Feature
DESCRIPTION:BBQ Bacon Brie Burger\nwith Soup\, Salad or Fries. $19.99 \nSoup of the Day: \nTomato Bacon\nBeef Barley\nPotato Bacon \nDrink Special: \nPints of Lions Gate Lager $6.50\nLong Island $6.25
URL:https://www.gameonsports.bar/event/wednesday-special-feature-71/
LOCATION:Game On Sports Bar & Grill\, 3701 Dewolf Way\, Merritt\, BC\, V1K 1C4\, Canada
ATTACH;FMTTYPE=image/jpeg:https://www.gameonsports.bar/wp-content/uploads/2024/11/Wednesday-November-13-2024-IG.jpg
ORGANIZER;CN="Jim%20Cooley":MAILTO:jim.cooley@live.ca
END:VEVENT
BEGIN:VEVENT
DTSTART;TZID=America/Vancouver:20241114T120000
DTEND;TZID=America/Vancouver:20241114T160000
DTSTAMP:20260424T203228
CREATED:20241114T193541Z
LAST-MODIFIED:20241114T193546Z
UID:3103-1731585600-1731600000@www.gameonsports.bar
SUMMARY:Thursday Special Feature
DESCRIPTION:Pulled Pork Sandwich\nwith Soup\, Salad or Fries $16.99 \nSoup of the Day: \nCream of Carrot\nCabbage Roll\nChicken & Mushroom \nDrink Special: \nPints of 1516 $6.50\nLong Istand Iced Tea $6.25
URL:https://www.gameonsports.bar/event/thursday-special-feature-78/
LOCATION:Game On Sports Bar & Grill\, 3701 Dewolf Way\, Merritt\, BC\, V1K 1C4\, Canada
ATTACH;FMTTYPE=image/jpeg:https://www.gameonsports.bar/wp-content/uploads/2024/11/Thursday-November-14-2024-ig.jpg
ORGANIZER;CN="Jim%20Cooley":MAILTO:jim.cooley@live.ca
END:VEVENT
BEGIN:VEVENT
DTSTART;TZID=America/Vancouver:20241115T120000
DTEND;TZID=America/Vancouver:20241115T160000
DTSTAMP:20260424T203228
CREATED:20241115T192325Z
LAST-MODIFIED:20241115T192325Z
UID:3106-1731672000-1731686400@www.gameonsports.bar
SUMMARY:Friday Special Feature
DESCRIPTION:Mushroom Swiss Patty Melt\nwith Soup\, Salad or Fries $19.99 \nSoup of the Day: \nPotato Bacon\nSplit Pea &Ham \nDrink Special: \nPints of Rickards Red $6.50\nVodka Cranberry $6.25
URL:https://www.gameonsports.bar/event/friday-special-feature-77/
LOCATION:Game On Sports Bar & Grill\, 3701 Dewolf Way\, Merritt\, BC\, V1K 1C4\, Canada
ATTACH;FMTTYPE=image/jpeg:https://www.gameonsports.bar/wp-content/uploads/2024/11/Friday-November-15-2024-ig.jpg
ORGANIZER;CN="Jim%20Cooley":MAILTO:jim.cooley@live.ca
END:VEVENT
BEGIN:VEVENT
DTSTART;TZID=America/Vancouver:20241120T120000
DTEND;TZID=America/Vancouver:20241120T160000
DTSTAMP:20260424T203228
CREATED:20241120T192542Z
LAST-MODIFIED:20241120T192549Z
UID:3109-1732104000-1732118400@www.gameonsports.bar
SUMMARY:Wednesday Special Feature
DESCRIPTION:Nashville Chicken Bacon Ranch\nSwiss Burger.\nServed with Soup\, Salad or Fries. $18.99 \nSoup of the Day: \nCream of Broccoli\nSplit Pea & Ham \nDrink Special: \nPints of 1516 $6.50\nParalyzers $6.25
URL:https://www.gameonsports.bar/event/wednesday-special-feature-72/
LOCATION:Game On Sports Bar & Grill\, 3701 Dewolf Way\, Merritt\, BC\, V1K 1C4\, Canada
ATTACH;FMTTYPE=image/jpeg:https://www.gameonsports.bar/wp-content/uploads/2024/11/November-20-2024-IG.jpg
ORGANIZER;CN="Jim%20Cooley":MAILTO:jim.cooley@live.ca
END:VEVENT
BEGIN:VEVENT
DTSTART;TZID=America/Vancouver:20241121T120000
DTEND;TZID=America/Vancouver:20241121T160000
DTSTAMP:20260424T203228
CREATED:20241121T193817Z
LAST-MODIFIED:20241121T193817Z
UID:3119-1732190400-1732204800@www.gameonsports.bar
SUMMARY:Thursday Special Feature
DESCRIPTION:Chili & Garlic Toast $13.99 \nSoup of the Day: \nCream of Tomato\nBeef Barley\nSplit Pea & Ham \nDrink Special: \nPints of Sleeman Honey Brown $6.50\nLong Island Icedtea $6.25 \n 
URL:https://www.gameonsports.bar/event/thursday-special-feature-79/
LOCATION:Game On Sports Bar & Grill\, 3701 Dewolf Way\, Merritt\, BC\, V1K 1C4\, Canada
ATTACH;FMTTYPE=image/jpeg:https://www.gameonsports.bar/wp-content/uploads/2024/11/Thursday-November-21-2024-IG.jpg
ORGANIZER;CN="Jim%20Cooley":MAILTO:jim.cooley@live.ca
END:VEVENT
BEGIN:VEVENT
DTSTART;TZID=America/Vancouver:20241122T120000
DTEND;TZID=America/Vancouver:20241122T160000
DTSTAMP:20260424T203228
CREATED:20241122T195850Z
LAST-MODIFIED:20241122T195850Z
UID:3123-1732276800-1732291200@www.gameonsports.bar
SUMMARY:Friday Special Feature
DESCRIPTION:Grilled Cheese & Ham\nwith Soup\, Salad or Fries $14.99 \nSoup of the Day: \nPotato Bacon\nCabbage Roll\nCream of Tomato \nDrink Special: \nPints of Lions Gate Lager $6.50\nVodka Cranberry $6.25
URL:https://www.gameonsports.bar/event/friday-special-feature-78/
LOCATION:Game On Sports Bar & Grill\, 3701 Dewolf Way\, Merritt\, BC\, V1K 1C4\, Canada
ATTACH;FMTTYPE=image/jpeg:https://www.gameonsports.bar/wp-content/uploads/2024/11/Friday-November-22-2024-IG.jpg
ORGANIZER;CN="Jim%20Cooley":MAILTO:jim.cooley@live.ca
END:VEVENT
BEGIN:VEVENT
DTSTART;TZID=America/Vancouver:20241123T120000
DTEND;TZID=America/Vancouver:20241123T160000
DTSTAMP:20260424T203228
CREATED:20241123T201226Z
LAST-MODIFIED:20241123T201230Z
UID:3126-1732363200-1732377600@www.gameonsports.bar
SUMMARY:Saturday Special Feature
DESCRIPTION:Bowl of Chili with Cheese Toast $14.99 \nSoup of the Day: \nCabbage Roll\nCream of Mushroom \nDrink Special: \nPints of Flagship IPA $6.50\nPolar Bear Warmer $7.00
URL:https://www.gameonsports.bar/event/saturday-special-feature-66/
LOCATION:Game On Sports Bar & Grill\, 3701 Dewolf Way\, Merritt\, BC\, V1K 1C4\, Canada
ATTACH;FMTTYPE=image/jpeg:https://www.gameonsports.bar/wp-content/uploads/2024/11/Saturday-November-23-2024-IG.jpg
ORGANIZER;CN="Jim%20Cooley":MAILTO:jim.cooley@live.ca
END:VEVENT
BEGIN:VEVENT
DTSTART;TZID=America/Vancouver:20241125T120000
DTEND;TZID=America/Vancouver:20241125T160000
DTSTAMP:20260424T203228
CREATED:20241125T194827Z
LAST-MODIFIED:20241125T194827Z
UID:3129-1732536000-1732550400@www.gameonsports.bar
SUMMARY:Monday Special Feature
DESCRIPTION:Mushroom Swiss Burger\nwith Soup\, Salad or Fries $19.99 \nSoup of the Day: \nTomato Bacon\nCabbage Roll\nBeef Barley \nDrink Special: \nBottles of Coors Original $5.75\nParalyzers $6.25
URL:https://www.gameonsports.bar/event/monday-special-feature-65/
LOCATION:Game On Sports Bar & Grill\, 3701 Dewolf Way\, Merritt\, BC\, V1K 1C4\, Canada
ATTACH;FMTTYPE=image/jpeg:https://www.gameonsports.bar/wp-content/uploads/2024/11/Monday-November-25-2024-IG.jpg
ORGANIZER;CN="Jim%20Cooley":MAILTO:jim.cooley@live.ca
END:VEVENT
END:VCALENDAR