BEGIN:VCALENDAR
VERSION:2.0
PRODID:-//Game On Sports Bar &amp; Grill - ECPv6.0.8//NONSGML v1.0//EN
CALSCALE:GREGORIAN
METHOD:PUBLISH
X-WR-CALNAME:Game On Sports Bar &amp; Grill
X-ORIGINAL-URL:https://www.gameonsports.bar
X-WR-CALDESC:Events for Game On Sports Bar &amp; Grill
REFRESH-INTERVAL;VALUE=DURATION:PT1H
X-Robots-Tag:noindex
X-PUBLISHED-TTL:PT1H
BEGIN:VTIMEZONE
TZID:America/Vancouver
BEGIN:DAYLIGHT
TZOFFSETFROM:-0800
TZOFFSETTO:-0700
TZNAME:PDT
DTSTART:20240310T100000
END:DAYLIGHT
BEGIN:STANDARD
TZOFFSETFROM:-0700
TZOFFSETTO:-0800
TZNAME:PST
DTSTART:20241103T090000
END:STANDARD
END:VTIMEZONE
BEGIN:VEVENT
DTSTART;TZID=America/Vancouver:20240919T120000
DTEND;TZID=America/Vancouver:20240919T160000
DTSTAMP:20260424T174327
CREATED:20240919T181625Z
LAST-MODIFIED:20240919T181625Z
UID:2967-1726747200-1726761600@www.gameonsports.bar
SUMMARY:Thursday Special Feature
DESCRIPTION:Patty Melt\nwith soup\, salad or fries $18.99 \nSoup of the Day: \nBeef Barley\nSplit Pea & Ham \nDrink Special: \nPints of Lions Gate Lager $6.50\nLong Island Icedtea $6.25
URL:https://www.gameonsports.bar/event/thursday-special-feature-70/
LOCATION:Game On Sports Bar & Grill\, 3701 Dewolf Way\, Merritt\, BC\, V1K 1C4\, Canada
ATTACH;FMTTYPE=image/jpeg:https://www.gameonsports.bar/wp-content/uploads/2024/09/Thursday-September-19-2024-IG.jpg
ORGANIZER;CN="Jim%20Cooley":MAILTO:jim.cooley@live.ca
END:VEVENT
BEGIN:VEVENT
DTSTART;TZID=America/Vancouver:20240920T120000
DTEND;TZID=America/Vancouver:20240920T160000
DTSTAMP:20260424T174327
CREATED:20240920T182253Z
LAST-MODIFIED:20240920T182253Z
UID:2970-1726833600-1726848000@www.gameonsports.bar
SUMMARY:Friday Special Feature
DESCRIPTION:Mushroom Swiss Beef Dip\nwith soup\, salad or fries $18.99 \nSoup of the Day: \nCorned Beef & Cabbage\nPotato Bacon Cheddar \nDrink Special: \nPints of Sleeman Honey Brown $6.50\nVodka Cranberry $6.25
URL:https://www.gameonsports.bar/event/friday-special-feature-71/
LOCATION:Game On Sports Bar & Grill\, 3701 Dewolf Way\, Merritt\, BC\, V1K 1C4\, Canada
ATTACH;FMTTYPE=image/jpeg:https://www.gameonsports.bar/wp-content/uploads/2024/09/Friday-September-20-2024-IG.jpg
ORGANIZER;CN="Jim%20Cooley":MAILTO:jim.cooley@live.ca
END:VEVENT
BEGIN:VEVENT
DTSTART;TZID=America/Vancouver:20240921T120000
DTEND;TZID=America/Vancouver:20240921T160000
DTSTAMP:20260424T174327
CREATED:20240921T185024Z
LAST-MODIFIED:20240921T185024Z
UID:2973-1726920000-1726934400@www.gameonsports.bar
SUMMARY:Saturday Special Feature
DESCRIPTION:Bacon &Swiss Chipotle Chicken Burger with soup\, salad or fries $19.99 \nSoup of the Day: \nCream of Mushroom\nBeef Vegetable \nDrink Special: \nPints of Lions Gate Lager $6.50\nParalyzers $6.25 \n 
URL:https://www.gameonsports.bar/event/saturday-special-feature-62/
LOCATION:Game On Sports Bar & Grill\, 3701 Dewolf Way\, Merritt\, BC\, V1K 1C4\, Canada
ATTACH;FMTTYPE=image/jpeg:https://www.gameonsports.bar/wp-content/uploads/2024/09/Saturday-September-21-2024-IG.jpg
ORGANIZER;CN="Jim%20Cooley":MAILTO:jim.cooley@live.ca
END:VEVENT
BEGIN:VEVENT
DTSTART;TZID=America/Vancouver:20240923T120000
DTEND;TZID=America/Vancouver:20240923T160000
DTSTAMP:20260424T174327
CREATED:20240923T182533Z
LAST-MODIFIED:20240923T204601Z
UID:2976-1727092800-1727107200@www.gameonsports.bar
SUMMARY:Monday Special Feature
DESCRIPTION:Chipotle\, Bacon Cheddar Chicken Panini with soup\, salad or fries $19.99 \nBaked French Onion with Garlic Toast\n$12.99 \nSoup of the Day: \nCream of Mushroom\nCream of Broccoli\nBeef Barley \nDrink Special: \nPints of Lions Gate Lager $6.50\nParalyzers $6.25
URL:https://www.gameonsports.bar/event/monday-special-feature-60/
LOCATION:Game On Sports Bar & Grill\, 3701 Dewolf Way\, Merritt\, BC\, V1K 1C4\, Canada
ATTACH;FMTTYPE=image/jpeg:https://www.gameonsports.bar/wp-content/uploads/2024/09/Monday-September-23-2024-IG.jpg
ORGANIZER;CN="Jim%20Cooley":MAILTO:jim.cooley@live.ca
END:VEVENT
BEGIN:VEVENT
DTSTART;TZID=America/Vancouver:20240924T120000
DTEND;TZID=America/Vancouver:20240924T160000
DTSTAMP:20260424T174327
CREATED:20240924T184254Z
LAST-MODIFIED:20240924T184254Z
UID:2979-1727179200-1727193600@www.gameonsports.bar
SUMMARY:Tuesday Special Feature
DESCRIPTION:BBQ Bacon Cheddar Burger\nwith fries\, soup\, salad $18.99 \nPork Bites\, your choice of dip $14.99 \nSoup of the Day: \nCream of Tomato\nPotato Bacon Cheddar \nDrink Special: \nLong Island Iced-Tea $6.25\nPints of 1516 $6.50
URL:https://www.gameonsports.bar/event/tuesday-special-feature-67/
LOCATION:Game On Sports Bar & Grill\, 3701 Dewolf Way\, Merritt\, BC\, V1K 1C4\, Canada
ATTACH;FMTTYPE=image/jpeg:https://www.gameonsports.bar/wp-content/uploads/2024/09/Tuesday-September-24-2024-IG.jpg
ORGANIZER;CN="Jim%20Cooley":MAILTO:jim.cooley@live.ca
END:VEVENT
BEGIN:VEVENT
DTSTART;TZID=America/Vancouver:20240925T120000
DTEND;TZID=America/Vancouver:20240925T160000
DTSTAMP:20260424T174327
CREATED:20240925T183041Z
LAST-MODIFIED:20240925T183050Z
UID:2982-1727265600-1727280000@www.gameonsports.bar
SUMMARY:Wednesday Special Feature
DESCRIPTION:Mushroom Swiss Prime Rib Dip\nwith soup\, salad or fries $18.99 \nSoup of the Day: \nPotato Bacon\nBeef Vegetable\nCream of Carrot \nDrink Special: \nLions Gate $6.50\nParalyzers $6.25
URL:https://www.gameonsports.bar/event/wednesday-special-feature-64/
LOCATION:Game On Sports Bar & Grill\, 3701 Dewolf Way\, Merritt\, BC\, V1K 1C4\, Canada
ATTACH;FMTTYPE=image/jpeg:https://www.gameonsports.bar/wp-content/uploads/2024/09/Wednesday-September-25-2024-IG.jpg
ORGANIZER;CN="Jim%20Cooley":MAILTO:jim.cooley@live.ca
END:VEVENT
BEGIN:VEVENT
DTSTART;TZID=America/Vancouver:20240926T120000
DTEND;TZID=America/Vancouver:20240926T160000
DTSTAMP:20260424T174327
CREATED:20240926T183239Z
LAST-MODIFIED:20240926T183239Z
UID:2986-1727352000-1727366400@www.gameonsports.bar
SUMMARY:Thursday Special Feature
DESCRIPTION:Grilled Philly Steak Wrap\nwith soup\, salad or fries $18.99 \nSoup of the Day: \nChicken Sausage Com Chowder\nCream of Mushroom\nCream of Carrot \nDrink Special: \nPints of 1516 $6.50\nLong Island Iced Tea $6.25
URL:https://www.gameonsports.bar/event/thursday-special-feature-71/
LOCATION:Game On Sports Bar & Grill\, 3701 Dewolf Way\, Merritt\, BC\, V1K 1C4\, Canada
ATTACH;FMTTYPE=image/jpeg:https://www.gameonsports.bar/wp-content/uploads/2024/09/Thursday-September-26-2024-IG.jpg
ORGANIZER;CN="Jim%20Cooley":MAILTO:jim.cooley@live.ca
END:VEVENT
BEGIN:VEVENT
DTSTART;TZID=America/Vancouver:20240927T120000
DTEND;TZID=America/Vancouver:20240927T160000
DTSTAMP:20260424T174327
CREATED:20240927T184115Z
LAST-MODIFIED:20240927T184115Z
UID:2989-1727438400-1727452800@www.gameonsports.bar
SUMMARY:Friday Special Feature
DESCRIPTION:Swiss\, Bacon Ranch Chicken Burger with soup\, salad or fries $19.99 \nSoup of the Day: \nCabbage Roll\nCream of Broccoli \nDrink Special: \nPints of Lions Gate Lager $6.50\nParalyzers $6.25
URL:https://www.gameonsports.bar/event/friday-special-feature-72/
LOCATION:Game On Sports Bar & Grill\, 3701 Dewolf Way\, Merritt\, BC\, V1K 1C4\, Canada
ATTACH;FMTTYPE=image/jpeg:https://www.gameonsports.bar/wp-content/uploads/2024/09/Friday-September-27-2024-IG.jpg
ORGANIZER;CN="Jim%20Cooley":MAILTO:jim.cooley@live.ca
END:VEVENT
BEGIN:VEVENT
DTSTART;TZID=America/Vancouver:20240928T120000
DTEND;TZID=America/Vancouver:20240928T160000
DTSTAMP:20260424T174327
CREATED:20240928T174839Z
LAST-MODIFIED:20240928T174839Z
UID:2992-1727524800-1727539200@www.gameonsports.bar
SUMMARY:Saturday Special Feature
DESCRIPTION:Mushroom Swiss Steak Dip\nwith Soup\, Salad or Fries $18.99 \nSoup of the Day: \nCream of Carrot\nChicken Sausage Gumbo \nDrink Special: \nPints of Flagship IPA $6.50\nGrowers Peach Cider $5.75
URL:https://www.gameonsports.bar/event/saturday-special-feature-63/
LOCATION:Game On Sports Bar & Grill\, 3701 Dewolf Way\, Merritt\, BC\, V1K 1C4\, Canada
ATTACH;FMTTYPE=image/jpeg:https://www.gameonsports.bar/wp-content/uploads/2024/09/Saturday-September-28-2024-IG.jpg
ORGANIZER;CN="Jim%20Cooley":MAILTO:jim.cooley@live.ca
END:VEVENT
BEGIN:VEVENT
DTSTART;TZID=America/Vancouver:20241001T120000
DTEND;TZID=America/Vancouver:20241001T160000
DTSTAMP:20260424T174327
CREATED:20241001T183514Z
LAST-MODIFIED:20241001T183754Z
UID:2995-1727784000-1727798400@www.gameonsports.bar
SUMMARY:Tuesday Special Feature
DESCRIPTION:BBQ Bacon Cheddar Burger\nwith fries\, soup or salad $18.99 \nSoup of the Day: \nCabbage Roll\nCream of Broccoli\nChicken Sausage Gumbo \nDrink Special: \nPints of Sleeman’s Honey Brown $6.50
URL:https://www.gameonsports.bar/event/tuesday-special-feature-68/
LOCATION:Game On Sports Bar & Grill\, 3701 Dewolf Way\, Merritt\, BC\, V1K 1C4\, Canada
ATTACH;FMTTYPE=image/jpeg:https://www.gameonsports.bar/wp-content/uploads/2024/10/Tuesday-October-1-2024-IG.jpg
ORGANIZER;CN="Jim%20Cooley":MAILTO:jim.cooley@live.ca
END:VEVENT
BEGIN:VEVENT
DTSTART;TZID=America/Vancouver:20241002T120000
DTEND;TZID=America/Vancouver:20241002T160000
DTSTAMP:20260424T174327
CREATED:20241002T194231Z
LAST-MODIFIED:20241002T194231Z
UID:2998-1727870400-1727884800@www.gameonsports.bar
SUMMARY:Wednesday Special Feature
DESCRIPTION:Chicken Bacon Ranch Swiss Burger with Soup\, Salad or Fries. $19.99 \nSoup of the Day: \nBeef Vegetable\nCajun Potato \nDrink Special: \nPints of 1516 $6.50\nLong Island Ice Tea $6.25
URL:https://www.gameonsports.bar/event/wednesday-special-feature-65/
LOCATION:Game On Sports Bar & Grill\, 3701 Dewolf Way\, Merritt\, BC\, V1K 1C4\, Canada
ATTACH;FMTTYPE=image/jpeg:https://www.gameonsports.bar/wp-content/uploads/2024/10/Wednesday-October-2-2024-IG.jpg
ORGANIZER;CN="Jim%20Cooley":MAILTO:jim.cooley@live.ca
END:VEVENT
BEGIN:VEVENT
DTSTART;TZID=America/Vancouver:20241003T120000
DTEND;TZID=America/Vancouver:20241003T160000
DTSTAMP:20260424T174327
CREATED:20241003T190502Z
LAST-MODIFIED:20241003T190502Z
UID:3001-1727956800-1727971200@www.gameonsports.bar
SUMMARY:Thursday Special Feature
DESCRIPTION:Pulled Pork Sliders $13.95 \nSoup of the Day: \nCabbage Roll\nCream of Broccoli \nDrink Special: \nPints of Lions Gate Lager $6.50\nVodka Cranberry $6.25
URL:https://www.gameonsports.bar/event/thursday-special-feature-72/
LOCATION:Game On Sports Bar & Grill\, 3701 Dewolf Way\, Merritt\, BC\, V1K 1C4\, Canada
ATTACH;FMTTYPE=image/jpeg:https://www.gameonsports.bar/wp-content/uploads/2024/10/Thursday-October-3-2024-IG.jpg
ORGANIZER;CN="Jim%20Cooley":MAILTO:jim.cooley@live.ca
END:VEVENT
BEGIN:VEVENT
DTSTART;TZID=America/Vancouver:20241004T120000
DTEND;TZID=America/Vancouver:20241004T160000
DTSTAMP:20260424T174327
CREATED:20241004T180654Z
LAST-MODIFIED:20241004T181008Z
UID:3005-1728043200-1728057600@www.gameonsports.bar
SUMMARY:Friday Special Feature
DESCRIPTION:Cubano Sandwich\nwith Soup\, Salad or Fries $17.99 \nSoup of the Day: \nSplit Pea & Ham\nCajun Potato Bacon\nBeef Vegetable \nDrink Special: \nPints of Flagship IPA $6.50\nParalyzers $6.25
URL:https://www.gameonsports.bar/event/friday-special-feature-73/
LOCATION:Game On Sports Bar & Grill\, 3701 Dewolf Way\, Merritt\, BC\, V1K 1C4\, Canada
ATTACH;FMTTYPE=image/jpeg:https://www.gameonsports.bar/wp-content/uploads/2024/10/Friday-October-4-2024-IG.jpg
ORGANIZER;CN="Jim%20Cooley":MAILTO:jim.cooley@live.ca
END:VEVENT
BEGIN:VEVENT
DTSTART;TZID=America/Vancouver:20241007T120000
DTEND;TZID=America/Vancouver:20241007T160000
DTSTAMP:20260424T174327
CREATED:20241007T180309Z
LAST-MODIFIED:20241007T180309Z
UID:3008-1728302400-1728316800@www.gameonsports.bar
SUMMARY:Monday Special Feature
DESCRIPTION:2 Stuffed Yorkies\nwith Prime Rib $17.99 \nSoup of the Day: \nCream of Carrot\nCabbage Roll\nCooley Burger \nDrink Special: \nPints of Sleeman Honey Brown $6.50\nLong Island Icedtea $6.25
URL:https://www.gameonsports.bar/event/monday-special-feature-61/
LOCATION:Game On Sports Bar & Grill\, 3701 Dewolf Way\, Merritt\, BC\, V1K 1C4\, Canada
ATTACH;FMTTYPE=image/jpeg:https://www.gameonsports.bar/wp-content/uploads/2024/10/Monday-October-7-2024-IG.jpg
ORGANIZER;CN="Jim%20Cooley":MAILTO:jim.cooley@live.ca
END:VEVENT
BEGIN:VEVENT
DTSTART;TZID=America/Vancouver:20241008T120000
DTEND;TZID=America/Vancouver:20241008T160000
DTSTAMP:20260424T174327
CREATED:20241008T185941Z
LAST-MODIFIED:20241008T185941Z
UID:3011-1728388800-1728403200@www.gameonsports.bar
SUMMARY:Tuesday Special Feature
DESCRIPTION:Panko Crusted Fried Mac and Cheese Balls topped with a Beer & Bacon Rose Sauce $15.49 \nSoup of the Day: \nCabbage Roll\nBorsht\nCream of Roasted Veggie \nDrink Special: \nPints of Rickards Red $6.50\nVodka Cranberry $6.25
URL:https://www.gameonsports.bar/event/tuesday-special-feature-69/
LOCATION:Game On Sports Bar & Grill\, 3701 Dewolf Way\, Merritt\, BC\, V1K 1C4\, Canada
ATTACH;FMTTYPE=image/jpeg:https://www.gameonsports.bar/wp-content/uploads/2024/10/Tuesday-October-8-2024-IG.jpg
ORGANIZER;CN="Jim%20Cooley":MAILTO:jim.cooley@live.ca
END:VEVENT
BEGIN:VEVENT
DTSTART;TZID=America/Vancouver:20241009T120000
DTEND;TZID=America/Vancouver:20241009T160000
DTSTAMP:20260424T174327
CREATED:20241009T191101Z
LAST-MODIFIED:20241009T191101Z
UID:3014-1728475200-1728489600@www.gameonsports.bar
SUMMARY:Wednesday Special Feature
DESCRIPTION:Pulled Pork Sandwich\nwith Soup\, Salad or Fries. $17.99 \nSoup of the Day: \nSplit Pea and Ham\nLemon Potato and Bacon \nDrink Special: \nPints of 1516 $6.50\nParalyzers $6.25
URL:https://www.gameonsports.bar/event/wednesday-special-feature-66/
LOCATION:Game On Sports Bar & Grill\, 3701 Dewolf Way\, Merritt\, BC\, V1K 1C4\, Canada
ATTACH;FMTTYPE=image/jpeg:https://www.gameonsports.bar/wp-content/uploads/2024/10/Wednesday-October-9-2024-IG.jpg
ORGANIZER;CN="Jim%20Cooley":MAILTO:jim.cooley@live.ca
END:VEVENT
BEGIN:VEVENT
DTSTART;TZID=America/Vancouver:20241010T120000
DTEND;TZID=America/Vancouver:20241010T160000
DTSTAMP:20260424T174327
CREATED:20241010T182249Z
LAST-MODIFIED:20241010T182249Z
UID:3017-1728561600-1728576000@www.gameonsports.bar
SUMMARY:Thursday Special Feature
DESCRIPTION:Mushroom Swiss Prime Rib Dip\nwith Soup\, Salad or Fries $18.99 \nHomemade Panko Mac & Cheese Balls with Beer & Bacon Rose Sauce $15.49 \nSoup of the Day: \nCooley Burger\nChicken Sausage Gumbo \nDrink Special: \nCans of Blue Moon $5.75\nParalyzers $6.25
URL:https://www.gameonsports.bar/event/thursday-special-feature-73/
LOCATION:Game On Sports Bar & Grill\, 3701 Dewolf Way\, Merritt\, BC\, V1K 1C4\, Canada
ATTACH;FMTTYPE=image/jpeg:https://www.gameonsports.bar/wp-content/uploads/2024/10/Thursday-October-10-2024-IG.jpg
ORGANIZER;CN="Jim%20Cooley":MAILTO:jim.cooley@live.ca
END:VEVENT
BEGIN:VEVENT
DTSTART;TZID=America/Vancouver:20241011T170000
DTEND;TZID=America/Vancouver:20241011T220000
DTSTAMP:20260424T174327
CREATED:20231012T223809Z
LAST-MODIFIED:20241011T185411Z
UID:2099-1728666000-1728684000@www.gameonsports.bar
SUMMARY:Friday's Prime Rib Dinner Special
DESCRIPTION:Two sizes to choose from: \n8 oz for $31.95 \n12 oz for $38.95  \nEVERY FRIDAY NIGHT!  \nIncludes: Choice of potato\, sauteed vegetables and yorkshire pudding!
URL:https://www.gameonsports.bar/event/fridays-prime-rib-dinner-special-4/
LOCATION:Game On Sports Bar & Grill\, 3701 Dewolf Way\, Merritt\, BC\, V1K 1C4\, Canada
ORGANIZER;CN="Jim%20Cooley":MAILTO:jim.cooley@live.ca
END:VEVENT
BEGIN:VEVENT
DTSTART;TZID=America/Vancouver:20241012T120000
DTEND;TZID=America/Vancouver:20241012T160000
DTSTAMP:20260424T174327
CREATED:20241012T190009Z
LAST-MODIFIED:20241012T190234Z
UID:3021-1728734400-1728748800@www.gameonsports.bar
SUMMARY:Saturday Special Feature
DESCRIPTION:Pulled Pork Poutine $15.49\nGame On Sliders $13.95\nBeet Salad $15.95 \nSoup of the Day: \nSplit Pea & Ham\nChicken Sausage Gumbo \nDrink Special: \nPints of Coors Light $6.50\nParalyzers $6.25
URL:https://www.gameonsports.bar/event/saturday-special-feature-64/
LOCATION:Game On Sports Bar & Grill\, 3701 Dewolf Way\, Merritt\, BC\, V1K 1C4\, Canada
ATTACH;FMTTYPE=image/jpeg:https://www.gameonsports.bar/wp-content/uploads/2024/10/Saturday-October-12-2024-IG.jpg
ORGANIZER;CN="Jim%20Cooley":MAILTO:jim.cooley@live.ca
END:VEVENT
BEGIN:VEVENT
DTSTART;TZID=America/Vancouver:20241014T120000
DTEND;TZID=America/Vancouver:20241014T160000
DTSTAMP:20260424T174327
CREATED:20241014T190326Z
LAST-MODIFIED:20241014T190326Z
UID:3027-1728907200-1728921600@www.gameonsports.bar
SUMMARY:Happy Thanksgiving!
DESCRIPTION:BBQ Steak Skewers Served on Caesar Salad with Garlic\nToast $19.99 \nGame On Sliders $13.95\n& Beet Salad $15.95 \nSoup of the Day: \nCabbage Roll\nSplit Pea & Ham\nBeef Vegetable \nDrink Special: \nPints of Lions Gate Lager $ 6.50\nParalyzers $6.25
URL:https://www.gameonsports.bar/event/happy-thanksgiving/
LOCATION:Game On Sports Bar & Grill\, 3701 Dewolf Way\, Merritt\, BC\, V1K 1C4\, Canada
ATTACH;FMTTYPE=image/jpeg:https://www.gameonsports.bar/wp-content/uploads/2024/10/Monday-October-14-2024-IG.jpg
ORGANIZER;CN="Jim%20Cooley":MAILTO:jim.cooley@live.ca
END:VEVENT
BEGIN:VEVENT
DTSTART;TZID=America/Vancouver:20241014T170000
DTEND;TZID=America/Vancouver:20241014T220000
DTSTAMP:20260424T174327
CREATED:20241013T143805Z
LAST-MODIFIED:20241013T143844Z
UID:3024-1728925200-1728943200@www.gameonsports.bar
SUMMARY:THANKSGIVING DINNER
DESCRIPTION:JOIN US FOR A FULL TURKEY DINNER\, SERVED WITH HOME MADE STUFFING\, MASHED POTATO\, GRAVY\, DINNER VEG AND CRANBERRIES. $24.99\nADD PUMPKIN PIE FOR $2.99 \nReservations Recommended
URL:https://www.gameonsports.bar/event/thanksgiving-dinner-2/
LOCATION:Game On Sports Bar & Grill\, 3701 Dewolf Way\, Merritt\, BC\, V1K 1C4\, Canada
ATTACH;FMTTYPE=image/jpeg:https://www.gameonsports.bar/wp-content/uploads/2024/10/Happy-Thanksgiving-Dinner-2024-story-ig.jpg
ORGANIZER;CN="Jim%20Cooley":MAILTO:jim.cooley@live.ca
END:VEVENT
BEGIN:VEVENT
DTSTART;TZID=America/Vancouver:20241015T120000
DTEND;TZID=America/Vancouver:20241015T160000
DTSTAMP:20260424T174327
CREATED:20241015T193717Z
LAST-MODIFIED:20241015T193722Z
UID:3030-1728993600-1729008000@www.gameonsports.bar
SUMMARY:Tuesday Special Feature
DESCRIPTION:Mushroom Swiss Prime Rib Beef Dip\nwith soup\, salad or fries $18.99 \nSoup of the Day: \nCabbage Roll\nBorsht\nCream of Mushroom \nDrink Special: \nPints of Coors Light $6.50\nLong Island Iced Tea $6.00
URL:https://www.gameonsports.bar/event/tuesday-special-feature-70/
LOCATION:Game On Sports Bar & Grill\, 3701 Dewolf Way\, Merritt\, BC\, V1K 1C4\, Canada
ATTACH;FMTTYPE=image/jpeg:https://www.gameonsports.bar/wp-content/uploads/2024/10/Tuesday-October-15-2024-IG.jpg
ORGANIZER;CN="Jim%20Cooley":MAILTO:jim.cooley@live.ca
END:VEVENT
BEGIN:VEVENT
DTSTART;TZID=America/Vancouver:20241016T120000
DTEND;TZID=America/Vancouver:20241016T160000
DTSTAMP:20260424T174327
CREATED:20241016T185330Z
LAST-MODIFIED:20241016T185330Z
UID:3033-1729080000-1729094400@www.gameonsports.bar
SUMMARY:Wednesday Special Feature
DESCRIPTION:BBQ Brie Bacon Burger\nwith Soup\, Salad or Fries $18.99 \nPumpkin Pie $2.99 \nBeet Salad $16.75 \nGameOn Sliders $13.95 \nSoup of the Day: \nPepper Pot\nCajun Potato & Bacon \nDrink Special: \nPints of Lions Gate Lager $6.50\nMalibu Pineapple $6.25
URL:https://www.gameonsports.bar/event/wednesday-special-feature-67/
LOCATION:Game On Sports Bar & Grill\, 3701 Dewolf Way\, Merritt\, BC\, V1K 1C4\, Canada
ATTACH;FMTTYPE=image/jpeg:https://www.gameonsports.bar/wp-content/uploads/2024/10/Wednesday-October-16-2024-IG.jpg
ORGANIZER;CN="Jim%20Cooley":MAILTO:jim.cooley@live.ca
END:VEVENT
BEGIN:VEVENT
DTSTART;TZID=America/Vancouver:20241017T120000
DTEND;TZID=America/Vancouver:20241017T160000
DTSTAMP:20260424T174327
CREATED:20241017T190338Z
LAST-MODIFIED:20241017T190338Z
UID:3036-1729166400-1729180800@www.gameonsports.bar
SUMMARY:Thursday Special Feature
DESCRIPTION:Bowl of Stew with Garlic Toast $14.99\nGame On Sliders $13.95\nBeet Salad $15.49 \nSoup of the Day: \nCream of Mushroom\nChicken Sausage Gumbo \nDrink Special: \nPints of 1516 $6.50\nLong Island Icedtea $6.25
URL:https://www.gameonsports.bar/event/thursday-special-feature-74/
LOCATION:Game On Sports Bar & Grill\, 3701 Dewolf Way\, Merritt\, BC\, V1K 1C4\, Canada
ATTACH;FMTTYPE=image/jpeg:https://www.gameonsports.bar/wp-content/uploads/2024/10/Thursday-October-17-2024-IG.jpg
ORGANIZER;CN="Jim%20Cooley":MAILTO:jim.cooley@live.ca
END:VEVENT
BEGIN:VEVENT
DTSTART;TZID=America/Vancouver:20241018T120000
DTEND;TZID=America/Vancouver:20241018T160000
DTSTAMP:20260424T174327
CREATED:20241018T185717Z
LAST-MODIFIED:20241018T185717Z
UID:3039-1729252800-1729267200@www.gameonsports.bar
SUMMARY:Friday Special Feature
DESCRIPTION:Greek Chicken Burger\nwith soup\, salad or fries $18.99 \nGame On Sliders $13.95\nBeet Salad $15.95 \nSoup of the Day: \nTomato & Bacon\nSplit Pea & Ham\nBroccoli Cheddar \nDrink Special: \nPints of Lions Gate Lager $6.50\nParalyzers $6.25
URL:https://www.gameonsports.bar/event/friday-special-feature-74/
LOCATION:Game On Sports Bar & Grill\, 3701 Dewolf Way\, Merritt\, BC\, V1K 1C4\, Canada
ATTACH;FMTTYPE=image/jpeg:https://www.gameonsports.bar/wp-content/uploads/2024/10/Friday-October-18-2024-IG.jpg
ORGANIZER;CN="Jim%20Cooley":MAILTO:jim.cooley@live.ca
END:VEVENT
BEGIN:VEVENT
DTSTART;TZID=America/Vancouver:20241021T120000
DTEND;TZID=America/Vancouver:20241021T160000
DTSTAMP:20260424T174327
CREATED:20241021T184629Z
LAST-MODIFIED:20241021T185002Z
UID:3045-1729512000-1729526400@www.gameonsports.bar
SUMMARY:Monday Special Feature
DESCRIPTION:Beef Stew with Cheese Toast $14.99\n2 Stuffed Prime Rib Yorkies $17.99 \nSoup of the Day: \nTomato Bacon\nChicken Sausage Gumbo\nComed Beef & Cabbage \nDrink Special: \nPints of Flagship IPA $6.50\nParalyzers $6.25
URL:https://www.gameonsports.bar/event/monday-special-feature-62/
LOCATION:Game On Sports Bar & Grill\, 3701 Dewolf Way\, Merritt\, BC\, V1K 1C4\, Canada
CATEGORIES:Special Events
ATTACH;FMTTYPE=image/jpeg:https://www.gameonsports.bar/wp-content/uploads/2024/10/Monday-October-21-2024-ig.jpg
ORGANIZER;CN="Jim%20Cooley":MAILTO:jim.cooley@live.ca
END:VEVENT
BEGIN:VEVENT
DTSTART;TZID=America/Vancouver:20241022T120000
DTEND;TZID=America/Vancouver:20241022T160000
DTSTAMP:20260424T174327
CREATED:20241022T192243Z
LAST-MODIFIED:20241022T192243Z
UID:3048-1729598400-1729612800@www.gameonsports.bar
SUMMARY:Tuesday Special Feature
DESCRIPTION:Prime Rib Philly Beef Dip\nwith fries\, or soup\, or salad $19.99 \nSoup of the Day: \nCream of Carrot\nCream of Turkey and Rice \nDrink Special: \nPints of Sleemans $6.50\nB-52 Coffee $7.25
URL:https://www.gameonsports.bar/event/tuesday-special-feature-71/
LOCATION:Game On Sports Bar & Grill\, 3701 Dewolf Way\, Merritt\, BC\, V1K 1C4\, Canada
ATTACH;FMTTYPE=image/jpeg:https://www.gameonsports.bar/wp-content/uploads/2024/10/Tuesday-October-22-2024-IG.jpg
ORGANIZER;CN="Jim%20Cooley":MAILTO:jim.cooley@live.ca
END:VEVENT
BEGIN:VEVENT
DTSTART;TZID=America/Vancouver:20241023T120000
DTEND;TZID=America/Vancouver:20241023T160000
DTSTAMP:20260424T174327
CREATED:20241023T184708Z
LAST-MODIFIED:20241023T184739Z
UID:3051-1729684800-1729699200@www.gameonsports.bar
SUMMARY:Wednesday Special Feature
DESCRIPTION:Western Burger\nwith Soup\, Salad or Fries. $20.99 \nSoup of the Day: \nCream of Mushrom\nChicken Vegetable \nDrink Special: \nPints of Lions Gate Lager $6.50\nBaileys & Coffee $7.25
URL:https://www.gameonsports.bar/event/wednesday-special-feature-68/
LOCATION:Game On Sports Bar & Grill\, 3701 Dewolf Way\, Merritt\, BC\, V1K 1C4\, Canada
ATTACH;FMTTYPE=image/jpeg:https://www.gameonsports.bar/wp-content/uploads/2024/10/Wednesday-October-23-2024-ig.jpg
ORGANIZER;CN="Jim%20Cooley":MAILTO:jim.cooley@live.ca
END:VEVENT
BEGIN:VEVENT
DTSTART;TZID=America/Vancouver:20241024T120000
DTEND;TZID=America/Vancouver:20241024T160000
DTSTAMP:20260424T174327
CREATED:20241024T184501Z
LAST-MODIFIED:20241024T184553Z
UID:3054-1729771200-1729785600@www.gameonsports.bar
SUMMARY:Thursday Special Feature
DESCRIPTION:Whiskey Peach BBQ Bacon\nCheddar Burger with soup\, salad or\nFries $19.99 \nSoup of the Day: \nLemon Potato Bacon\nCream of Carrot\nCorned Beef & Cabbage \nDrink Special: \nPints of Coors Light $6.50\nParalyzers $6.25
URL:https://www.gameonsports.bar/event/thursday-special-feature-75/
LOCATION:Game On Sports Bar & Grill\, 3701 Dewolf Way\, Merritt\, BC\, V1K 1C4\, Canada
ATTACH;FMTTYPE=image/jpeg:https://www.gameonsports.bar/wp-content/uploads/2024/10/Thursday-October-24-2024-ig.jpg
ORGANIZER;CN="Jim%20Cooley":MAILTO:jim.cooley@live.ca
END:VEVENT
BEGIN:VEVENT
DTSTART;TZID=America/Vancouver:20241025T120000
DTEND;TZID=America/Vancouver:20241025T160000
DTSTAMP:20260424T174327
CREATED:20241025T183306Z
LAST-MODIFIED:20241025T183306Z
UID:3057-1729857600-1729872000@www.gameonsports.bar
SUMMARY:Friday Special Feature
DESCRIPTION:Beef Stew with a Yorkie $14.99 \nGame On Sliders $13.95 \nBeet Salad $1595 \nSoup of the Day: \nCream of Tomato\nBorscht \nDrink Special: \nPints of Flagship IPA $6.50\nVodka Cranberry $6.25
URL:https://www.gameonsports.bar/event/friday-special-feature-75/
LOCATION:Game On Sports Bar & Grill\, 3701 Dewolf Way\, Merritt\, BC\, V1K 1C4\, Canada
ATTACH;FMTTYPE=image/jpeg:https://www.gameonsports.bar/wp-content/uploads/2024/10/Friday-October-25-2024-ig.jpg
ORGANIZER;CN="Jim%20Cooley":MAILTO:jim.cooley@live.ca
END:VEVENT
END:VCALENDAR