BEGIN:VCALENDAR
VERSION:2.0
PRODID:-//Game On Sports Bar &amp; Grill - ECPv6.0.8//NONSGML v1.0//EN
CALSCALE:GREGORIAN
METHOD:PUBLISH
X-WR-CALNAME:Game On Sports Bar &amp; Grill
X-ORIGINAL-URL:https://www.gameonsports.bar
X-WR-CALDESC:Events for Game On Sports Bar &amp; Grill
REFRESH-INTERVAL;VALUE=DURATION:PT1H
X-Robots-Tag:noindex
X-PUBLISHED-TTL:PT1H
BEGIN:VTIMEZONE
TZID:America/Vancouver
BEGIN:DAYLIGHT
TZOFFSETFROM:-0800
TZOFFSETTO:-0700
TZNAME:PDT
DTSTART:20230312T100000
END:DAYLIGHT
BEGIN:STANDARD
TZOFFSETFROM:-0700
TZOFFSETTO:-0800
TZNAME:PST
DTSTART:20231105T090000
END:STANDARD
END:VTIMEZONE
BEGIN:VEVENT
DTSTART;TZID=America/Vancouver:20230311T120000
DTEND;TZID=America/Vancouver:20230311T150000
DTSTAMP:20260420T013604
CREATED:20230311T192459Z
LAST-MODIFIED:20230311T192459Z
UID:1519-1678536000-1678546800@www.gameonsports.bar
SUMMARY:Saturday Lunch Special
DESCRIPTION:BLTC Panini with soup\, salad or fries $11.95 \nSoup of the Day: \nCajun Potato Bacon\nPhilly Beef \nDrink Special: \nMojito $5.00\nPints of Winterland Pale Ale $5.80
URL:https://www.gameonsports.bar/event/saturday-lunch-special-5/
LOCATION:Game On Sports Bar & Grill\, 3701 Dewolf Way\, Merritt\, BC\, V1K 1C4\, Canada
ATTACH;FMTTYPE=image/jpeg:https://www.gameonsports.bar/wp-content/uploads/2023/03/Saturday-March-11-2023-Lunch-Special-calendar.jpeg
ORGANIZER;CN="Jim%20Cooley":MAILTO:jim.cooley@live.ca
END:VEVENT
BEGIN:VEVENT
DTSTART;TZID=America/Vancouver:20230310T120000
DTEND;TZID=America/Vancouver:20230310T170000
DTSTAMP:20260420T013604
CREATED:20230310T194428Z
LAST-MODIFIED:20230310T195255Z
UID:1515-1678449600-1678467600@www.gameonsports.bar
SUMMARY:Friday Lunch Special
DESCRIPTION:Pulled Pork Sandwich with\nsoup\, salad or fries $14.99 \nSoup of the Day: \nMulligatawny\nBroccoli Cheddar\nBeef Barley \nDrink Special: \nLong Island Iced Tea $5.40
URL:https://www.gameonsports.bar/event/friday-lunch-special-5/
LOCATION:Game On Sports Bar & Grill\, 3701 Dewolf Way\, Merritt\, BC\, V1K 1C4\, Canada
ATTACH;FMTTYPE=image/jpeg:https://www.gameonsports.bar/wp-content/uploads/2023/03/Friday-March-10-2023-Lunch-Special-calendar.jpeg
ORGANIZER;CN="Jim%20Cooley":MAILTO:jim.cooley@live.ca
END:VEVENT
BEGIN:VEVENT
DTSTART;TZID=America/Vancouver:20230309T120000
DTEND;TZID=America/Vancouver:20230309T150000
DTSTAMP:20260420T013604
CREATED:20230309T190908Z
LAST-MODIFIED:20230309T190908Z
UID:1512-1678363200-1678374000@www.gameonsports.bar
SUMMARY:Thursday Lunch Special
DESCRIPTION:Whiskey Peach Western BBQ\nBurger with soup\, salad or fries $17.99 \nSoup of the Day: \nCabbage Roll Soup\nPhilly Beef\nLemon Potato & Bacon \nDrink Special: \nBottles of Bud Light $5.15
URL:https://www.gameonsports.bar/event/thursday-lunch-special-5/
LOCATION:Game On Sports Bar & Grill\, 3701 Dewolf Way\, Merritt\, BC\, V1K 1C4\, Canada
ATTACH;FMTTYPE=image/jpeg:https://www.gameonsports.bar/wp-content/uploads/2023/03/Thursday-March-9-2023-Lunch-Special-calendar.jpeg
ORGANIZER;CN="Jim%20Cooley":MAILTO:jim.cooley@live.ca
END:VEVENT
BEGIN:VEVENT
DTSTART;TZID=America/Vancouver:20230308T170000
DTEND;TZID=America/Vancouver:20230308T220000
DTSTAMP:20260420T013604
CREATED:20230309T010412Z
LAST-MODIFIED:20230309T010412Z
UID:1509-1678294800-1678312800@www.gameonsports.bar
SUMMARY:Wednesday Dinner Special
DESCRIPTION:Grilled Tex Mex Wrap\nwith soup\, salad or fries $17.00 \nSoup of the Day: \nMulligatawny\nLemon Potato and bacon \nDrink Special: \nPints of Sleeman Honey Brown $5.80
URL:https://www.gameonsports.bar/event/wednesday-dinner-special-3/
LOCATION:Game On Sports Bar & Grill\, 3701 Dewolf Way\, Merritt\, BC\, V1K 1C4\, Canada
ATTACH;FMTTYPE=image/jpeg:https://www.gameonsports.bar/wp-content/uploads/2023/03/Wednesday-March-8-2023-dinner-special-calendar.jpeg
ORGANIZER;CN="Jim%20Cooley":MAILTO:jim.cooley@live.ca
END:VEVENT
BEGIN:VEVENT
DTSTART;TZID=America/Vancouver:20230308T120000
DTEND;TZID=America/Vancouver:20230308T150000
DTSTAMP:20260420T013604
CREATED:20230308T200926Z
LAST-MODIFIED:20230308T200926Z
UID:1503-1678276800-1678287600@www.gameonsports.bar
SUMMARY:Wednesday Lunch Special
DESCRIPTION:Parmesan Crusted Chicken $15.50\nCaesar Sandwich w/a side. \nPrime Rib Swiss Dip $16.50\nw/a side \nSoup of the Day: \nMulligulawny or\nLemon Potato and bacon \nDrink Special: \nPints of Sleeman Honey Brown. $5.80
URL:https://www.gameonsports.bar/event/wednesday-lunch-special-4/
LOCATION:Game On Sports Bar & Grill\, 3701 Dewolf Way\, Merritt\, BC\, V1K 1C4\, Canada
ATTACH;FMTTYPE=image/jpeg:https://www.gameonsports.bar/wp-content/uploads/2023/03/Wednesday-March-8-2023-Lunch-Special-calendar.jpeg
ORGANIZER;CN="Jim%20Cooley":MAILTO:jim.cooley@live.ca
END:VEVENT
BEGIN:VEVENT
DTSTART;TZID=America/Vancouver:20230307T080000
DTEND;TZID=America/Vancouver:20230307T170000
DTSTAMP:20260420T013604
CREATED:20230307T202824Z
LAST-MODIFIED:20230307T202824Z
UID:1500-1678176000-1678208400@www.gameonsports.bar
SUMMARY:Tuesday Lunch Special
DESCRIPTION:Crispy Chicken Club Wrap with\nsoup\, salad or fries $14.99 \nSeafood Chowder with Garlic Toast\n$10.37 \nSoup of the Day: \nPhilly Beef\nBorscht \nPints of Winterland Pale Ole $5.80
URL:https://www.gameonsports.bar/event/tuesday-lunch-special-3/
LOCATION:Game On Sports Bar & Grill\, 3701 Dewolf Way\, Merritt\, BC\, V1K 1C4\, Canada
ATTACH;FMTTYPE=image/jpeg:https://www.gameonsports.bar/wp-content/uploads/2023/03/Tuesday-March-7-2023-Lunch-Special-calendar.jpeg
ORGANIZER;CN="Jim%20Cooley":MAILTO:jim.cooley@live.ca
END:VEVENT
BEGIN:VEVENT
DTSTART;TZID=America/Vancouver:20230306T170000
DTEND;TZID=America/Vancouver:20230306T220000
DTSTAMP:20260420T013604
CREATED:20230307T002734Z
LAST-MODIFIED:20230307T002734Z
UID:1497-1678122000-1678140000@www.gameonsports.bar
SUMMARY:Monday Dinner Special
DESCRIPTION:Spicy Bacon\, Jalapeno & Swiss Chicken Burger with choice of\nfries\, soup or salad $17.50 \nSoup of the Day: \nBeef Barley and\nCabbage Roll Soup \nDrink Special: \nPints of Sleeman Honey Brown\n$5.80
URL:https://www.gameonsports.bar/event/monday-dinner-special/
LOCATION:Game On Sports Bar & Grill\, 3701 Dewolf Way\, Merritt\, BC\, V1K 1C4\, Canada
ATTACH;FMTTYPE=image/jpeg:https://www.gameonsports.bar/wp-content/uploads/2023/03/Monday-March-6-2023-dinner-special-calendar.jpeg
ORGANIZER;CN="Jim%20Cooley":MAILTO:jim.cooley@live.ca
END:VEVENT
BEGIN:VEVENT
DTSTART;TZID=America/Vancouver:20230306T120000
DTEND;TZID=America/Vancouver:20230306T150000
DTSTAMP:20260420T013604
CREATED:20230306T194413Z
LAST-MODIFIED:20230307T001110Z
UID:1494-1678104000-1678114800@www.gameonsports.bar
SUMMARY:Monday Lunch Special
DESCRIPTION:BBQ Cheddar Beef Dip\nwith soup\, salad or fries $14.99 \nSoup of the Day: \nBeef Barley\nCabbage Roll Soup \nDrink Special: \nPints of\nSleeman Honey Brown $5.80
URL:https://www.gameonsports.bar/event/monday-lunch-special-4/
LOCATION:Game On Sports Bar & Grill\, 3701 Dewolf Way\, Merritt\, BC\, V1K 1C4\, Canada
ATTACH;FMTTYPE=image/jpeg:https://www.gameonsports.bar/wp-content/uploads/2023/03/Monday-March-6-2023-Lunch-Special-calendar.jpeg
ORGANIZER;CN="Jim%20Cooley":MAILTO:jim.cooley@live.ca
END:VEVENT
BEGIN:VEVENT
DTSTART;TZID=America/Vancouver:20230304T170000
DTEND;TZID=America/Vancouver:20230304T220000
DTSTAMP:20260420T013604
CREATED:20230305T011408Z
LAST-MODIFIED:20230305T011408Z
UID:1491-1677949200-1677967200@www.gameonsports.bar
SUMMARY:Saturday Dinner Special
DESCRIPTION:Slowcooked Park ‘n Beans $14.50\nw/ baked potato\, coleslaw + garlic toast \nChicken w/ Creamy Mushroom Gravy\nwith veg + choice of side $25.00 \nSoup of the Day: \nSplit Pea & Ham and\nBeef Vegetable \nDrink Special:\nSmirnoff Ice $5.00\nPints of Winterland Pole Ale $5.80
URL:https://www.gameonsports.bar/event/saturday-dinner-special-3/
LOCATION:Game On Sports Bar & Grill\, 3701 Dewolf Way\, Merritt\, BC\, V1K 1C4\, Canada
ATTACH;FMTTYPE=image/jpeg:https://www.gameonsports.bar/wp-content/uploads/2023/03/Saturday-March-4-2023-dinner-special-calendar.jpeg
ORGANIZER;CN="Jim%20Cooley":MAILTO:jim.cooley@live.ca
END:VEVENT
BEGIN:VEVENT
DTSTART;TZID=America/Vancouver:20230304T120000
DTEND;TZID=America/Vancouver:20230304T150000
DTSTAMP:20260420T013604
CREATED:20230304T203102Z
LAST-MODIFIED:20230304T203102Z
UID:1488-1677931200-1677942000@www.gameonsports.bar
SUMMARY:Saturday Lunch Special
DESCRIPTION:Pulled Pork Sandwich with soup\, Salad or fries $14.99 \nMushroom Swiss Chicken Burger\nwith soup\, salad or fries $16.99 \nSoup of the Day: \nSplit Pea & Ham or\nBeef Vegetable \nDrink Special: \nSmirnoff Ice $5.00\nPints Winterland Pale Ale $5.80
URL:https://www.gameonsports.bar/event/saturday-lunch-special-4/
LOCATION:Game On Sports Bar & Grill\, 3701 Dewolf Way\, Merritt\, BC\, V1K 1C4\, Canada
ATTACH;FMTTYPE=image/jpeg:https://www.gameonsports.bar/wp-content/uploads/2023/03/Saturday-March-4-2023-Lunch-Special-Calendar.jpeg
ORGANIZER;CN="Jim%20Cooley":MAILTO:jim.cooley@live.ca
END:VEVENT
BEGIN:VEVENT
DTSTART;TZID=America/Vancouver:20230303T110000
DTEND;TZID=America/Vancouver:20230303T150000
DTSTAMP:20260420T013604
CREATED:20230303T195028Z
LAST-MODIFIED:20230303T195028Z
UID:1481-1677841200-1677855600@www.gameonsports.bar
SUMMARY:Friday Lunch Special
DESCRIPTION:Chilli Cheeseburger with soup salad or fries $15.99 \nSoup of the Day: \nCream of Broccoli and\nPotato Bacon \nDrink Special: \nGame On Ice Tea $5.15
URL:https://www.gameonsports.bar/event/friday-lunch-special-4/
LOCATION:Game On Sports Bar & Grill\, 3701 Dewolf Way\, Merritt\, BC\, V1K 1C4\, Canada
ATTACH;FMTTYPE=image/jpeg:https://www.gameonsports.bar/wp-content/uploads/2023/03/Friday-March-3-2023-Lunch-Special-calendar.jpeg
ORGANIZER;CN="Jim%20Cooley":MAILTO:jim.cooley@live.ca
END:VEVENT
BEGIN:VEVENT
DTSTART;TZID=America/Vancouver:20230302T113000
DTEND;TZID=America/Vancouver:20230302T150000
DTSTAMP:20260420T013604
CREATED:20230302T195815Z
LAST-MODIFIED:20230302T195815Z
UID:1475-1677756600-1677769200@www.gameonsports.bar
SUMMARY:Thursday Lunch Special
DESCRIPTION:Baked Chili with Garlic Toast or\nTortilla Chips $12.99 \nCubana Sandwich with soup salad or fries $16.99 \nSoup of the Day: \nCorned Beef and Cabbage and\nPhilly Beef \nDrink Special: \nBottles of Coors Original $5.15
URL:https://www.gameonsports.bar/event/thursday-lunch-special-4/
LOCATION:Game On Sports Bar & Grill\, 3701 Dewolf Way\, Merritt\, BC\, V1K 1C4\, Canada
ATTACH;FMTTYPE=image/jpeg:https://www.gameonsports.bar/wp-content/uploads/2023/03/Thursday-March-2-2023-Lunch-Special-calendar.jpeg
ORGANIZER;CN="Jim%20Cooley":MAILTO:jim.cooley@live.ca
END:VEVENT
BEGIN:VEVENT
DTSTART;TZID=America/Vancouver:20230301T170000
DTEND;TZID=America/Vancouver:20230301T220000
DTSTAMP:20260420T013604
CREATED:20230302T001912Z
LAST-MODIFIED:20230302T001912Z
UID:1472-1677690000-1677708000@www.gameonsports.bar
SUMMARY:Wednesday Dinner Special
DESCRIPTION:Home Cooked Beans ’n Pork with\n1/2 Rack Ribs and Coleslaw $24.00 \nBaked Pork ’n Beans with\nGarlic Toast $10.95 \nSoup of the Day: \nSeafood Bisque or\nLemon Potato Bacon \nDrink Special: \nPints of Coors light $5.80
URL:https://www.gameonsports.bar/event/wednesday-dinner-special-2/
LOCATION:Game On Sports Bar & Grill\, 3701 Dewolf Way\, Merritt\, BC\, V1K 1C4\, Canada
ATTACH;FMTTYPE=image/jpeg:https://www.gameonsports.bar/wp-content/uploads/2023/03/Wednesday-March-1-2023-dinner-special-calendar.jpeg
ORGANIZER;CN="Jim%20Cooley":MAILTO:jim.cooley@live.ca
END:VEVENT
BEGIN:VEVENT
DTSTART;TZID=America/Vancouver:20230301T113000
DTEND;TZID=America/Vancouver:20230301T150000
DTSTAMP:20260420T013604
CREATED:20230301T203115Z
LAST-MODIFIED:20230301T203115Z
UID:1469-1677670200-1677682800@www.gameonsports.bar
SUMMARY:Wednesday Lunch Special
DESCRIPTION:4 Pc Pulled Pork Tacos $16.50 \nSoup of the Day: \nSeafood Bisque or\nLemon Potato Bacon \nDrink Special: \nPints of Coors light $5.80
URL:https://www.gameonsports.bar/event/wednesday-lunch-special-3/
LOCATION:Game On Sports Bar & Grill\, 3701 Dewolf Way\, Merritt\, BC\, V1K 1C4\, Canada
ATTACH;FMTTYPE=image/jpeg:https://www.gameonsports.bar/wp-content/uploads/2023/03/Wednesday-March-1-2023-Lunch-Special-calendar.jpeg
ORGANIZER;CN="Jim%20Cooley":MAILTO:jim.cooley@live.ca
END:VEVENT
BEGIN:VEVENT
DTSTART;TZID=America/Vancouver:20230228T170000
DTEND;TZID=America/Vancouver:20230228T220000
DTSTAMP:20260420T013604
CREATED:20230301T002443Z
LAST-MODIFIED:20230301T002443Z
UID:1466-1677603600-1677621600@www.gameonsports.bar
SUMMARY:Tuesday Dinner Special
DESCRIPTION:Tuesday Dinner Special \nSpicy Bacon\, Mushroom Swiss Burger with soup\, salad or fries\n$19.99 \nBaked French Onion Soup with garlic toast $10.95 \nSoup of the Day: \nCorned Beef and Cabbage and\nSplit Pea and Ham \nDrink Special: \nPints of Winterland Pale Ale $5.80
URL:https://www.gameonsports.bar/event/tuesday-dinner-special-2/
LOCATION:Game On Sports Bar & Grill\, 3701 Dewolf Way\, Merritt\, BC\, V1K 1C4\, Canada
ATTACH;FMTTYPE=image/jpeg:https://www.gameonsports.bar/wp-content/uploads/2023/02/Tuesday-Feb-28-2023-dinner-special-calendar.jpeg
ORGANIZER;CN="Jim%20Cooley":MAILTO:jim.cooley@live.ca
END:VEVENT
BEGIN:VEVENT
DTSTART;TZID=America/Vancouver:20230228T113000
DTEND;TZID=America/Vancouver:20230228T150000
DTSTAMP:20260420T013604
CREATED:20230228T192759Z
LAST-MODIFIED:20230228T192759Z
UID:1463-1677583800-1677596400@www.gameonsports.bar
SUMMARY:Tuesday Lunch Special
DESCRIPTION:Tuesday Lunch Special \nBaked French Onion with Garlic Toast $10.95 \nSoup of the Day: \nCorned Beef and Cabbage and\nSplit Pea and Ham \nDrink Special: \nPints of Winterland Pale Ale\n$5.80
URL:https://www.gameonsports.bar/event/tuesday-lunch-special-2/
LOCATION:Game On Sports Bar & Grill\, 3701 Dewolf Way\, Merritt\, BC\, V1K 1C4\, Canada
ATTACH;FMTTYPE=image/jpeg:https://www.gameonsports.bar/wp-content/uploads/2023/02/Tuesday-Feb-28-2023-Lunch-Special-calendar.jpeg
ORGANIZER;CN="Jim%20Cooley":MAILTO:jim.cooley@live.ca
END:VEVENT
BEGIN:VEVENT
DTSTART;TZID=America/Vancouver:20230227T110000
DTEND;TZID=America/Vancouver:20230227T150000
DTSTAMP:20260420T013604
CREATED:20230227T194918Z
LAST-MODIFIED:20230227T194918Z
UID:1460-1677495600-1677510000@www.gameonsports.bar
SUMMARY:Monday Lunch Special
DESCRIPTION:Monday Lunch Special \nPrime Rib Stew with Dumplings served with Yorkie $14.99 \nSoup of the Day: \nBeef Barley and\nCream of Broccoli \nDrink Special: \nPints of Canadian $5.80
URL:https://www.gameonsports.bar/event/monday-lunch-special-3/
LOCATION:Game On Sports Bar & Grill\, 3701 Dewolf Way\, Merritt\, BC\, V1K 1C4\, Canada
ATTACH;FMTTYPE=image/jpeg:https://www.gameonsports.bar/wp-content/uploads/2023/02/Monday-Feb-27-2023-Lunch-Special-calendar.jpeg
ORGANIZER;CN="Jim%20Cooley":MAILTO:jim.cooley@live.ca
END:VEVENT
BEGIN:VEVENT
DTSTART;TZID=America/Vancouver:20230226T120000
DTEND;TZID=America/Vancouver:20230226T150000
DTSTAMP:20260420T013604
CREATED:20230226T201435Z
LAST-MODIFIED:20230226T201435Z
UID:1457-1677412800-1677423600@www.gameonsports.bar
SUMMARY:Sunday Lunch Special
DESCRIPTION:Grilled Meatloaf Panini\nwith soup\, salad or fries $14.99 \nor \nCrab Salad Pita Sandwich\nwith soup salad or fries $16.99 \nSoup of the Day: \nBeef Barley \nDrink Special: \nCaesars $5.40\nand\nWinterland Pale Ale $5.80
URL:https://www.gameonsports.bar/event/sunday-lunch-special-2/
LOCATION:Game On Sports Bar & Grill\, 3701 Dewolf Way\, Merritt\, BC\, V1K 1C4\, Canada
ATTACH;FMTTYPE=image/jpeg:https://www.gameonsports.bar/wp-content/uploads/2023/02/Sunday-Feb-26-2023-Lunch-Special-calendar.jpeg
ORGANIZER;CN="Jim%20Cooley":MAILTO:jim.cooley@live.ca
END:VEVENT
BEGIN:VEVENT
DTSTART;TZID=America/Vancouver:20230225T110000
DTEND;TZID=America/Vancouver:20230225T150000
DTSTAMP:20260420T013604
CREATED:20230225T201641Z
LAST-MODIFIED:20230225T203533Z
UID:1454-1677322800-1677337200@www.gameonsports.bar
SUMMARY:Saturday Lunch Special
DESCRIPTION:Lunch Special: \nTuna Salad Sandwich with Soup\, Salad or Fries $14.99 \nSoup of the Day: \nCream of Carrot and\nPotato Bacon \nDrink Special: \nGrowers Dry\nApple Cider $5.00 \n 
URL:https://www.gameonsports.bar/event/saturday-lunch-special-3/
LOCATION:Game On Sports Bar & Grill\, 3701 Dewolf Way\, Merritt\, BC\, V1K 1C4\, Canada
ATTACH;FMTTYPE=image/jpeg:https://www.gameonsports.bar/wp-content/uploads/2023/02/Saturday-Feb-25-2023-Lunch-Special-calendar.jpeg
ORGANIZER;CN="Jim%20Cooley":MAILTO:jim.cooley@live.ca
END:VEVENT
BEGIN:VEVENT
DTSTART;TZID=America/Vancouver:20230224T160000
DTEND;TZID=America/Vancouver:20230224T220000
DTSTAMP:20260420T013604
CREATED:20230224T233822Z
LAST-MODIFIED:20230224T233822Z
UID:1451-1677254400-1677276000@www.gameonsports.bar
SUMMARY:Friday's Prime Rib Dinner Special
DESCRIPTION:Two sizes to choose from: \n8 oz for $26.95\n12 oz for $32.95 \nIncludes: \nchoice of potato\nsauteed vegetables\nand Yorkshire pudding \nEvery Friday Night!
URL:https://www.gameonsports.bar/event/fridays-prime-rib-dinner-special-2/
LOCATION:Game On Sports Bar & Grill\, 3701 Dewolf Way\, Merritt\, BC\, V1K 1C4\, Canada
ATTACH;FMTTYPE=image/jpeg:https://www.gameonsports.bar/wp-content/uploads/2023/02/FRIDAYS-Prime-Rib-Calendar.jpeg
ORGANIZER;CN="Jim%20Cooley":MAILTO:jim.cooley@live.ca
END:VEVENT
BEGIN:VEVENT
DTSTART;TZID=America/Vancouver:20230224T080000
DTEND;TZID=America/Vancouver:20230224T170000
DTSTAMP:20260420T013604
CREATED:20230224T190509Z
LAST-MODIFIED:20230224T190509Z
UID:1447-1677225600-1677258000@www.gameonsports.bar
SUMMARY:Friday Lunch Special
DESCRIPTION:Lunch Special: \nCubano Sandwich with soup salad or fries $16.99 \nSoup of the Day: \nMulligatawny and\nBeef Vegetable \nDrink Special: \nB52 Warmer $6.00
URL:https://www.gameonsports.bar/event/friday-lunch-special-3/
LOCATION:Game On Sports Bar & Grill\, 3701 Dewolf Way\, Merritt\, BC\, V1K 1C4\, Canada
ATTACH;FMTTYPE=image/jpeg:https://www.gameonsports.bar/wp-content/uploads/2023/02/Friday-Feb-24-2023-Lunch-Special-calendar.jpeg
ORGANIZER;CN="Jim%20Cooley":MAILTO:jim.cooley@live.ca
END:VEVENT
BEGIN:VEVENT
DTSTART;TZID=America/Vancouver:20230223T150000
DTEND;TZID=America/Vancouver:20230223T220000
DTSTAMP:20260420T013604
CREATED:20230224T015308Z
LAST-MODIFIED:20230224T015308Z
UID:1444-1677164400-1677189600@www.gameonsports.bar
SUMMARY:Thursday Wing Night Is Back!
DESCRIPTION:Every Thursday! \n$9.50 per pound.
URL:https://www.gameonsports.bar/event/thursday-wing-night-is-back/
LOCATION:Game On Sports Bar & Grill\, 3701 Dewolf Way\, Merritt\, BC\, V1K 1C4\, Canada
ATTACH;FMTTYPE=image/jpeg:https://www.gameonsports.bar/wp-content/uploads/2023/02/Thursdays-Wing-Nights-calendar.jpeg
ORGANIZER;CN="Jim%20Cooley":MAILTO:jim.cooley@live.ca
END:VEVENT
BEGIN:VEVENT
DTSTART;TZID=America/Vancouver:20230223T110000
DTEND;TZID=America/Vancouver:20230223T150000
DTSTAMP:20260420T013604
CREATED:20230223T194837Z
LAST-MODIFIED:20230223T194837Z
UID:1441-1677150000-1677164400@www.gameonsports.bar
SUMMARY:Thursday Lunch Special
DESCRIPTION:Thursday Lunch Special \nPulled Pork Poutine $15.95 \nSoup of the Day: \nChicken Taco and\nLemon Potato and Bacon \nDrink Special: \nBottle of Heineken $5.50
URL:https://www.gameonsports.bar/event/thursday-lunch-special-3/
LOCATION:Game On Sports Bar & Grill\, 3701 Dewolf Way\, Merritt\, BC\, V1K 1C4\, Canada
ATTACH;FMTTYPE=image/jpeg:https://www.gameonsports.bar/wp-content/uploads/2023/02/Thursday-Feb-23-2023-Lunch-Special-calendar.jpeg
ORGANIZER;CN="Jim%20Cooley":MAILTO:jim.cooley@live.ca
END:VEVENT
BEGIN:VEVENT
DTSTART;TZID=America/Vancouver:20230222T160000
DTEND;TZID=America/Vancouver:20230222T220000
DTSTAMP:20260420T013604
CREATED:20230223T005728Z
LAST-MODIFIED:20230223T005728Z
UID:1438-1677081600-1677103200@www.gameonsports.bar
SUMMARY:Wednesday Dinner Special
DESCRIPTION:Dinner Special \nBourbon Chicken Rice Bowl $20.99 \nSoup of the Day: \nCream of Carrot or\nCorned Beef and Cabbage \nDrink Special: \nPints of Coors Light $5.80
URL:https://www.gameonsports.bar/event/wednesday-dinner-special/
LOCATION:Game On Sports Bar & Grill\, 3701 Dewolf Way\, Merritt\, BC\, V1K 1C4\, Canada
ATTACH;FMTTYPE=image/jpeg:https://www.gameonsports.bar/wp-content/uploads/2023/02/Wed-Feb-22-Dinner-Special-calendar.jpeg
ORGANIZER;CN="Jim%20Cooley":MAILTO:jim.cooley@live.ca
END:VEVENT
BEGIN:VEVENT
DTSTART;TZID=America/Vancouver:20230222T110000
DTEND;TZID=America/Vancouver:20230222T150000
DTSTAMP:20260420T013604
CREATED:20230222T205540Z
LAST-MODIFIED:20230222T205540Z
UID:1435-1677063600-1677078000@www.gameonsports.bar
SUMMARY:Wednesday Lunch Special
DESCRIPTION:Pulled Pork Sandwich\nWith soup\, salad or fries $14.99 \nSoup of the Day: \nCream of Carrot or\nCorned Beef and Cabbage \nDrink Special: \nPints of Coors Light $5.80
URL:https://www.gameonsports.bar/event/wednesday-lunch-special-2/
LOCATION:Game On Sports Bar & Grill\, 3701 Dewolf Way\, Merritt\, BC\, V1K 1C4\, Canada
ATTACH;FMTTYPE=image/jpeg:https://www.gameonsports.bar/wp-content/uploads/2023/02/Wednesday-Feb-22-2023-Lunch-Special-calendar.jpeg
ORGANIZER;CN="Jim%20Cooley":MAILTO:jim.cooley@live.ca
END:VEVENT
BEGIN:VEVENT
DTSTART;TZID=America/Vancouver:20230221T170000
DTEND;TZID=America/Vancouver:20230221T220000
DTSTAMP:20260420T013604
CREATED:20230222T013147Z
LAST-MODIFIED:20230222T013147Z
UID:1432-1676998800-1677016800@www.gameonsports.bar
SUMMARY:Tuesday Dinner Special
DESCRIPTION:Big Spaghetti with Garlic Toast $17.99 \nAdd meatballs $7.00 \nSoup of the Day: \nChicken Bacon Corn Chowder and Mulligatawny \nDrink Special: \nPints of 1516 $5.80
URL:https://www.gameonsports.bar/event/tuesday-dinner-special/
LOCATION:Game On Sports Bar & Grill\, 3701 Dewolf Way\, Merritt\, BC\, V1K 1C4\, Canada
ATTACH;FMTTYPE=image/png:https://www.gameonsports.bar/wp-content/uploads/2023/02/Tues-Feb-21-Dinner-Special-calendar.png
ORGANIZER;CN="Jim%20Cooley":MAILTO:jim.cooley@live.ca
END:VEVENT
BEGIN:VEVENT
DTSTART;TZID=America/Vancouver:20230221T110000
DTEND;TZID=America/Vancouver:20230221T150000
DTSTAMP:20260420T013604
CREATED:20230221T190737Z
LAST-MODIFIED:20230221T190737Z
UID:1428-1676977200-1676991600@www.gameonsports.bar
SUMMARY:Tuesday Lunch Special
DESCRIPTION:Crispy Buffalo Chicken Caesar Wrap with soup salad or fries $15.99 \nSoup of the Day: \nChicken\, Bacon Corn Chowder and Mulligatawny \nDrink Special: \nPints of 1516 for $5.80 \n 
URL:https://www.gameonsports.bar/event/tuesday-lunch-special/
LOCATION:Game On Sports Bar & Grill\, 3701 Dewolf Way\, Merritt\, BC\, V1K 1C4\, Canada
ATTACH;FMTTYPE=image/jpeg:https://www.gameonsports.bar/wp-content/uploads/2023/02/Tuesday-Feb-22-2023-Lunch-Special-calendar.jpeg
ORGANIZER;CN="Jim%20Cooley":MAILTO:jim.cooley@live.ca
END:VEVENT
BEGIN:VEVENT
DTSTART;TZID=America/Vancouver:20230220T110000
DTEND;TZID=America/Vancouver:20230220T150000
DTSTAMP:20260420T013604
CREATED:20230220T192802Z
LAST-MODIFIED:20230220T192802Z
UID:1425-1676890800-1676905200@www.gameonsports.bar
SUMMARY:Monday Lunch Special
DESCRIPTION:Monday Lunch Special \nMushroom and Swiss Prime Rib Dip\nwith soup\, salad or fries $18.99 \nSoup of the Day: \nCream of Carrot and\nSplit Pea and Ham \nDrink Special: \nPints of Canadian $5.80
URL:https://www.gameonsports.bar/event/monday-lunch-special-2/
LOCATION:Game On Sports Bar & Grill\, 3701 Dewolf Way\, Merritt\, BC\, V1K 1C4\, Canada
ATTACH;FMTTYPE=image/jpeg:https://www.gameonsports.bar/wp-content/uploads/2023/02/Monday-Feb-20-2023-Lunch-Special-calendar.jpeg
ORGANIZER;CN="Jim%20Cooley":MAILTO:jim.cooley@live.ca
END:VEVENT
BEGIN:VEVENT
DTSTART;TZID=America/Vancouver:20230219T120000
DTEND;TZID=America/Vancouver:20230219T150000
DTSTAMP:20260420T013604
CREATED:20230219T202317Z
LAST-MODIFIED:20230219T202317Z
UID:1422-1676808000-1676818800@www.gameonsports.bar
SUMMARY:Sunday Lunch Special
DESCRIPTION:Chipotle Prime Rib Panini with\nsoup\, salad or fries $16.99 \nSoup of the Day: \nPhilly Beef or Beef Vegetable \nDrink Special: \nCaesars $5.40
URL:https://www.gameonsports.bar/event/sunday-lunch-special/
LOCATION:Game On Sports Bar & Grill\, 3701 Dewolf Way\, Merritt\, BC\, V1K 1C4\, Canada
ATTACH;FMTTYPE=image/jpeg:https://www.gameonsports.bar/wp-content/uploads/2023/02/Sunday-Feb-19-2023-Lunch-Special-calendar.jpeg
ORGANIZER;CN="Jim%20Cooley":MAILTO:jim.cooley@live.ca
END:VEVENT
BEGIN:VEVENT
DTSTART;TZID=America/Vancouver:20230218T170000
DTEND;TZID=America/Vancouver:20230218T220000
DTSTAMP:20260420T013604
CREATED:20230219T012917Z
LAST-MODIFIED:20230219T012917Z
UID:1419-1676739600-1676757600@www.gameonsports.bar
SUMMARY:Saturday Dinner Special
DESCRIPTION:Dinner Special: \nBaked Rosé Gnocchi with Roasted Vegetables and Garlic Toast $19.99 \nRosé Linguine with Prawns and Garlic Toast $22.00 \nSoup of the Day: \nCream of Carrot and Chicken Taco \nDrink Special: \nTwisted Tea $5.00
URL:https://www.gameonsports.bar/event/saturday-dinner-special-2/
LOCATION:Game On Sports Bar & Grill\, 3701 Dewolf Way\, Merritt\, BC\, V1K 1C4\, Canada
ATTACH;FMTTYPE=image/jpeg:https://www.gameonsports.bar/wp-content/uploads/2023/02/Sat-Feb-18-Dinner-Special-calendar.jpeg
ORGANIZER;CN="Jim%20Cooley":MAILTO:jim.cooley@live.ca
END:VEVENT
END:VCALENDAR