BEGIN:VCALENDAR
VERSION:2.0
PRODID:-//Game On Sports Bar &amp; Grill - ECPv6.0.8//NONSGML v1.0//EN
CALSCALE:GREGORIAN
METHOD:PUBLISH
X-WR-CALNAME:Game On Sports Bar &amp; Grill
X-ORIGINAL-URL:https://www.gameonsports.bar
X-WR-CALDESC:Events for Game On Sports Bar &amp; Grill
REFRESH-INTERVAL;VALUE=DURATION:PT1H
X-Robots-Tag:noindex
X-PUBLISHED-TTL:PT1H
BEGIN:VTIMEZONE
TZID:America/Vancouver
BEGIN:DAYLIGHT
TZOFFSETFROM:-0800
TZOFFSETTO:-0700
TZNAME:PDT
DTSTART:20240310T100000
END:DAYLIGHT
BEGIN:STANDARD
TZOFFSETFROM:-0700
TZOFFSETTO:-0800
TZNAME:PST
DTSTART:20241103T090000
END:STANDARD
END:VTIMEZONE
BEGIN:VEVENT
DTSTART;TZID=America/Vancouver:20240722T120000
DTEND;TZID=America/Vancouver:20240722T160000
DTSTAMP:20260424T112922
CREATED:20240722T192620Z
LAST-MODIFIED:20240722T192620Z
UID:2826-1721649600-1721664000@www.gameonsports.bar
SUMMARY:Monday Special Feature
DESCRIPTION:Crispy Cajun Chicken Burger\nwith Mango Salsa\nwith soup\, salad or fries $18.99 \nSoup of the Day: \nBorscht\nSpinach\, Mushroom & Chicken\nCream of Tomato\nGinger Beef \nDrink Special: \nBottles of Stella $5.50\nVodka Cranberry $5.40
URL:https://www.gameonsports.bar/event/monday-special-feature-55/
LOCATION:Game On Sports Bar & Grill\, 3701 Dewolf Way\, Merritt\, BC\, V1K 1C4\, Canada
ATTACH;FMTTYPE=image/jpeg:https://www.gameonsports.bar/wp-content/uploads/2024/07/Monday-July-22-2024-IG.jpg
ORGANIZER;CN="Jim%20Cooley":MAILTO:jim.cooley@live.ca
END:VEVENT
BEGIN:VEVENT
DTSTART;TZID=America/Vancouver:20240723T080000
DTEND;TZID=America/Vancouver:20240723T170000
DTSTAMP:20260424T112922
CREATED:20240723T185216Z
LAST-MODIFIED:20240723T195828Z
UID:2830-1721721600-1721754000@www.gameonsports.bar
SUMMARY:Tuesday Special Feature
DESCRIPTION:Lobster Roll\nwith soup\, salad or fries $19.99 \nSoup of the Day: \nSpinach Mushroom Chicken\nBacon Cheeseburger\nChicken Veggie \nDrink Special: \nBottles of Bud $5.15
URL:https://www.gameonsports.bar/event/tuesday-special-feature-59/
LOCATION:Game On Sports Bar & Grill\, 3701 Dewolf Way\, Merritt\, BC\, V1K 1C4\, Canada
ATTACH;FMTTYPE=image/jpeg:https://www.gameonsports.bar/wp-content/uploads/2024/07/Tuesday-July-23-2024-IG.jpg
ORGANIZER;CN="Jim%20Cooley":MAILTO:jim.cooley@live.ca
END:VEVENT
BEGIN:VEVENT
DTSTART;TZID=America/Vancouver:20240724T120000
DTEND;TZID=America/Vancouver:20240724T160000
DTSTAMP:20260424T112922
CREATED:20240724T184143Z
LAST-MODIFIED:20240724T184143Z
UID:2833-1721822400-1721836800@www.gameonsports.bar
SUMMARY:Wednesday Special Feature
DESCRIPTION:Philly Steak Wrap\nwith soup\, salad or fries $16.99 \nSoup of the Day: \nSplit Pea & Ham\nCream of Broccoli\nBeef Vegetable\nChicken Vegetable \nDrink Special: \nPints of 1516 $6.00\nVodka Cranberry $5.40
URL:https://www.gameonsports.bar/event/wednesday-special-feature-57/
LOCATION:Game On Sports Bar & Grill\, 3701 Dewolf Way\, Merritt\, BC\, V1K 1C4\, Canada
ATTACH;FMTTYPE=image/jpeg:https://www.gameonsports.bar/wp-content/uploads/2024/07/Wednesday-July-24-2024-IG.jpg
ORGANIZER;CN="Jim%20Cooley":MAILTO:jim.cooley@live.ca
END:VEVENT
BEGIN:VEVENT
DTSTART;TZID=America/Vancouver:20240725T120000
DTEND;TZID=America/Vancouver:20240725T160000
DTSTAMP:20260424T112922
CREATED:20240725T202449Z
LAST-MODIFIED:20240725T202449Z
UID:2836-1721908800-1721923200@www.gameonsports.bar
SUMMARY:Thursday Special Feature
DESCRIPTION:Crispy Chicken Mango Tacos $18.95 \nSoup of the Day: \nCream of Tomato\nSplit Pea & Ham\nBeef Vegetable\nCream of Mushroom \nDrink Special: \nBottles of Stella $5.75\nLong Island Icedtea $5.40
URL:https://www.gameonsports.bar/event/thursday-special-feature-62/
LOCATION:Game On Sports Bar & Grill\, 3701 Dewolf Way\, Merritt\, BC\, V1K 1C4\, Canada
ATTACH;FMTTYPE=image/jpeg:https://www.gameonsports.bar/wp-content/uploads/2024/07/Thursday-July-25-2024-IG.jpg
ORGANIZER;CN="Jim%20Cooley":MAILTO:jim.cooley@live.ca
END:VEVENT
BEGIN:VEVENT
DTSTART;TZID=America/Vancouver:20240726T120000
DTEND;TZID=America/Vancouver:20240726T160000
DTSTAMP:20260424T112922
CREATED:20240726T181201Z
LAST-MODIFIED:20240726T181232Z
UID:2839-1721995200-1722009600@www.gameonsports.bar
SUMMARY:Friday Special Feature
DESCRIPTION:Baked French Onion with Garlic\nToast $12.99 \nWestern Burger\nwith soup\, salad or fries $20.99 \nSoup of the Day: \nBorscht\nSpinach\, Mushroom Chicken \nDrink Special: \nBottles of Coors Original $5.25\nVodka Cranberry $5.50
URL:https://www.gameonsports.bar/event/friday-special-feature-64/
LOCATION:Game On Sports Bar & Grill\, 3701 Dewolf Way\, Merritt\, BC\, V1K 1C4\, Canada
ATTACH;FMTTYPE=image/jpeg:https://www.gameonsports.bar/wp-content/uploads/2024/07/Friday-July-26-2024-IG.jpg
ORGANIZER;CN="Jim%20Cooley":MAILTO:jim.cooley@live.ca
END:VEVENT
BEGIN:VEVENT
DTSTART;TZID=America/Vancouver:20240727T120000
DTEND;TZID=America/Vancouver:20240727T160000
DTSTAMP:20260424T112922
CREATED:20240727T185807Z
LAST-MODIFIED:20240727T190419Z
UID:2842-1722081600-1722096000@www.gameonsports.bar
SUMMARY:Saturday Special Feature
DESCRIPTION:Chipotle Mayo Clubhouse Panini\nwith soup\, salad or fries $18.99 \nSoup of the Day: \nSplit Pea & Ham\nChicken Vegetable\nCream of Mushroom \nDrink Special: \nPints of 1516 $6.25\nParalyzers $5.50
URL:https://www.gameonsports.bar/event/saturday-special-feature-57/
LOCATION:Game On Sports Bar & Grill\, 3701 Dewolf Way\, Merritt\, BC\, V1K 1C4\, Canada
ATTACH;FMTTYPE=image/jpeg:https://www.gameonsports.bar/wp-content/uploads/2024/07/Saturday-July-27-2024-IG.jpg
ORGANIZER;CN="Jim%20Cooley":MAILTO:jim.cooley@live.ca
END:VEVENT
BEGIN:VEVENT
DTSTART;TZID=America/Vancouver:20240730T120000
DTEND;TZID=America/Vancouver:20240730T160000
DTSTAMP:20260424T112922
CREATED:20240730T184513Z
LAST-MODIFIED:20240730T184513Z
UID:2845-1722340800-1722355200@www.gameonsports.bar
SUMMARY:Tuesday Special Feature
DESCRIPTION:BBQ Steak Skewer on Caesar Salad with garlic toast $18.99 \nSoup of the Day: \nChicken Veggie\nCream of Broccoli\nSplit Pea and Ham\nLobster Bisque \nDrink Special: \nPints of Rickard’s Red $6.25\nGrowers Dry Apple $5.15
URL:https://www.gameonsports.bar/event/tuesday-special-feature-60/
LOCATION:Game On Sports Bar & Grill\, 3701 Dewolf Way\, Merritt\, BC\, V1K 1C4\, Canada
ATTACH;FMTTYPE=image/jpeg:https://www.gameonsports.bar/wp-content/uploads/2024/07/Tuesday-July-30-2024-IG.jpg
ORGANIZER;CN="Jim%20Cooley":MAILTO:jim.cooley@live.ca
END:VEVENT
BEGIN:VEVENT
DTSTART;TZID=America/Vancouver:20240731T120000
DTEND;TZID=America/Vancouver:20240731T160000
DTSTAMP:20260424T112922
CREATED:20240731T183217Z
LAST-MODIFIED:20240731T183217Z
UID:2849-1722427200-1722441600@www.gameonsports.bar
SUMMARY:Wednesday Special Feature
DESCRIPTION:Mushroom Swiss Prime Rib Dip\nwith soup\, salad or fries. $17.99 \nSoup of the Day: \nSplit Pea & Ham\nMulligatawny\nCabbage Roll\nCream of Broccoli \nDrink Special: \nPints of 1516 $6.00\nVodka Cranberry $5.40
URL:https://www.gameonsports.bar/event/wednesday-special-feature-58/
LOCATION:Game On Sports Bar & Grill\, 3701 Dewolf Way\, Merritt\, BC\, V1K 1C4\, Canada
ATTACH;FMTTYPE=image/jpeg:https://www.gameonsports.bar/wp-content/uploads/2024/07/Wednesday-July-31-2024-IG.jpg
ORGANIZER;CN="Jim%20Cooley":MAILTO:jim.cooley@live.ca
END:VEVENT
BEGIN:VEVENT
DTSTART;TZID=America/Vancouver:20240801T120000
DTEND;TZID=America/Vancouver:20240801T160000
DTSTAMP:20260424T112922
CREATED:20240801T175345Z
LAST-MODIFIED:20240801T175345Z
UID:2852-1722513600-1722528000@www.gameonsports.bar
SUMMARY:Thursday Special Feature
DESCRIPTION:Western Burger\nwith soup\, salad or fries $20.99 \nSoup of the Day: \nCorned Beef & Cabbage\nBeef Vegetable\nChicken Rice\nMullagatawny \nDrink Special: \nBottles of Lucky $5.25\nCans of Mojito $5.50\nBottle Cap Shooters $5.00
URL:https://www.gameonsports.bar/event/thursday-special-feature-63/
LOCATION:Game On Sports Bar & Grill\, 3701 Dewolf Way\, Merritt\, BC\, V1K 1C4\, Canada
ATTACH;FMTTYPE=image/jpeg:https://www.gameonsports.bar/wp-content/uploads/2024/08/Thursday-August-1-2024-IG.jpg
ORGANIZER;CN="Jim%20Cooley":MAILTO:jim.cooley@live.ca
END:VEVENT
BEGIN:VEVENT
DTSTART;TZID=America/Vancouver:20240802T120000
DTEND;TZID=America/Vancouver:20240802T160000
DTSTAMP:20260424T112922
CREATED:20240802T183848Z
LAST-MODIFIED:20240802T183848Z
UID:2855-1722600000-1722614400@www.gameonsports.bar
SUMMARY:Friday Special Feature
DESCRIPTION:Parmesan Crusted Chicken Sandwich\nwith soup\, salad or fries $18.99 \nSoup of the Day: \nCabbage Roll\nChicken\, Rice & Vegetable\nChicken Sausage Corn Chowder\nLemon Potato Bacon \nDrink Special: \nLong Islands $5.40\nCoors Original $5.25
URL:https://www.gameonsports.bar/event/friday-special-feature-65/
LOCATION:Game On Sports Bar & Grill\, 3701 Dewolf Way\, Merritt\, BC\, V1K 1C4\, Canada
ATTACH;FMTTYPE=image/jpeg:https://www.gameonsports.bar/wp-content/uploads/2024/08/Friday-August-2-2024-IG.jpg
ORGANIZER;CN="Jim%20Cooley":MAILTO:jim.cooley@live.ca
END:VEVENT
BEGIN:VEVENT
DTSTART;TZID=America/Vancouver:20240808T120000
DTEND;TZID=America/Vancouver:20240808T160000
DTSTAMP:20260424T112922
CREATED:20240808T192216Z
LAST-MODIFIED:20240808T192216Z
UID:2859-1723118400-1723132800@www.gameonsports.bar
SUMMARY:Thursday Special Feature
DESCRIPTION:Mushroom Swiss Chicken Melt\nwith soup\, salad or fries $18.99 \nSeafood Chowder with Garlic\nToast $12.99 \nSoup of the Day: \nSplit Pea & Ham\nCabbage Roll\nChicken Sausage Com Chowder \nDrink Special: \nPints of Lions Gate Lager $6.25\nLong Island Icedtea $5.50
URL:https://www.gameonsports.bar/event/thursday-special-feature-64/
LOCATION:Game On Sports Bar & Grill\, 3701 Dewolf Way\, Merritt\, BC\, V1K 1C4\, Canada
ATTACH;FMTTYPE=image/jpeg:https://www.gameonsports.bar/wp-content/uploads/2024/08/Thursday-August-8-2024-IG.jpg
ORGANIZER;CN="Jim%20Cooley":MAILTO:jim.cooley@live.ca
END:VEVENT
BEGIN:VEVENT
DTSTART;TZID=America/Vancouver:20240809T120000
DTEND;TZID=America/Vancouver:20240809T160000
DTSTAMP:20260424T112922
CREATED:20240809T191620Z
LAST-MODIFIED:20240809T191620Z
UID:2862-1723204800-1723219200@www.gameonsports.bar
SUMMARY:Friday Special Feature
DESCRIPTION:Crispy Cajun Mango Chicken Burger with soup\, salad or fries $18.99 \nSoup of the Day: \nCream of Tomato\nLemon Potato Bacon\nChicken & Mushroom \nDrink Special: \nPints of Rickards Red $6.25\nParalyzers $5.40
URL:https://www.gameonsports.bar/event/friday-special-feature-66/
LOCATION:Game On Sports Bar & Grill\, 3701 Dewolf Way\, Merritt\, BC\, V1K 1C4\, Canada
ATTACH;FMTTYPE=image/jpeg:https://www.gameonsports.bar/wp-content/uploads/2024/08/Friday-August-9-2024-IG.jpg
ORGANIZER;CN="Jim%20Cooley":MAILTO:jim.cooley@live.ca
END:VEVENT
BEGIN:VEVENT
DTSTART;TZID=America/Vancouver:20240813T120000
DTEND;TZID=America/Vancouver:20240813T160000
DTSTAMP:20260424T112922
CREATED:20240813T182110Z
LAST-MODIFIED:20240813T182125Z
UID:2865-1723550400-1723564800@www.gameonsports.bar
SUMMARY:Tuesday Special Feature
DESCRIPTION:BBQ Brisket topped Poutine $16.49 \nSoups of the Day: \nSpinach Mushroom Chicken\nLemon Potato Bacon\nChicken Veggie\nCabbage Roll \nDrink Special: \nPints of 1566 $6.25\nParalyzers $5.50
URL:https://www.gameonsports.bar/event/tuesday-special-feature-61/
LOCATION:Game On Sports Bar & Grill\, 3701 Dewolf Way\, Merritt\, BC\, V1K 1C4\, Canada
ATTACH;FMTTYPE=image/jpeg:https://www.gameonsports.bar/wp-content/uploads/2024/08/Tuesday-August-13-2024-IG.jpg
ORGANIZER;CN="Jim%20Cooley":MAILTO:jim.cooley@live.ca
END:VEVENT
BEGIN:VEVENT
DTSTART;TZID=America/Vancouver:20240814T080000
DTEND;TZID=America/Vancouver:20240814T170000
DTSTAMP:20260424T112922
CREATED:20240814T185547Z
LAST-MODIFIED:20240814T185649Z
UID:2868-1723622400-1723654800@www.gameonsports.bar
SUMMARY:Wednesday Special Feature
DESCRIPTION:Mushroom Swiss Burger\nwith soup\, salad or fries $17.99 \nSoup of the Day: \nBeef Vegetable\nSplit Pea & Ham\nSpinach Mushroom & Chicken \nDrink Special: \nPints of Flagship I.P.A $6.00\nParalyzers $5.40
URL:https://www.gameonsports.bar/event/wednesday-special-feature-59/
LOCATION:Game On Sports Bar & Grill\, 3701 Dewolf Way\, Merritt\, BC\, V1K 1C4\, Canada
ATTACH;FMTTYPE=image/jpeg:https://www.gameonsports.bar/wp-content/uploads/2024/08/Wednesday-August-14-2024-IG.jpg
ORGANIZER;CN="Jim%20Cooley":MAILTO:jim.cooley@live.ca
END:VEVENT
BEGIN:VEVENT
DTSTART;TZID=America/Vancouver:20240815T120000
DTEND;TZID=America/Vancouver:20240815T160000
DTSTAMP:20260424T112922
CREATED:20240815T182915Z
LAST-MODIFIED:20240815T182915Z
UID:2871-1723723200-1723737600@www.gameonsports.bar
SUMMARY:Thursday Special Feature
DESCRIPTION:BLTC Wrap\nwith soup\, salad or fries $15.99 \nSoup of the Day: \nCream of Mushroom\nPotato Bacon\nChicken Vegetable\nCream of Tomato \nDrink Special: \nPints of Lions Gate Lager $6.25\nOrange Creamsicle $5.75 \nWe now have Lemonaide\n& Orange Fanta
URL:https://www.gameonsports.bar/event/thursday-special-feature-65/
LOCATION:Game On Sports Bar & Grill\, 3701 Dewolf Way\, Merritt\, BC\, V1K 1C4\, Canada
ATTACH;FMTTYPE=image/jpeg:https://www.gameonsports.bar/wp-content/uploads/2024/08/Thursday-August-15-2024-ig.jpg
ORGANIZER;CN="Jim%20Cooley":MAILTO:jim.cooley@live.ca
END:VEVENT
BEGIN:VEVENT
DTSTART;TZID=America/Vancouver:20240816T120000
DTEND;TZID=America/Vancouver:20240816T160000
DTSTAMP:20260424T112922
CREATED:20240816T190022Z
LAST-MODIFIED:20240816T190022Z
UID:2875-1723809600-1723824000@www.gameonsports.bar
SUMMARY:Friday Special Feature
DESCRIPTION:BBQ Cheddar Beefdip\nwith soup\, salad or fries $17.99 \nSoup of the Day: \nChicken Sausage Corn Chowder\nBeef Vegetable\nTomato Bacon\nCabbage Roll \nDrink Special: \nPints of 1516 $6.25\nParalyzers $5.50 \nWe now have Lemonade\nand Orange Fanta
URL:https://www.gameonsports.bar/event/friday-special-feature-67/
LOCATION:Game On Sports Bar & Grill\, 3701 Dewolf Way\, Merritt\, BC\, V1K 1C4\, Canada
ATTACH;FMTTYPE=image/jpeg:https://www.gameonsports.bar/wp-content/uploads/2024/08/Friday-August-16-2024-IG.jpg
ORGANIZER;CN="Jim%20Cooley":MAILTO:jim.cooley@live.ca
END:VEVENT
BEGIN:VEVENT
DTSTART;TZID=America/Vancouver:20240817T120000
DTEND;TZID=America/Vancouver:20240817T160000
DTSTAMP:20260424T112922
CREATED:20240817T191003Z
LAST-MODIFIED:20240817T191007Z
UID:2878-1723896000-1723910400@www.gameonsports.bar
SUMMARY:Saturday Special Feature
DESCRIPTION:Chicken Club Panini\nwith soup\, salad or fries $18.99 \nSoup of the Day: \nSplit Pea & Ham\nChicken Vegetable\nMullagatawny \nDrink Special: \nPints of Flagship IPA $6.25\nBlue Lagoon $6.00 \nwe now have Lemonade\nand Orange Fanta
URL:https://www.gameonsports.bar/event/saturday-special-feature-58/
LOCATION:Game On Sports Bar & Grill\, 3701 Dewolf Way\, Merritt\, BC\, V1K 1C4\, Canada
ATTACH;FMTTYPE=image/jpeg:https://www.gameonsports.bar/wp-content/uploads/2024/08/Saturday-August-17-2024-IG.jpg
ORGANIZER;CN="Jim%20Cooley":MAILTO:jim.cooley@live.ca
END:VEVENT
BEGIN:VEVENT
DTSTART;TZID=America/Vancouver:20240819T120000
DTEND;TZID=America/Vancouver:20240819T160000
DTSTAMP:20260424T112922
CREATED:20240819T185707Z
LAST-MODIFIED:20240819T185707Z
UID:2881-1724068800-1724083200@www.gameonsports.bar
SUMMARY:Monday Special Feature
DESCRIPTION:Mushroom Swiss Burger\nwith soup\, salad or fries $18.99 \nSoup of the Day: \nCabbage Roll\nLobster Bisque\nChicken Sausage Corn Chowder\nPhilly Beef \nDrink Special: \nPints of Flagship IPA $6.25\nLong Isiand Icedtea $5.50
URL:https://www.gameonsports.bar/event/monday-special-feature-56/
LOCATION:Game On Sports Bar & Grill\, 3701 Dewolf Way\, Merritt\, BC\, V1K 1C4\, Canada
ATTACH;FMTTYPE=image/jpeg:https://www.gameonsports.bar/wp-content/uploads/2024/08/Monday-August-19-2024-IG.jpg
ORGANIZER;CN="Jim%20Cooley":MAILTO:jim.cooley@live.ca
END:VEVENT
BEGIN:VEVENT
DTSTART;TZID=America/Vancouver:20240820T120000
DTEND;TZID=America/Vancouver:20240820T160000
DTSTAMP:20260424T112922
CREATED:20240820T175225Z
LAST-MODIFIED:20240820T175225Z
UID:2884-1724155200-1724169600@www.gameonsports.bar
SUMMARY:Tuesday Special Feature
DESCRIPTION:Chipotlé Chicken Panini\n(with Jalapenos) $16.99\nyour choice of fries\, soup\, or salad \nSoup of the Day: \nPotato Bacon\nCream of Tomato\nChicken and Mushroom \nDrink Special: \nPints of Rickard’s Red $6.25\nVodka Cran – Soda $5.50
URL:https://www.gameonsports.bar/event/tuesday-special-feature-62/
LOCATION:Game On Sports Bar & Grill\, 3701 Dewolf Way\, Merritt\, BC\, V1K 1C4\, Canada
ATTACH;FMTTYPE=image/jpeg:https://www.gameonsports.bar/wp-content/uploads/2024/08/Tuesday-August-20-2024-IG.jpg
ORGANIZER;CN="Jim%20Cooley":MAILTO:jim.cooley@live.ca
END:VEVENT
BEGIN:VEVENT
DTSTART;TZID=America/Vancouver:20240821T120000
DTEND;TZID=America/Vancouver:20240821T160000
DTSTAMP:20260424T112922
CREATED:20240821T185908Z
LAST-MODIFIED:20240821T213740Z
UID:2887-1724241600-1724256000@www.gameonsports.bar
SUMMARY:Wednesday Special Feature
DESCRIPTION:BBQ Brisket (Wedges) Poutine $17.99 \nSoup of the Day: \nLobster Bisque\nBeef Vegetable\nCream of Broccoli\nMulligatawny \nDrink Special: \nPints of 1516 $6.00\nParalyzers $5.40
URL:https://www.gameonsports.bar/event/wednesday-special-feature-60/
LOCATION:Game On Sports Bar & Grill\, 3701 Dewolf Way\, Merritt\, BC\, V1K 1C4\, Canada
ATTACH;FMTTYPE=image/jpeg:https://www.gameonsports.bar/wp-content/uploads/2024/08/Wednesday-August-21-2024-IG.jpg
ORGANIZER;CN="Jim%20Cooley":MAILTO:jim.cooley@live.ca
END:VEVENT
BEGIN:VEVENT
DTSTART;TZID=America/Vancouver:20240822T120000
DTEND;TZID=America/Vancouver:20240822T160000
DTSTAMP:20260424T112922
CREATED:20240822T183029Z
LAST-MODIFIED:20240822T183029Z
UID:2890-1724328000-1724342400@www.gameonsports.bar
SUMMARY:Thursday Special Feature
DESCRIPTION:Crispy Chipotle Lime Chicken Wrap with soup\, salad or fries $16.99 \nSoup of the Day: \nCream of Mushroom\nMullagatawny\nBeef Vegetable\nCream of Broccoli \nDrink Special: \nPints of Rickards Red $6.25\nLong Island Icedtea $5.50
URL:https://www.gameonsports.bar/event/thursday-special-feature-66/
LOCATION:Game On Sports Bar & Grill\, 3701 Dewolf Way\, Merritt\, BC\, V1K 1C4\, Canada
ATTACH;FMTTYPE=image/jpeg:https://www.gameonsports.bar/wp-content/uploads/2024/08/Thursday-August-22-2024-IG.jpg
ORGANIZER;CN="Jim%20Cooley":MAILTO:jim.cooley@live.ca
END:VEVENT
BEGIN:VEVENT
DTSTART;TZID=America/Vancouver:20240823T120000
DTEND;TZID=America/Vancouver:20240823T160000
DTSTAMP:20260424T112922
CREATED:20240823T190420Z
LAST-MODIFIED:20240823T190420Z
UID:2893-1724414400-1724428800@www.gameonsports.bar
SUMMARY:Friday Special Feature
DESCRIPTION:Mushroom & Swiss Beef Dip\nwith soup\, salad or fries $18.99 \nSoup of the Day: \nCorned Beef & Cabbage\nBeef Vegetable\nPotato Bacon\nPhilly Beef \nDrink Special: \nPints of Lions Gate Lager $6.25\nGame on Icedtrea $5.50
URL:https://www.gameonsports.bar/event/friday-special-feature-68/
LOCATION:Game On Sports Bar & Grill\, 3701 Dewolf Way\, Merritt\, BC\, V1K 1C4\, Canada
ATTACH;FMTTYPE=image/jpeg:https://www.gameonsports.bar/wp-content/uploads/2024/08/Friday-August-23-2024-IG.jpg
ORGANIZER;CN="Jim%20Cooley":MAILTO:jim.cooley@live.ca
END:VEVENT
BEGIN:VEVENT
DTSTART;TZID=America/Vancouver:20240824T120000
DTEND;TZID=America/Vancouver:20240824T160000
DTSTAMP:20260424T112922
CREATED:20240824T192703Z
LAST-MODIFIED:20240824T192703Z
UID:2897-1724500800-1724515200@www.gameonsports.bar
SUMMARY:Saturday Special Feature
DESCRIPTION:Bacon & Cheese Burger\nwith soup\, salad or fries $19.99 \nSoup of the Day: \nCorned Beef & Cabbage\nCream of Tomato\nChicken Sausage Corn Chowder \nDrink Special: \nPints of Flagship IPA $6.25\nCoffee & Baileys $6.00
URL:https://www.gameonsports.bar/event/saturday-special-feature-59/
LOCATION:Game On Sports Bar & Grill\, 3701 Dewolf Way\, Merritt\, BC\, V1K 1C4\, Canada
ATTACH;FMTTYPE=image/jpeg:https://www.gameonsports.bar/wp-content/uploads/2024/08/Saturday-August-24-2024-ig.jpg
ORGANIZER;CN="Jim%20Cooley":MAILTO:jim.cooley@live.ca
END:VEVENT
BEGIN:VEVENT
DTSTART;TZID=America/Vancouver:20240826T120000
DTEND;TZID=America/Vancouver:20240826T160000
DTSTAMP:20260424T112922
CREATED:20240826T185131Z
LAST-MODIFIED:20240826T185433Z
UID:2900-1724673600-1724688000@www.gameonsports.bar
SUMMARY:Monday Special Feature
DESCRIPTION:Grilled Chicken Burger with Bacon\, Swiss & Mango Salsa\nwith soup\, salad or fries $19.99 \nSoup of the Day: \nPotato Bacon\nMullagatawny\nChicken Mushroom \nDrink Special: \nPints of Lions Gate Lager $6.25\nVodka Cranberry $5.50
URL:https://www.gameonsports.bar/event/monday-special-feature-57/
LOCATION:Game On Sports Bar & Grill\, 3701 Dewolf Way\, Merritt\, BC\, V1K 1C4\, Canada
ATTACH;FMTTYPE=image/jpeg:https://www.gameonsports.bar/wp-content/uploads/2024/08/Monday-August-26-2024-IG.jpg
ORGANIZER;CN="Jim%20Cooley":MAILTO:jim.cooley@live.ca
END:VEVENT
BEGIN:VEVENT
DTSTART;TZID=America/Vancouver:20240827T120000
DTEND;TZID=America/Vancouver:20240827T160000
DTSTAMP:20260424T112922
CREATED:20240827T191628Z
LAST-MODIFIED:20240827T191628Z
UID:2909-1724760000-1724774400@www.gameonsports.bar
SUMMARY:Tuesday Special Feature
DESCRIPTION:½ Rack Teriyaki Baby Back\nRib Rice Bowl with Veggies $22.95 \nSoup of the Day: \nBeef Barley\nCream of Broccoli\nCream of Tomato\nChicken Mushroom \nDrink Special: \nPints of Sleeman’s Honey Brown $6.25
URL:https://www.gameonsports.bar/event/tuesday-special-feature-63/
LOCATION:Game On Sports Bar & Grill\, 3701 Dewolf Way\, Merritt\, BC\, V1K 1C4\, Canada
ATTACH;FMTTYPE=image/jpeg:https://www.gameonsports.bar/wp-content/uploads/2024/08/Tuesday-August-27-2024-IG.jpg
ORGANIZER;CN="Jim%20Cooley":MAILTO:jim.cooley@live.ca
END:VEVENT
BEGIN:VEVENT
DTSTART;TZID=America/Vancouver:20240828T120000
DTEND;TZID=America/Vancouver:20240828T160000
DTSTAMP:20260424T112922
CREATED:20240828T184626Z
LAST-MODIFIED:20240828T184630Z
UID:2912-1724846400-1724860800@www.gameonsports.bar
SUMMARY:Wednesday Special Feature
DESCRIPTION:Whiskey Peach BBQ Bacon\nBrie Burger\nwith soup\, salad or fries $19.99 \nSoup of the Day: \nCream of Carrot\nBeef Barley\nPotato Bacon\nCabbage Roll \nDrink Special: \nPints of 1516 $6.25\nVodka Cranberry $5.50
URL:https://www.gameonsports.bar/event/wednesday-special-feature-61/
LOCATION:Game On Sports Bar & Grill\, 3701 Dewolf Way\, Merritt\, BC\, V1K 1C4\, Canada
ATTACH;FMTTYPE=image/jpeg:https://www.gameonsports.bar/wp-content/uploads/2024/08/Wednesday-August-28-2024-IG.jpg
ORGANIZER;CN="Jim%20Cooley":MAILTO:jim.cooley@live.ca
END:VEVENT
BEGIN:VEVENT
DTSTART;TZID=America/Vancouver:20240829T120000
DTEND;TZID=America/Vancouver:20240829T160000
DTSTAMP:20260424T112922
CREATED:20240829T190008Z
LAST-MODIFIED:20240829T190008Z
UID:2915-1724932800-1724947200@www.gameonsports.bar
SUMMARY:Thursday Special Feature
DESCRIPTION:Steak & Mushroom Philly Wrap\nwith soup\, salad or fries $18.99 \nSoup of the Day: \nTomato & Bacon\nPhilly Beef\nCabbage Roll\nChicken & Mushroom \nDrink Special: \nPints of Rickards Red $6.25\nLong Island IcedTea $6.25
URL:https://www.gameonsports.bar/event/thursday-special-feature-67/
LOCATION:Game On Sports Bar & Grill\, 3701 Dewolf Way\, Merritt\, BC\, V1K 1C4\, Canada
ATTACH;FMTTYPE=image/jpeg:https://www.gameonsports.bar/wp-content/uploads/2024/08/Thursday-August-29-2024-IG.jpg
ORGANIZER;CN="Jim%20Cooley":MAILTO:jim.cooley@live.ca
END:VEVENT
BEGIN:VEVENT
DTSTART;TZID=America/Vancouver:20240830T120000
DTEND;TZID=America/Vancouver:20240830T160000
DTSTAMP:20260424T112922
CREATED:20240830T184020Z
LAST-MODIFIED:20240830T185150Z
UID:2918-1725019200-1725033600@www.gameonsports.bar
SUMMARY:Friday Special Feature
DESCRIPTION:Western Burger\nwith soup\, salad or fries $20.99 \nSoup of the Day: \nCream of Carrot\nBeef Barley\nCream of Tomato\nCabbage Roll \nDrink Special: \nPints of Lions Gate Lager $6.50\nOrange Fizz $5.75
URL:https://www.gameonsports.bar/event/friday-special-feature-69/
LOCATION:Game On Sports Bar & Grill\, 3701 Dewolf Way\, Merritt\, BC\, V1K 1C4\, Canada
ATTACH;FMTTYPE=image/jpeg:https://www.gameonsports.bar/wp-content/uploads/2024/08/Friday-August-30-2024-IG.jpg
ORGANIZER;CN="Jim%20Cooley":MAILTO:jim.cooley@live.ca
END:VEVENT
BEGIN:VEVENT
DTSTART;TZID=America/Vancouver:20240831T120000
DTEND;TZID=America/Vancouver:20240831T160000
DTSTAMP:20260424T112922
CREATED:20240831T183931Z
LAST-MODIFIED:20240831T183931Z
UID:2921-1725105600-1725120000@www.gameonsports.bar
SUMMARY:Saturday Special Feature
DESCRIPTION:Mushroom Swiss Beef Dip\nwith soup\, salad or fries $18.99 \nSoup of the Day: \nChicken & Mushroom\nCabbage Roll\nChicken Sausage Corn Chowder \nDrink Special: \nPints of Sleeman Honey Brown $6.50\nGame On IcedTea $6.25
URL:https://www.gameonsports.bar/event/saturday-special-feature-60/
LOCATION:Game On Sports Bar & Grill\, 3701 Dewolf Way\, Merritt\, BC\, V1K 1C4\, Canada
ATTACH;FMTTYPE=image/jpeg:https://www.gameonsports.bar/wp-content/uploads/2024/08/Saturday-August-31-2024-IG.jpg
ORGANIZER;CN="Jim%20Cooley":MAILTO:jim.cooley@live.ca
END:VEVENT
BEGIN:VEVENT
DTSTART;TZID=America/Vancouver:20240903T120000
DTEND;TZID=America/Vancouver:20240903T160000
DTSTAMP:20260424T112922
CREATED:20240903T184112Z
LAST-MODIFIED:20240903T184112Z
UID:2928-1725364800-1725379200@www.gameonsports.bar
SUMMARY:Tuesday Special Feature
DESCRIPTION:Steak and Mushroom Melt\nwith horseradish aioli\nand your choice of side $19.99 \nSoup of the Day: \nCream of Tomato\nBroccoli Cheddar\nCream of Mushroom\nSplit Pea and Ham \nDrink Special: \nPints of Richards Red $6.25\nGame On IcedTea $6.25
URL:https://www.gameonsports.bar/event/tuesday-special-feature-64/
LOCATION:Game On Sports Bar & Grill\, 3701 Dewolf Way\, Merritt\, BC\, V1K 1C4\, Canada
ATTACH;FMTTYPE=image/jpeg:https://www.gameonsports.bar/wp-content/uploads/2024/09/Tuesday-September-3-2024-IG.jpg
ORGANIZER;CN="Jim%20Cooley":MAILTO:jim.cooley@live.ca
END:VEVENT
END:VCALENDAR