BEGIN:VCALENDAR
VERSION:2.0
PRODID:-//Game On Sports Bar &amp; Grill - ECPv6.0.8//NONSGML v1.0//EN
CALSCALE:GREGORIAN
METHOD:PUBLISH
X-WR-CALNAME:Game On Sports Bar &amp; Grill
X-ORIGINAL-URL:https://www.gameonsports.bar
X-WR-CALDESC:Events for Game On Sports Bar &amp; Grill
REFRESH-INTERVAL;VALUE=DURATION:PT1H
X-Robots-Tag:noindex
X-PUBLISHED-TTL:PT1H
BEGIN:VTIMEZONE
TZID:America/Vancouver
BEGIN:DAYLIGHT
TZOFFSETFROM:-0800
TZOFFSETTO:-0700
TZNAME:PDT
DTSTART:20240310T100000
END:DAYLIGHT
BEGIN:STANDARD
TZOFFSETFROM:-0700
TZOFFSETTO:-0800
TZNAME:PST
DTSTART:20241103T090000
END:STANDARD
END:VTIMEZONE
BEGIN:VEVENT
DTSTART;TZID=America/Vancouver:20240612T120000
DTEND;TZID=America/Vancouver:20240612T160000
DTSTAMP:20260424T074225
CREATED:20240612T181534Z
LAST-MODIFIED:20240612T181544Z
UID:2733-1718193600-1718208000@www.gameonsports.bar
SUMMARY:Wednesday Special Feature
DESCRIPTION:Bowl of Chili with Cheese Toast\n$13.99 \nCrispy Cajun Mango Chicken Burger with soup\, salad or fries $16.99 \nSoup of the Day: \nLemon Potato Bacon\nCream of Mushroom\nBroccoli Cheddar \nDrink Special: \nPints of Sleeman Honey Brown $6.00\nParalyzers $5.40
URL:https://www.gameonsports.bar/event/wednesday-special-feature-52/
LOCATION:Game On Sports Bar & Grill\, 3701 Dewolf Way\, Merritt\, BC\, V1K 1C4\, Canada
ATTACH;FMTTYPE=image/jpeg:https://www.gameonsports.bar/wp-content/uploads/2024/06/Wednesday-June-12-2024-IG.jpeg
ORGANIZER;CN="Jim%20Cooley":MAILTO:jim.cooley@live.ca
END:VEVENT
BEGIN:VEVENT
DTSTART;TZID=America/Vancouver:20240613T120000
DTEND;TZID=America/Vancouver:20240613T160000
DTSTAMP:20260424T074225
CREATED:20240613T185257Z
LAST-MODIFIED:20240613T185257Z
UID:2740-1718280000-1718294400@www.gameonsports.bar
SUMMARY:Thursday Special Feature
DESCRIPTION:Crispy Chicken Caesar Wrap\nwith soup\, salad or fries $ 16.99 \nSoup of the Day: \nCorned Beef & Cabbage\nCream of Carrot\nPotato Farmers Sausage \nDrink Special: \nPints of 1516 $6.00\nLong Island Icedtea $5.40
URL:https://www.gameonsports.bar/event/thursday-special-feature-56/
LOCATION:Game On Sports Bar & Grill\, 3701 Dewolf Way\, Merritt\, BC\, V1K 1C4\, Canada
ATTACH;FMTTYPE=image/jpeg:https://www.gameonsports.bar/wp-content/uploads/2024/06/Thursday-June-13-2024-IG.jpeg
ORGANIZER;CN="Jim%20Cooley":MAILTO:jim.cooley@live.ca
END:VEVENT
BEGIN:VEVENT
DTSTART;TZID=America/Vancouver:20240614T120000
DTEND;TZID=America/Vancouver:20240614T160000
DTSTAMP:20260424T074225
CREATED:20240614T184114Z
LAST-MODIFIED:20240614T184114Z
UID:2743-1718366400-1718380800@www.gameonsports.bar
SUMMARY:Friday Special Feature
DESCRIPTION:Crispy Chicken Parmesan Ceasar Sandwich with soup\, salad or fries $18.99 \nSoup of the Day: \nGinger Beef\nBorscht\nCabbage Roll\nChicken Taco\nCream of Carrot \nDrink Special: \nPints of Lions Gate Lager $6.00\nVodka Cranberry $5.40 \n 
URL:https://www.gameonsports.bar/event/friday-special-feature-58/
LOCATION:Game On Sports Bar & Grill\, 3701 Dewolf Way\, Merritt\, BC\, V1K 1C4\, Canada
ATTACH;FMTTYPE=image/jpeg:https://www.gameonsports.bar/wp-content/uploads/2024/06/Friday-June-14-2024-2-IG.jpeg
ORGANIZER;CN="Jim%20Cooley":MAILTO:jim.cooley@live.ca
END:VEVENT
BEGIN:VEVENT
DTSTART;TZID=America/Vancouver:20240615T120000
DTEND;TZID=America/Vancouver:20240615T160000
DTSTAMP:20260424T074225
CREATED:20240615T181853Z
LAST-MODIFIED:20240615T181853Z
UID:2746-1718452800-1718467200@www.gameonsports.bar
SUMMARY:Saturday Special Feature
DESCRIPTION:Chipotle Bacon Swiss Chicken Burger with soup\, salad or fries $18.99 \nSoup of the Day: \nRoasted Cauliflower\nGinger Beef\nCream of Mushroom \nDrink Special: \nPints of Coors Light $6.00\nBrown Cows $5.50
URL:https://www.gameonsports.bar/event/saturday-special-feature-53/
LOCATION:Game On Sports Bar & Grill\, 3701 Dewolf Way\, Merritt\, BC\, V1K 1C4\, Canada
ATTACH;FMTTYPE=image/jpeg:https://www.gameonsports.bar/wp-content/uploads/2024/06/Saturday-June-15-2024-IG.jpeg
ORGANIZER;CN="Jim%20Cooley":MAILTO:jim.cooley@live.ca
END:VEVENT
BEGIN:VEVENT
DTSTART;VALUE=DATE:20240616
DTEND;VALUE=DATE:20240617
DTSTAMP:20260424T074225
CREATED:20240612T232945Z
LAST-MODIFIED:20240612T234752Z
UID:2736-1718496000-1718582399@www.gameonsports.bar
SUMMARY:Father's Day Specials
DESCRIPTION:ALL DAY AND EVENING SPECIALS \nGAME ON MEAT PLATTER $41.95 \nHALF A BBQ FARMER SAUSAGE\, HALF RACK OF BABY BACK RIBS\, 6 OUNCE STEAK\, BAKED POTATO\, CORN RIBS\, COLESLAW\, SERVED WITH GARLIC TOAST. \nSTEAK AND PRAWNS\n6 OZ. $32.95\n10 OZ. $37.95 \nSTEAK AND GARLIC BUTTER PRAWNS SERVED WITH CHOICE OF POTATO\, VEGGIES AND GARLIC TOAST.
URL:https://www.gameonsports.bar/event/fathers-day-specials/
LOCATION:Game On Sports Bar & Grill\, 3701 Dewolf Way\, Merritt\, BC\, V1K 1C4\, Canada
ATTACH;FMTTYPE=image/png:https://www.gameonsports.bar/wp-content/uploads/2024/06/Fathers-Day-Specials-IG-QR.png
ORGANIZER;CN="Jim%20Cooley":MAILTO:jim.cooley@live.ca
END:VEVENT
BEGIN:VEVENT
DTSTART;TZID=America/Vancouver:20240620T120000
DTEND;TZID=America/Vancouver:20240620T160000
DTSTAMP:20260424T074225
CREATED:20240620T181117Z
LAST-MODIFIED:20240620T181117Z
UID:2751-1718884800-1718899200@www.gameonsports.bar
SUMMARY:Thursday Special Feature
DESCRIPTION:Mushroom Swiss Beef Dip\nwith soup\, salad or fries $17.99 \nSoup of the Day: \nChicken Sausage Corn Chowder\nCorned Beef & Cabbage\nChicken Taco\nCream of Mushroom \nDrink Special: \nPints of Flagship IPA $6.00\n6oz Sangria $7.00
URL:https://www.gameonsports.bar/event/thursday-special-feature-57/
LOCATION:Game On Sports Bar & Grill\, 3701 Dewolf Way\, Merritt\, BC\, V1K 1C4\, Canada
ATTACH;FMTTYPE=image/jpeg:https://www.gameonsports.bar/wp-content/uploads/2024/06/Thursday-June-20-2024-IG.jpeg
ORGANIZER;CN="Jim%20Cooley":MAILTO:jim.cooley@live.ca
END:VEVENT
BEGIN:VEVENT
DTSTART;TZID=America/Vancouver:20240621T120000
DTEND;TZID=America/Vancouver:20240621T160000
DTSTAMP:20260424T074225
CREATED:20240621T180130Z
LAST-MODIFIED:20240621T180130Z
UID:2754-1718971200-1718985600@www.gameonsports.bar
SUMMARY:Friday Special Feature
DESCRIPTION:Western Burger\nwith soup\, salad or fries $18.99 \nSoup of the Day: \nPotato Bacon\nCabbage Roll\nBeef Vegetable\nCauliflower Cheddar \nDrink Special: \nPints of Rickards Red $6.00\nVodka Cranberry $5.40
URL:https://www.gameonsports.bar/event/friday-special-feature-59/
LOCATION:Game On Sports Bar & Grill\, 3701 Dewolf Way\, Merritt\, BC\, V1K 1C4\, Canada
ATTACH;FMTTYPE=image/jpeg:https://www.gameonsports.bar/wp-content/uploads/2024/06/Friday-June-21-2024-IG.jpeg
ORGANIZER;CN="Jim%20Cooley":MAILTO:jim.cooley@live.ca
END:VEVENT
BEGIN:VEVENT
DTSTART;TZID=America/Vancouver:20240621T170000
DTEND;TZID=America/Vancouver:20240621T230000
DTSTAMP:20260424T074225
CREATED:20240607T185337Z
LAST-MODIFIED:20240607T185436Z
UID:2720-1718989200-1719010800@www.gameonsports.bar
SUMMARY:Lobster Fest
DESCRIPTION:Join Us For Lobster Fest \nFriday\, June 21\, 2024 \n$85.00 per person \nIncludes: One Full Nova Scotia Lobster\, Steak\, Caesar Salad\, Baked Potato\, Garlic Toast and Dessert \nStarts at 5:00 pm \nLive Music with\nBobby Garcia & Six More Strings\n7pm – 11pm \nReservations Recommended
URL:https://www.gameonsports.bar/event/lobster-fest-2/
LOCATION:Game On Sports Bar & Grill\, 3701 Dewolf Way\, Merritt\, BC\, V1K 1C4\, Canada
ATTACH;FMTTYPE=image/jpeg:https://www.gameonsports.bar/wp-content/uploads/2024/06/LobsterFest-2024-web.jpeg
ORGANIZER;CN="Jim%20Cooley":MAILTO:jim.cooley@live.ca
END:VEVENT
BEGIN:VEVENT
DTSTART;TZID=America/Vancouver:20240622T120000
DTEND;TZID=America/Vancouver:20240622T160000
DTSTAMP:20260424T074225
CREATED:20240622T182143Z
LAST-MODIFIED:20240622T182143Z
UID:2757-1719057600-1719072000@www.gameonsports.bar
SUMMARY:Saturday Special Feature
DESCRIPTION:BLTC Wrap\nwith soup\, salad or fries $14.99 \nSoup of the Day: \nBorscht\nPhilly Beef\nCream of Mushroom \nDrink Special: \nPints of Lions Gate Lager $6.00\nLong Island Iced Tea $5.40
URL:https://www.gameonsports.bar/event/saturday-special-feature-54/
LOCATION:Game On Sports Bar & Grill\, 3701 Dewolf Way\, Merritt\, BC\, V1K 1C4\, Canada
ATTACH;FMTTYPE=image/jpeg:https://www.gameonsports.bar/wp-content/uploads/2024/06/Saturday-June-22-2024-IG.jpeg
ORGANIZER;CN="Jim%20Cooley":MAILTO:jim.cooley@live.ca
END:VEVENT
BEGIN:VEVENT
DTSTART;TZID=America/Vancouver:20240624T120000
DTEND;TZID=America/Vancouver:20240624T160000
DTSTAMP:20260424T074225
CREATED:20240624T180021Z
LAST-MODIFIED:20240624T180029Z
UID:2760-1719230400-1719244800@www.gameonsports.bar
SUMMARY:Monday Special Feature
DESCRIPTION:Fresh Nova Scotia Lobster Roll\nwith soup\, salad or fries $19.99 \nBowl of Chili with Cheese Toast $12.99 \nSoup of the Day: \nChicken Taco\nBeef Vegetable\nRoasted Cauliflower \nDrink Special: \nPints of Flagship IPA $6.00\nParalyzers $5.40
URL:https://www.gameonsports.bar/event/monday-special-feature-52/
LOCATION:Game On Sports Bar & Grill\, 3701 Dewolf Way\, Merritt\, BC\, V1K 1C4\, Canada
ATTACH;FMTTYPE=image/jpeg:https://www.gameonsports.bar/wp-content/uploads/2024/06/Monday-June-24-2024-IG.jpeg
ORGANIZER;CN="Jim%20Cooley":MAILTO:jim.cooley@live.ca
END:VEVENT
BEGIN:VEVENT
DTSTART;TZID=America/Vancouver:20240625T120000
DTEND;TZID=America/Vancouver:20240625T160000
DTSTAMP:20260424T074225
CREATED:20240625T185943Z
LAST-MODIFIED:20240625T185943Z
UID:2763-1719316800-1719331200@www.gameonsports.bar
SUMMARY:Tuesday Special Feature
DESCRIPTION:Fresh Nova Scotia Lobster Roll\nwith fries\, or soup\, or salad $19.99 \nBBQ Pulled Brisket Poutine $16.99 \nSoup of the Day: \nCream of Brocolli\nBeef Veggie\nCabbage Roll\nPotato Bacon \nDrink Special: \nOK Springs 1516 $6.00\nLong Island Iced Tea $5.40
URL:https://www.gameonsports.bar/event/tuesday-special-feature-55/
LOCATION:Game On Sports Bar & Grill\, 3701 Dewolf Way\, Merritt\, BC\, V1K 1C4\, Canada
ATTACH;FMTTYPE=image/jpeg:https://www.gameonsports.bar/wp-content/uploads/2024/06/Tuesday-June-25-2024-IG.jpeg
ORGANIZER;CN="Jim%20Cooley":MAILTO:jim.cooley@live.ca
END:VEVENT
BEGIN:VEVENT
DTSTART;TZID=America/Vancouver:20240626T120000
DTEND;TZID=America/Vancouver:20240626T160000
DTSTAMP:20260424T074225
CREATED:20240626T190146Z
LAST-MODIFIED:20240626T190146Z
UID:2766-1719403200-1719417600@www.gameonsports.bar
SUMMARY:Wednesday Special Feature
DESCRIPTION:Lobster Grilled Cheese Sandwich\nwith soup\, salad or fries. $17.99 \nSoup of the Day: \nLobster Bisque\nCream of Broccoli\nCream of Mushroom\nBeef Vegetable \nDrink Special: \nPints of 1516 $6.00\nVodka Cranberry $5.40
URL:https://www.gameonsports.bar/event/wednesday-special-feature-53/
LOCATION:Game On Sports Bar & Grill\, 3701 Dewolf Way\, Merritt\, BC\, V1K 1C4\, Canada
ATTACH;FMTTYPE=image/jpeg:https://www.gameonsports.bar/wp-content/uploads/2024/06/Wednesday-June-26-2024-IG.jpeg
ORGANIZER;CN="Jim%20Cooley":MAILTO:jim.cooley@live.ca
END:VEVENT
BEGIN:VEVENT
DTSTART;TZID=America/Vancouver:20240627T120000
DTEND;TZID=America/Vancouver:20240627T160000
DTSTAMP:20260424T074225
CREATED:20240627T183941Z
LAST-MODIFIED:20240627T183941Z
UID:2769-1719489600-1719504000@www.gameonsports.bar
SUMMARY:Thursday Special Feature
DESCRIPTION:Seafood Chowder\nwith Garlic Toast $11.49 \nGrilled Philly Steak Wrap\nwith soup\, salad or fries $16.99 \nSoup of the Day: \nCream of Broccoli\nLobster Bisque\nPotato Bacon \nDrink Special: \nPints of Flagship IPA $6.00\nLong Island Icedtea $5.40
URL:https://www.gameonsports.bar/event/thursday-special-feature-58/
LOCATION:Game On Sports Bar & Grill\, 3701 Dewolf Way\, Merritt\, BC\, V1K 1C4\, Canada
ATTACH;FMTTYPE=image/jpeg:https://www.gameonsports.bar/wp-content/uploads/2024/06/Thursday-June-27-2024-IG.jpeg
ORGANIZER;CN="Jim%20Cooley":MAILTO:jim.cooley@live.ca
END:VEVENT
BEGIN:VEVENT
DTSTART;TZID=America/Vancouver:20240628T120000
DTEND;TZID=America/Vancouver:20240628T160000
DTSTAMP:20260424T074225
CREATED:20240628T181142Z
LAST-MODIFIED:20240628T181142Z
UID:2773-1719576000-1719590400@www.gameonsports.bar
SUMMARY:Friday Special Feature
DESCRIPTION:Lobster Seafood Chowder\nwith Garlic Toast $11.49 \nCrispy Chicken Club Panini\nwith soup\, salad or fries $16.99 \nSoup of the Day: \nBeef Vegetable\nCream of Mushroom\nCorned Beef & Cabbage \nDrink Special: \nPints of 1516 $6.00\nVodka Cranberry $5.40
URL:https://www.gameonsports.bar/event/friday-special-feature-60/
LOCATION:Game On Sports Bar & Grill\, 3701 Dewolf Way\, Merritt\, BC\, V1K 1C4\, Canada
ATTACH;FMTTYPE=image/jpeg:https://www.gameonsports.bar/wp-content/uploads/2024/06/Friday-June-28-2024-IG.jpeg
ORGANIZER;CN="Jim%20Cooley":MAILTO:jim.cooley@live.ca
END:VEVENT
BEGIN:VEVENT
DTSTART;TZID=America/Vancouver:20240702T120000
DTEND;TZID=America/Vancouver:20240702T160000
DTSTAMP:20260424T074225
CREATED:20240702T184731Z
LAST-MODIFIED:20240702T184743Z
UID:2776-1719921600-1719936000@www.gameonsports.bar
SUMMARY:Tuesday Special Feature
DESCRIPTION:Mushroom & Swiss Prime Rib\nBeef Dip with fries\, soup\, or salad $18.99 \nPork Bites $16.99 \nSoup of the Day: \nCream Of Mushroom\nCorned Beef & Cabbage\nCream of Broccolli\nChicken Taco \nDrink Special: \nPints of Lions Gate Lager $6.00\nMalibu Pineapple $5.40
URL:https://www.gameonsports.bar/event/tuesday-special-feature-56/
LOCATION:Game On Sports Bar & Grill\, 3701 Dewolf Way\, Merritt\, BC\, V1K 1C4\, Canada
ATTACH;FMTTYPE=image/jpeg:https://www.gameonsports.bar/wp-content/uploads/2024/07/Tuesday-July-2-2024-IG.jpeg
ORGANIZER;CN="Jim%20Cooley":MAILTO:jim.cooley@live.ca
END:VEVENT
BEGIN:VEVENT
DTSTART;TZID=America/Vancouver:20240703T120000
DTEND;TZID=America/Vancouver:20240703T160000
DTSTAMP:20260424T074225
CREATED:20240703T183014Z
LAST-MODIFIED:20240703T183437Z
UID:2779-1720008000-1720022400@www.gameonsports.bar
SUMMARY:Wednesday Special Feature
DESCRIPTION:Crispy Chicken Club Panini\nwith soup\, salad or fries. $16.99 \nSoup of the Day: \nChicken Vegetable\nCream of Broccoli\nPhilly Beef\nChicken Sausage Corn Chowder \nDrink Special: \nPints of 1516 $6.00\nVodka Cranberry $5.40
URL:https://www.gameonsports.bar/event/wednesday-special-feature-54/
LOCATION:Game On Sports Bar & Grill\, 3701 Dewolf Way\, Merritt\, BC\, V1K 1C4\, Canada
ATTACH;FMTTYPE=image/jpeg:https://www.gameonsports.bar/wp-content/uploads/2024/07/Wednesday-July-3-2024-IG.jpeg
ORGANIZER;CN="Jim%20Cooley":MAILTO:jim.cooley@live.ca
END:VEVENT
BEGIN:VEVENT
DTSTART;TZID=America/Vancouver:20240704T120000
DTEND;TZID=America/Vancouver:20240704T160000
DTSTAMP:20260424T074225
CREATED:20240704T183137Z
LAST-MODIFIED:20240704T183137Z
UID:2782-1720094400-1720108800@www.gameonsports.bar
SUMMARY:Thursday Special Feature
DESCRIPTION:Baked French Onion\nwith Garlic Toast $11.99 \nCrispy Chicken Mango Tacos $16.99 \nDeep Fried Pickles $8.99 \nSoup of the Day: \nCorned Beef Cabbage\nCream of Mushroom\nChicken Vegetable \nDrink Special: \nPints of Lions Gate Lager $6.00\nLong Island Icedtea $5.40
URL:https://www.gameonsports.bar/event/thursday-special-feature-59/
LOCATION:Game On Sports Bar & Grill\, 3701 Dewolf Way\, Merritt\, BC\, V1K 1C4\, Canada
ATTACH;FMTTYPE=image/jpeg:https://www.gameonsports.bar/wp-content/uploads/2024/07/Thursday-July-4-2024-IG.jpeg
ORGANIZER;CN="Jim%20Cooley":MAILTO:jim.cooley@live.ca
END:VEVENT
BEGIN:VEVENT
DTSTART;TZID=America/Vancouver:20240705T120000
DTEND;TZID=America/Vancouver:20240705T160000
DTSTAMP:20260424T074225
CREATED:20240705T190208Z
LAST-MODIFIED:20240705T190208Z
UID:2785-1720180800-1720195200@www.gameonsports.bar
SUMMARY:Friday Special Feature
DESCRIPTION:Lobster Roll\nwith soup\, salad or fries $19.95 \nPork Bites $14.99 \nSoup of the Day: \nLobster Bisque\nChicken Taco\nCream of Broccoli\nTomato & Bacon \nDrink Special: \nBottles of Coors Original $5.15\n6oz Sangria $7.00
URL:https://www.gameonsports.bar/event/friday-special-feature-61/
LOCATION:Game On Sports Bar & Grill\, 3701 Dewolf Way\, Merritt\, BC\, V1K 1C4\, Canada
ATTACH;FMTTYPE=image/jpeg:https://www.gameonsports.bar/wp-content/uploads/2024/07/Friday-July-5-2024-IG.jpeg
ORGANIZER;CN="Jim%20Cooley":MAILTO:jim.cooley@live.ca
END:VEVENT
BEGIN:VEVENT
DTSTART;TZID=America/Vancouver:20240706T120000
DTEND;TZID=America/Vancouver:20240706T160000
DTSTAMP:20260424T074225
CREATED:20240706T185615Z
LAST-MODIFIED:20240706T191154Z
UID:2789-1720267200-1720281600@www.gameonsports.bar
SUMMARY:Saturday Special Feature
DESCRIPTION:Spinach & Artichoke Dip\nwith Tortilla Chips $14.99 \nBBQ Chicken Summer Caesar Salad with Garlic Toast $22.95 \nBaked French Onion\nwith Garlic Toast $1195 \nSoup of the Day: \nCream of Broccoli\nChicken Sausage Corn Chowder \nDrink Special: \nPints of Rickards Red $6.00\nMargarita’s $6.00
URL:https://www.gameonsports.bar/event/saturday-special-feature-55/
LOCATION:Game On Sports Bar & Grill\, 3701 Dewolf Way\, Merritt\, BC\, V1K 1C4\, Canada
ATTACH;FMTTYPE=image/jpeg:https://www.gameonsports.bar/wp-content/uploads/2024/07/Saturday-July-6-2024-IG.jpeg
ORGANIZER;CN="Jim%20Cooley":MAILTO:jim.cooley@live.ca
END:VEVENT
BEGIN:VEVENT
DTSTART;TZID=America/Vancouver:20240708T120000
DTEND;TZID=America/Vancouver:20240708T160000
DTSTAMP:20260424T074225
CREATED:20240708T181131Z
LAST-MODIFIED:20240708T181131Z
UID:2792-1720440000-1720454400@www.gameonsports.bar
SUMMARY:Monday Special Feature
DESCRIPTION:Crispy Cajun Chicken Burger\nwith Mango Salsa with soup\, salad or fries $16.99 \nSoup of the Day: \nChicken Vegetable\nCream of Mushroom\nLobster Bisque\nCorned Beef & Cabbage \nDrink Special: \nPints of Flagship IPA $6.00\nVodKa Cranberry $5.40
URL:https://www.gameonsports.bar/event/monday-special-feature-53/
LOCATION:Game On Sports Bar & Grill\, 3701 Dewolf Way\, Merritt\, BC\, V1K 1C4\, Canada
ATTACH;FMTTYPE=image/jpeg:https://www.gameonsports.bar/wp-content/uploads/2024/07/Monday-July-8-2024-IG.jpeg
ORGANIZER;CN="Jim%20Cooley":MAILTO:jim.cooley@live.ca
END:VEVENT
BEGIN:VEVENT
DTSTART;TZID=America/Vancouver:20240709T120000
DTEND;TZID=America/Vancouver:20240709T160000
DTSTAMP:20260424T074225
CREATED:20240709T183652Z
LAST-MODIFIED:20240709T183652Z
UID:2795-1720526400-1720540800@www.gameonsports.bar
SUMMARY:Tuesday Special Feature
DESCRIPTION:BBQ Steak Skewer Caesar Salad\n$17.99 \nBaked French Onion Soup $11.99 \nSoup of the Day: \nSpinach Mushroom Chicken\nPotato Bacon\nSplit Pea & Ham \nDrink Special: \nPints of 1516 $6.00
URL:https://www.gameonsports.bar/event/tuesday-special-feature-57/
LOCATION:Game On Sports Bar & Grill\, 3701 Dewolf Way\, Merritt\, BC\, V1K 1C4\, Canada
ATTACH;FMTTYPE=image/jpeg:https://www.gameonsports.bar/wp-content/uploads/2024/07/Tuesday-July-9-2024-IG.jpeg
ORGANIZER;CN="Jim%20Cooley":MAILTO:jim.cooley@live.ca
END:VEVENT
BEGIN:VEVENT
DTSTART;TZID=America/Vancouver:20240710T120000
DTEND;TZID=America/Vancouver:20240710T160000
DTSTAMP:20260424T074225
CREATED:20240710T190105Z
LAST-MODIFIED:20240710T190110Z
UID:2798-1720612800-1720627200@www.gameonsports.bar
SUMMARY:Wednesday Special Feature
DESCRIPTION:Mushroom Swiss Prime Rib Dip\nwith soup\, salad or fries. $17.99 \nDeep Fried Pickles. $8.99 \nSoup of the Day: \nPotato Bacon\nBorscht\nCabbage Roll \nDrink Special: \nPints of Sleeman Honey Brown $6.00\nMalibu Pineapple $5.40 \n 
URL:https://www.gameonsports.bar/event/wednesday-special-feature-55/
LOCATION:Game On Sports Bar & Grill\, 3701 Dewolf Way\, Merritt\, BC\, V1K 1C4\, Canada
ATTACH;FMTTYPE=image/jpeg:https://www.gameonsports.bar/wp-content/uploads/2024/07/Wednesday-July-10-2024-IG.jpeg
ORGANIZER;CN="Jim%20Cooley":MAILTO:jim.cooley@live.ca
END:VEVENT
BEGIN:VEVENT
DTSTART;TZID=America/Vancouver:20240711T120000
DTEND;TZID=America/Vancouver:20240711T160000
DTSTAMP:20260424T074225
CREATED:20240711T190834Z
LAST-MODIFIED:20240711T190834Z
UID:2801-1720699200-1720713600@www.gameonsports.bar
SUMMARY:Thursday Special Feature
DESCRIPTION:Philly Steak Wrap\nwith soup. salad or fries $16.99 \nSoup of the Day: \nChicken Vegetable\nSplit Pea & Ham\nSpinach Chicken & Mushroom\nCabbage Roll \nDrink Special: \nPints of Sleeman Honey Brown $6.00\nLong Island Iced Tea $5.40
URL:https://www.gameonsports.bar/event/thursday-special-feature-60/
LOCATION:Game On Sports Bar & Grill\, 3701 Dewolf Way\, Merritt\, BC\, V1K 1C4\, Canada
ATTACH;FMTTYPE=image/jpeg:https://www.gameonsports.bar/wp-content/uploads/2024/07/Thursday-July-11-2024-IG.jpeg
ORGANIZER;CN="Jim%20Cooley":MAILTO:jim.cooley@live.ca
END:VEVENT
BEGIN:VEVENT
DTSTART;TZID=America/Vancouver:20240712T120000
DTEND;TZID=America/Vancouver:20240712T160000
DTSTAMP:20260424T074225
CREATED:20240712T192019Z
LAST-MODIFIED:20240712T192019Z
UID:2804-1720785600-1720800000@www.gameonsports.bar
SUMMARY:Friday Special Feature
DESCRIPTION:Crispy Chicken Club Panini\nwith soup\, salad or fries $16.99 \nBaked French Onion with Garlic Toast\n$11.95 \nSoup of the Day: \nPotato Bacon\nBacon Cheeseburger\nChicken Sausage Corn Chowder \nDrink Special: \nPints of Lions Gate Lager $6.00\nGrowers Peach Cider $5.00
URL:https://www.gameonsports.bar/event/friday-special-feature-62/
LOCATION:Game On Sports Bar & Grill\, 3701 Dewolf Way\, Merritt\, BC\, V1K 1C4\, Canada
ATTACH;FMTTYPE=image/jpeg:https://www.gameonsports.bar/wp-content/uploads/2024/07/Friday-July-12-2024-IG.jpg
ORGANIZER;CN="Jim%20Cooley":MAILTO:jim.cooley@live.ca
END:VEVENT
BEGIN:VEVENT
DTSTART;TZID=America/Vancouver:20240713T120000
DTEND;TZID=America/Vancouver:20240713T160000
DTSTAMP:20260424T074225
CREATED:20240713T183159Z
LAST-MODIFIED:20240713T183159Z
UID:2807-1720872000-1720886400@www.gameonsports.bar
SUMMARY:Saturday Special Feature
DESCRIPTION:Mushroom Swiss Burger\nwith soup\, salad or fries $18.99 \n\n\n\nSoup of the Day:\n \nCabbage Roll\nSplit Pea & Ham\nCream of Mushroom\n \n\n\nDrink Special:\n \n\n\nPints of Flagship IPA $6.00\nGame On Cooler $5.50
URL:https://www.gameonsports.bar/event/saturday-special-feature-56/
LOCATION:Game On Sports Bar & Grill\, 3701 Dewolf Way\, Merritt\, BC\, V1K 1C4\, Canada
ATTACH;FMTTYPE=image/jpeg:https://www.gameonsports.bar/wp-content/uploads/2024/07/Saturday-July-13-2024-IG.jpg
ORGANIZER;CN="Jim%20Cooley":MAILTO:jim.cooley@live.ca
END:VEVENT
BEGIN:VEVENT
DTSTART;TZID=America/Vancouver:20240715T120000
DTEND;TZID=America/Vancouver:20240715T160000
DTSTAMP:20260424T074225
CREATED:20240715T184649Z
LAST-MODIFIED:20240715T184649Z
UID:2811-1721044800-1721059200@www.gameonsports.bar
SUMMARY:Monday Special Feature
DESCRIPTION:Bacon Ranch a Swiss Chicken Burger with soup\, salad or fries $18.99 \nSoup of the Day: \nPotato Bacon\nCream of Mushroom\nSplit Pea:& Ham\nSpinach Mushroom & Chicken \nDrink Special: \nBottles of Coors Original $5.15\nVodka Cranberry $5.40
URL:https://www.gameonsports.bar/event/monday-special-feature-54/
LOCATION:Game On Sports Bar & Grill\, 3701 Dewolf Way\, Merritt\, BC\, V1K 1C4\, Canada
ATTACH;FMTTYPE=image/jpeg:https://www.gameonsports.bar/wp-content/uploads/2024/07/Monday-July-15-2024-IG.jpg
ORGANIZER;CN="Jim%20Cooley":MAILTO:jim.cooley@live.ca
END:VEVENT
BEGIN:VEVENT
DTSTART;TZID=America/Vancouver:20240716T080000
DTEND;TZID=America/Vancouver:20240716T170000
DTSTAMP:20260424T074225
CREATED:20240716T183119Z
LAST-MODIFIED:20240716T183119Z
UID:2814-1721116800-1721149200@www.gameonsports.bar
SUMMARY:Tuesday Special Feature
DESCRIPTION:Western Burger\nwith soup\, salad or fries $18.99 \nSoup of the Day: \nBacon Cheeseburger\nChicken Veggie\nLobster Bisque \nDrink Special: \nBottes of Bud: $5.15
URL:https://www.gameonsports.bar/event/tuesday-special-feature-58/
LOCATION:Game On Sports Bar & Grill\, 3701 Dewolf Way\, Merritt\, BC\, V1K 1C4\, Canada
ATTACH;FMTTYPE=image/jpeg:https://www.gameonsports.bar/wp-content/uploads/2024/07/Tuesday-July-16-2024-IG.jpg
ORGANIZER;CN="Jim%20Cooley":MAILTO:jim.cooley@live.ca
END:VEVENT
BEGIN:VEVENT
DTSTART;TZID=America/Vancouver:20240717T120000
DTEND;TZID=America/Vancouver:20240717T160000
DTSTAMP:20260424T074225
CREATED:20240717T182305Z
LAST-MODIFIED:20240717T182311Z
UID:2817-1721217600-1721232000@www.gameonsports.bar
SUMMARY:Wednesday Special Feature
DESCRIPTION:BBQ Chicken Summer Ceasar Wrap\nwith soup\, salad\, or fries $18.99 \nSoup of the Day: \nCream of Tomato\nCream of Broccoli\nBorsht \nDrink Special: \nBlue Hawaiin $5.40\nBottles of Corona $5.15
URL:https://www.gameonsports.bar/event/wednesday-special-feature-56/
LOCATION:Game On Sports Bar & Grill\, 3701 Dewolf Way\, Merritt\, BC\, V1K 1C4\, Canada
ATTACH;FMTTYPE=image/jpeg:https://www.gameonsports.bar/wp-content/uploads/2024/07/Wednesday-July-17-2024-IG.jpg
ORGANIZER;CN="Jim%20Cooley":MAILTO:jim.cooley@live.ca
END:VEVENT
BEGIN:VEVENT
DTSTART;TZID=America/Vancouver:20240718T120000
DTEND;TZID=America/Vancouver:20240718T160000
DTSTAMP:20260424T074225
CREATED:20240718T190309Z
LAST-MODIFIED:20240718T190309Z
UID:2820-1721304000-1721318400@www.gameonsports.bar
SUMMARY:Thursday Special Feature
DESCRIPTION:Hot Meatloaf with Mushrooms\nwith soup\, salad or fries $17.99 \nSoup of the Day: \nLobster Bisque\nSpinach\, Chicken & Mushroom\nBorscht\nCream of Broccoli \nDrink Special: \nPints of Flagship IPA $6.00\nLongIsland Icedtea $5.40
URL:https://www.gameonsports.bar/event/thursday-special-feature-61/
LOCATION:Game On Sports Bar & Grill\, 3701 Dewolf Way\, Merritt\, BC\, V1K 1C4\, Canada
ATTACH;FMTTYPE=image/jpeg:https://www.gameonsports.bar/wp-content/uploads/2024/07/Thursday-July-18-2024-IG.jpg
ORGANIZER;CN="Jim%20Cooley":MAILTO:jim.cooley@live.ca
END:VEVENT
BEGIN:VEVENT
DTSTART;TZID=America/Vancouver:20240719T120000
DTEND;TZID=America/Vancouver:20240719T160000
DTSTAMP:20260424T074225
CREATED:20240719T184617Z
LAST-MODIFIED:20240719T184617Z
UID:2823-1721390400-1721404800@www.gameonsports.bar
SUMMARY:Friday Special Feature
DESCRIPTION:Crispy Chicken Mango Tacos $16.99 \nSoup of the Day: \nCream of Mushroom\nPhilly Beef\nChicken Vegetable\nLobster Bisque \nDrink Special: \nPints of Lions Gate Lager $6.00\nParalyzers $5.40
URL:https://www.gameonsports.bar/event/friday-special-feature-63/
LOCATION:Game On Sports Bar & Grill\, 3701 Dewolf Way\, Merritt\, BC\, V1K 1C4\, Canada
ATTACH;FMTTYPE=image/jpeg:https://www.gameonsports.bar/wp-content/uploads/2024/07/Friday-July-19-2024-IG.jpg
ORGANIZER;CN="Jim%20Cooley":MAILTO:jim.cooley@live.ca
END:VEVENT
END:VCALENDAR