BEGIN:VCALENDAR
VERSION:2.0
PRODID:-//Game On Sports Bar &amp; Grill - ECPv6.0.8//NONSGML v1.0//EN
CALSCALE:GREGORIAN
METHOD:PUBLISH
X-WR-CALNAME:Game On Sports Bar &amp; Grill
X-ORIGINAL-URL:https://www.gameonsports.bar
X-WR-CALDESC:Events for Game On Sports Bar &amp; Grill
REFRESH-INTERVAL;VALUE=DURATION:PT1H
X-Robots-Tag:noindex
X-PUBLISHED-TTL:PT1H
BEGIN:VTIMEZONE
TZID:America/Vancouver
BEGIN:DAYLIGHT
TZOFFSETFROM:-0800
TZOFFSETTO:-0700
TZNAME:PDT
DTSTART:20240310T100000
END:DAYLIGHT
BEGIN:STANDARD
TZOFFSETFROM:-0700
TZOFFSETTO:-0800
TZNAME:PST
DTSTART:20241103T090000
END:STANDARD
END:VTIMEZONE
BEGIN:VEVENT
DTSTART;TZID=America/Vancouver:20240329T120000
DTEND;TZID=America/Vancouver:20240329T160000
DTSTAMP:20260423T203641
CREATED:20240329T181716Z
LAST-MODIFIED:20240329T181716Z
UID:2535-1711713600-1711728000@www.gameonsports.bar
SUMMARY:Friday Special Feature
DESCRIPTION:Bowl of Chili with Cheese Toast $13.99 \nBeet & Quinoa Salad with Prawn\nSkewer $19.95 \nSoup of the Day: \nCream of Carrot\nCream of Mushroom\nCream of Cauliflower \nDrink Special: \nPints of Flagship IPA $6.00\nGame On Iced Tea $5.40
URL:https://www.gameonsports.bar/event/friday-special-feature-47/
LOCATION:Game On Sports Bar & Grill\, 3701 Dewolf Way\, Merritt\, BC\, V1K 1C4\, Canada
ATTACH;FMTTYPE=image/jpeg:https://www.gameonsports.bar/wp-content/uploads/2024/03/Friday-March-29-2024-IG.jpeg
ORGANIZER;CN="Jim%20Cooley":MAILTO:jim.cooley@live.ca
END:VEVENT
BEGIN:VEVENT
DTSTART;TZID=America/Vancouver:20240401T120000
DTEND;TZID=America/Vancouver:20240401T160000
DTSTAMP:20260423T203641
CREATED:20240401T184816Z
LAST-MODIFIED:20240401T184824Z
UID:2538-1711972800-1711987200@www.gameonsports.bar
SUMMARY:Monday Special Feature
DESCRIPTION:Crispy Chicken Spring Caesar\nWrap with soup\, salad or fries $16.99 \nSoup of the Day: \nRoasted Cauliflower\nBroccoli Cheddar\nSplit Pea & Ham\nChicken\, Ham Corn Chowder \nDrink Special: \nPints of Lions Gate Lager $6.00\nLong Island Iced tea $5.40
URL:https://www.gameonsports.bar/event/monday-special-feature-43/
LOCATION:Game On Sports Bar & Grill\, 3701 Dewolf Way\, Merritt\, BC\, V1K 1C4\, Canada
ATTACH;FMTTYPE=image/jpeg:https://www.gameonsports.bar/wp-content/uploads/2024/04/Monday-April-1-2024-IG.jpeg
ORGANIZER;CN="Jim%20Cooley":MAILTO:jim.cooley@live.ca
END:VEVENT
BEGIN:VEVENT
DTSTART;TZID=America/Vancouver:20240401T170000
DTEND;TZID=America/Vancouver:20240401T220000
DTSTAMP:20260423T203641
CREATED:20240401T230420Z
LAST-MODIFIED:20240401T230438Z
UID:2541-1711990800-1712008800@www.gameonsports.bar
SUMMARY:Monday Dinner Special
DESCRIPTION:Turkey Dinner with Mashed Potatos\, Veggies and Homemade Stuffing $19.95 (Stuffing contains nuts) \nSoup of the Day: \nRoasted Cauliflower\nBroccoli Cheddar\nSplit Pea & Ham\nChicken Ham Corn Chowder \nDrink Special: \nPints of Lions Gate Lager $6.00\nLong Island Icedtea $5.40
URL:https://www.gameonsports.bar/event/monday-dinner-special-2/
LOCATION:Game On Sports Bar & Grill\, 3701 Dewolf Way\, Merritt\, BC\, V1K 1C4\, Canada
ATTACH;FMTTYPE=image/jpeg:https://www.gameonsports.bar/wp-content/uploads/2024/04/Monday-Dinner-April-1-2024-IG.jpeg
ORGANIZER;CN="Jim%20Cooley":MAILTO:jim.cooley@live.ca
END:VEVENT
BEGIN:VEVENT
DTSTART;TZID=America/Vancouver:20240402T120000
DTEND;TZID=America/Vancouver:20240402T160000
DTSTAMP:20260423T203641
CREATED:20240402T185353Z
LAST-MODIFIED:20240402T185353Z
UID:2544-1712059200-1712073600@www.gameonsports.bar
SUMMARY:Tuesday Special Feature
DESCRIPTION:Hot Turkey Sandwich\nwith soup\, salad or fries. $16.99 \nSoup of the Day: \nSplit Pea & Ham\nPhilly Beef\nBroccoli Cheddar\nBeef Barley \nDrink Special: \nPints of Seasonal Ale $6.00\nParalyzers $5.40
URL:https://www.gameonsports.bar/event/tuesday-special-feature-45/
LOCATION:Game On Sports Bar & Grill\, 3701 Dewolf Way\, Merritt\, BC\, V1K 1C4\, Canada
ATTACH;FMTTYPE=image/jpeg:https://www.gameonsports.bar/wp-content/uploads/2024/04/Tuesday-April-2-2024-IG.jpeg
ORGANIZER;CN="Jim%20Cooley":MAILTO:jim.cooley@live.ca
END:VEVENT
BEGIN:VEVENT
DTSTART;TZID=America/Vancouver:20240403T120000
DTEND;TZID=America/Vancouver:20240403T160000
DTSTAMP:20260423T203641
CREATED:20240403T190030Z
LAST-MODIFIED:20240403T190030Z
UID:2547-1712145600-1712160000@www.gameonsports.bar
SUMMARY:Wednesday Special Feature
DESCRIPTION:Mushroom Swiss Prime Rib Dip\nwith soup\, salad or fries. $17.99 \nChili Cheese Fries. $14.99 \nSoup of the Day: \nCream of Carrot\nPhilly Beef\nChicken Ham Chowder \nDrink Special: \nPints of Seasonal Ale $6.00\nMalibu Pineapple $5.40
URL:https://www.gameonsports.bar/event/wednesday-special-feature-43/
LOCATION:Game On Sports Bar & Grill\, 3701 Dewolf Way\, Merritt\, BC\, V1K 1C4\, Canada
ATTACH;FMTTYPE=image/jpeg:https://www.gameonsports.bar/wp-content/uploads/2024/04/Wednesday-April-3-2024-IG.jpeg
ORGANIZER;CN="Jim%20Cooley":MAILTO:jim.cooley@live.ca
END:VEVENT
BEGIN:VEVENT
DTSTART;TZID=America/Vancouver:20240404T120000
DTEND;TZID=America/Vancouver:20240404T160000
DTSTAMP:20260423T203641
CREATED:20240404T182916Z
LAST-MODIFIED:20240404T182916Z
UID:2550-1712232000-1712246400@www.gameonsports.bar
SUMMARY:Thursday Special Feature
DESCRIPTION:Hot Meatloaf with Mushrooms & Gravy\nwith soup\, salad or fries $17.99 \nSoup of the Day: \nTurkey & Sausage Gumbo\nCabbage Roll\nCream of Mushroom \nDrink Special: \nPints of Lions Gate Lager $6.00\nVodka Cranberry $5.40
URL:https://www.gameonsports.bar/event/thursday-special-feature-47/
LOCATION:Game On Sports Bar & Grill\, 3701 Dewolf Way\, Merritt\, BC\, V1K 1C4\, Canada
ATTACH;FMTTYPE=image/jpeg:https://www.gameonsports.bar/wp-content/uploads/2024/04/Thursday-April-4-2024-IG.jpeg
ORGANIZER;CN="Jim%20Cooley":MAILTO:jim.cooley@live.ca
END:VEVENT
BEGIN:VEVENT
DTSTART;TZID=America/Vancouver:20240405T120000
DTEND;TZID=America/Vancouver:20240405T160000
DTSTAMP:20260423T203641
CREATED:20240405T190315Z
LAST-MODIFIED:20240405T190315Z
UID:2553-1712318400-1712332800@www.gameonsports.bar
SUMMARY:Friday Special Feature
DESCRIPTION:Cheese & Bacon Stuffed Chicken Club Panini\nwith soup\, salad or fries $16.99 \nSoup of the Day: \nRoasted Cauliflower\nBeef Vegetable\nChicken & Ham Chowder\nTurkey & Sausage Gumbo \nDrink Special: \nPints of Seasonal Ale $6.00\nParalyzers $5.40
URL:https://www.gameonsports.bar/event/friday-special-feature-48/
LOCATION:Game On Sports Bar & Grill\, 3701 Dewolf Way\, Merritt\, BC\, V1K 1C4\, Canada
ATTACH;FMTTYPE=image/jpeg:https://www.gameonsports.bar/wp-content/uploads/2024/04/Friday-April-5-2024-IG.jpeg
ORGANIZER;CN="Jim%20Cooley":MAILTO:jim.cooley@live.ca
END:VEVENT
BEGIN:VEVENT
DTSTART;TZID=America/Vancouver:20240406T120000
DTEND;TZID=America/Vancouver:20240406T160000
DTSTAMP:20260423T203641
CREATED:20240406T185503Z
LAST-MODIFIED:20240406T185503Z
UID:2557-1712404800-1712419200@www.gameonsports.bar
SUMMARY:Saturday Special Feature
DESCRIPTION:Mushroom Swiss Burger\nwith soup\, salad or fries $17.99 \nSoup of the Day: \nTurkey & Sausage Gumbo\nPotato Bacon\nBeef Barley \nDrink Special: \nBottle of Bud Light $5.15\nGrowers Dry Apple Cider $5.00
URL:https://www.gameonsports.bar/event/saturday-special-feature-45/
LOCATION:Game On Sports Bar & Grill\, 3701 Dewolf Way\, Merritt\, BC\, V1K 1C4\, Canada
ATTACH;FMTTYPE=image/jpeg:https://www.gameonsports.bar/wp-content/uploads/2024/04/Saturday-April-6-2024-IG.jpeg
ORGANIZER;CN="Jim%20Cooley":MAILTO:jim.cooley@live.ca
END:VEVENT
BEGIN:VEVENT
DTSTART;TZID=America/Vancouver:20240408T120000
DTEND;TZID=America/Vancouver:20240408T160000
DTSTAMP:20260423T203641
CREATED:20240408T185503Z
LAST-MODIFIED:20240408T185503Z
UID:2560-1712577600-1712592000@www.gameonsports.bar
SUMMARY:Monday Special Feature
DESCRIPTION:Grilled Prime Rib Philly Wrap\nwith soup\, salad or fries $17.99 \nSoup of the Day: \nTurkey Sausage Gumbo\nCheeseburger\nPhilly Beef \nDrink Special: \nBottles of Canadian $5.15\nSmirnoff Ice $5.00
URL:https://www.gameonsports.bar/event/monday-special-feature-44/
LOCATION:Game On Sports Bar & Grill\, 3701 Dewolf Way\, Merritt\, BC\, V1K 1C4\, Canada
ATTACH;FMTTYPE=image/jpeg:https://www.gameonsports.bar/wp-content/uploads/2024/04/Monday-April-8-2024-IG.jpeg
ORGANIZER;CN="Jim%20Cooley":MAILTO:jim.cooley@live.ca
END:VEVENT
BEGIN:VEVENT
DTSTART;TZID=America/Vancouver:20240409T120000
DTEND;TZID=America/Vancouver:20240409T160000
DTSTAMP:20260423T203641
CREATED:20240409T175002Z
LAST-MODIFIED:20240409T175002Z
UID:2563-1712664000-1712678400@www.gameonsports.bar
SUMMARY:Tuesday Special Feature
DESCRIPTION:Mushroom Swiss Prime Rib Dip\nwith soup\, salad or fries. $17.99 \nSoup of the Day: \nCheese Burger\nCabbage Roll\nChicken Ham Chowder \nDrink Special: \nPints of Seasonal Ale $6.00\nParalyzers $5.40
URL:https://www.gameonsports.bar/event/tuesday-special-feature-46/
LOCATION:Game On Sports Bar & Grill\, 3701 Dewolf Way\, Merritt\, BC\, V1K 1C4\, Canada
ATTACH;FMTTYPE=image/jpeg:https://www.gameonsports.bar/wp-content/uploads/2024/04/Tuesday-April-9-2024-IG.jpeg
ORGANIZER;CN="Jim%20Cooley":MAILTO:jim.cooley@live.ca
END:VEVENT
BEGIN:VEVENT
DTSTART;TZID=America/Vancouver:20240410T120000
DTEND;TZID=America/Vancouver:20240410T160000
DTSTAMP:20260423T203641
CREATED:20240410T181748Z
LAST-MODIFIED:20240410T181748Z
UID:2566-1712750400-1712764800@www.gameonsports.bar
SUMMARY:Wednesday Special Feature
DESCRIPTION:Western Burger\nwith soup\, salad or fries. $18.99 \nSoup of the Day: \nCabbage Roll\nSplit Pea & Ham\nLemon Potato & Bacon\nPhilly Beef \nDrink Special: \nPints of Seasonal Ale $6.00\nBrown Cow $5.40
URL:https://www.gameonsports.bar/event/wednesday-special-feature-44/
LOCATION:Game On Sports Bar & Grill\, 3701 Dewolf Way\, Merritt\, BC\, V1K 1C4\, Canada
ATTACH;FMTTYPE=image/jpeg:https://www.gameonsports.bar/wp-content/uploads/2024/04/Wednesday-April-10-2024-IG.jpeg
ORGANIZER;CN="Jim%20Cooley":MAILTO:jim.cooley@live.ca
END:VEVENT
BEGIN:VEVENT
DTSTART;TZID=America/Vancouver:20240411T120000
DTEND;TZID=America/Vancouver:20240411T160000
DTSTAMP:20260423T203641
CREATED:20240411T185350Z
LAST-MODIFIED:20240411T185350Z
UID:2569-1712836800-1712851200@www.gameonsports.bar
SUMMARY:Thursday Special Feature
DESCRIPTION:Crispy Chicken & Bacon Wrap\nwith soup\, salad or fries $16.99 \nSoup of the Day: \nRoasted Cauliflower\nBeef Vegetable\nCream of Mushroom \nDrink Special: \nPints of Seasonal Ale $ 5.25\nParalyzers $5.40
URL:https://www.gameonsports.bar/event/thursday-special-feature-48/
LOCATION:Game On Sports Bar & Grill\, 3701 Dewolf Way\, Merritt\, BC\, V1K 1C4\, Canada
ATTACH;FMTTYPE=image/jpeg:https://www.gameonsports.bar/wp-content/uploads/2024/04/Thursday-April-11-2024-IG.jpeg
ORGANIZER;CN="Jim%20Cooley":MAILTO:jim.cooley@live.ca
END:VEVENT
BEGIN:VEVENT
DTSTART;TZID=America/Vancouver:20240412T120000
DTEND;TZID=America/Vancouver:20240412T160000
DTSTAMP:20260423T203641
CREATED:20240412T175345Z
LAST-MODIFIED:20240412T175345Z
UID:2572-1712923200-1712937600@www.gameonsports.bar
SUMMARY:Friday Special Feature
DESCRIPTION:Greek Pasta Salad with Pita Bread $14.99\nAdd Chicken or Prawns  $21.99 \nSoup of the Day: \nTurkey & Sausage Gumbo\nBeef Vegetable\nChicken Sausage Corn Chowder \nDrink Special: \nPints of Seasonal Ale $5.00\nLong Island Icedtea $5.40
URL:https://www.gameonsports.bar/event/friday-special-feature-49/
LOCATION:Game On Sports Bar & Grill\, 3701 Dewolf Way\, Merritt\, BC\, V1K 1C4\, Canada
ATTACH;FMTTYPE=image/jpeg:https://www.gameonsports.bar/wp-content/uploads/2024/04/Friday-April-12-2024-IG.jpeg
ORGANIZER;CN="Jim%20Cooley":MAILTO:jim.cooley@live.ca
END:VEVENT
BEGIN:VEVENT
DTSTART;TZID=America/Vancouver:20240413T120000
DTEND;TZID=America/Vancouver:20240413T160000
DTSTAMP:20260423T203641
CREATED:20240413T185800Z
LAST-MODIFIED:20240413T185800Z
UID:2575-1713009600-1713024000@www.gameonsports.bar
SUMMARY:Saturday Special Feature
DESCRIPTION:Chipotle Swiss & Bacon Chicken Burger\nwith soup\, salad or fries $16.99 \nSoup of the Day: \nCabbage Roll\nBroccoli Cheddar\nCheesburger\nSplit Pea & Ham \nDrink Special: \nPints of Seasonal Ale $5.25\nGrowers Dry Apple $5.00
URL:https://www.gameonsports.bar/event/saturday-special-feature-46/
LOCATION:Game On Sports Bar & Grill\, 3701 Dewolf Way\, Merritt\, BC\, V1K 1C4\, Canada
ATTACH;FMTTYPE=image/jpeg:https://www.gameonsports.bar/wp-content/uploads/2024/04/Saturday-April-13-2024-IG.jpeg
ORGANIZER;CN="Jim%20Cooley":MAILTO:jim.cooley@live.ca
END:VEVENT
BEGIN:VEVENT
DTSTART;TZID=America/Vancouver:20240415T120000
DTEND;TZID=America/Vancouver:20240415T160000
DTSTAMP:20260423T203641
CREATED:20240415T180815Z
LAST-MODIFIED:20240415T180924Z
UID:2579-1713182400-1713196800@www.gameonsports.bar
SUMMARY:Monday Special Feature
DESCRIPTION:BLTC Sandwich\nwith soup\, salad or fries $14.99 \nSoup of the Day: \nCabbage Roll\nCheeseburger\nPotato Bacon \nDrink Special: \nParalyzers $5.40\nPints of Seasonal Ale $5.25
URL:https://www.gameonsports.bar/event/monday-special-feature-45/
LOCATION:Game On Sports Bar & Grill\, 3701 Dewolf Way\, Merritt\, BC\, V1K 1C4\, Canada
ATTACH;FMTTYPE=image/jpeg:https://www.gameonsports.bar/wp-content/uploads/2024/04/Monday-April-15-2024-IG.jpeg
ORGANIZER;CN="Jim%20Cooley":MAILTO:jim.cooley@live.ca
END:VEVENT
BEGIN:VEVENT
DTSTART;TZID=America/Vancouver:20240416T120000
DTEND;TZID=America/Vancouver:20240416T160000
DTSTAMP:20260423T203641
CREATED:20240416T181554Z
LAST-MODIFIED:20240416T181629Z
UID:2582-1713268800-1713283200@www.gameonsports.bar
SUMMARY:Tuesday Special Feature
DESCRIPTION:Chili Cheese Fries $14.99 \nSoup of the Day: \nCream of Mushroom\nBeef Vegetable\nChicken Ham Corn Chowder \nDrink Special: \nPints of Seasonal Ale $5.25\nBrown Cows $5.40
URL:https://www.gameonsports.bar/event/tuesday-special-feature-47/
LOCATION:Game On Sports Bar & Grill\, 3701 Dewolf Way\, Merritt\, BC\, V1K 1C4\, Canada
ATTACH;FMTTYPE=image/jpeg:https://www.gameonsports.bar/wp-content/uploads/2024/04/Tuesday-April-16-2024-IG.jpeg
ORGANIZER;CN="Jim%20Cooley":MAILTO:jim.cooley@live.ca
END:VEVENT
BEGIN:VEVENT
DTSTART;TZID=America/Vancouver:20240417T120000
DTEND;TZID=America/Vancouver:20240417T160000
DTSTAMP:20260423T203641
CREATED:20240417T181515Z
LAST-MODIFIED:20240417T181515Z
UID:2585-1713355200-1713369600@www.gameonsports.bar
SUMMARY:Wednesday Special Feature
DESCRIPTION:Chicken Clubhouse Panini\nwith soup\, salad or fries $16.99 \nSoup of the Day: \nCream of Carrot\nBroccoli Cheddar\nCabbage Roll \nDrink Special: \nPints of Seasonal Ale $5.25\nVodka Cranberry $5.40
URL:https://www.gameonsports.bar/event/wednesday-special-feature-45/
LOCATION:Game On Sports Bar & Grill\, 3701 Dewolf Way\, Merritt\, BC\, V1K 1C4\, Canada
ATTACH;FMTTYPE=image/jpeg:https://www.gameonsports.bar/wp-content/uploads/2024/04/Wednesday-April-17-2024-IG.jpeg
ORGANIZER;CN="Jim%20Cooley":MAILTO:jim.cooley@live.ca
END:VEVENT
BEGIN:VEVENT
DTSTART;TZID=America/Vancouver:20240418T120000
DTEND;TZID=America/Vancouver:20240418T160000
DTSTAMP:20260423T203641
CREATED:20240418T183106Z
LAST-MODIFIED:20240418T183106Z
UID:2588-1713441600-1713456000@www.gameonsports.bar
SUMMARY:Thursday Special Feature
DESCRIPTION:Mushroom Swiss Burger\nwith soup\, salad or fries $17.99 \nSoup of the Day: \nCabbage Roll\nTurkey & Sausage Gumbo\nSplit Pea &Ham \nDrink Special: \nPints of Seasonal Ale $5.25\nParalyzers $5.40
URL:https://www.gameonsports.bar/event/thursday-special-feature-49/
LOCATION:Game On Sports Bar & Grill\, 3701 Dewolf Way\, Merritt\, BC\, V1K 1C4\, Canada
ATTACH;FMTTYPE=image/jpeg:https://www.gameonsports.bar/wp-content/uploads/2024/04/Thursday-April-18-2024-IG.jpeg
ORGANIZER;CN="Jim%20Cooley":MAILTO:jim.cooley@live.ca
END:VEVENT
BEGIN:VEVENT
DTSTART;TZID=America/Vancouver:20240419T120000
DTEND;TZID=America/Vancouver:20240419T160000
DTSTAMP:20260423T203641
CREATED:20240419T182741Z
LAST-MODIFIED:20240419T182801Z
UID:2591-1713528000-1713542400@www.gameonsports.bar
SUMMARY:Friday Special Feature
DESCRIPTION:Crispy Chicken Tacos\nwith Mango Salsa $16.99 \nBowl of Chili with Cheese Toast $13.99 \nSoup of the Day: \nBroccoli Cheddar\nBeef. Vegetable\nPhilly Beef \nDrink Special: \nPints of 1516 $6.00\nVodka Cranberry $5.40
URL:https://www.gameonsports.bar/event/friday-special-feature-50/
LOCATION:Game On Sports Bar & Grill\, 3701 Dewolf Way\, Merritt\, BC\, V1K 1C4\, Canada
ATTACH;FMTTYPE=image/jpeg:https://www.gameonsports.bar/wp-content/uploads/2024/04/Friday-April-19-2024-IG.jpeg
ORGANIZER;CN="Jim%20Cooley":MAILTO:jim.cooley@live.ca
END:VEVENT
BEGIN:VEVENT
DTSTART;TZID=America/Vancouver:20240422T120000
DTEND;TZID=America/Vancouver:20240422T160000
DTSTAMP:20260423T203641
CREATED:20240422T183556Z
LAST-MODIFIED:20240422T183556Z
UID:2594-1713787200-1713801600@www.gameonsports.bar
SUMMARY:Monday Special Feature
DESCRIPTION:Chili Cheeseburger\nwith soup\, salad or fries $16.99 \nBowl of Chili with Cheese Toast  $13.99 \nSoup of the Day: \nPhilly Beef\nRoasted Cauliflower & Bacon\nCream of Carrot\nCabbage Roll \nDrink Special: \nPints of 1516 $6.00\nGreyhounds $5.40
URL:https://www.gameonsports.bar/event/monday-special-feature-46/
LOCATION:Game On Sports Bar & Grill\, 3701 Dewolf Way\, Merritt\, BC\, V1K 1C4\, Canada
ATTACH;FMTTYPE=image/jpeg:https://www.gameonsports.bar/wp-content/uploads/2024/04/Monday-April-22-2024-IG.jpeg
ORGANIZER;CN="Jim%20Cooley":MAILTO:jim.cooley@live.ca
END:VEVENT
BEGIN:VEVENT
DTSTART;TZID=America/Vancouver:20240423T120000
DTEND;TZID=America/Vancouver:20240423T160000
DTSTAMP:20260423T203641
CREATED:20240423T184953Z
LAST-MODIFIED:20240423T184953Z
UID:2598-1713873600-1713888000@www.gameonsports.bar
SUMMARY:Tuesday Special Feature
DESCRIPTION:Pulled Park Sandwich\nwith soup\, salad or fries $17.99 \nSoup of the Day: \nCabbage Roll\nCream of Broccoli\nChicken Ham Corn Chowder \nDrink Special: \nPints of Sleeman Honey Brown $6.00\nVodka Cranberry $5.40
URL:https://www.gameonsports.bar/event/tuesday-special-feature-48/
LOCATION:Game On Sports Bar & Grill\, 3701 Dewolf Way\, Merritt\, BC\, V1K 1C4\, Canada
ATTACH;FMTTYPE=image/jpeg:https://www.gameonsports.bar/wp-content/uploads/2024/04/Tuesday-April-23-2024-IG.jpeg
ORGANIZER;CN="Jim%20Cooley":MAILTO:jim.cooley@live.ca
END:VEVENT
BEGIN:VEVENT
DTSTART;TZID=America/Vancouver:20240424T120000
DTEND;TZID=America/Vancouver:20240424T160000
DTSTAMP:20260423T203641
CREATED:20240424T182049Z
LAST-MODIFIED:20240424T182252Z
UID:2601-1713960000-1713974400@www.gameonsports.bar
SUMMARY:Wednesday Special Feature
DESCRIPTION:Grilled Cheese Bacon Tomato Sandwich $15.50 \nCubano Sandwich\nwith soup\, salad or fries $16.99 \nSoup of the Day: \nBeef Vegetable\nCream of Tomato\nChicken Ham Corn Chowder \nDrink Special: \nPints of 1516 $6.00\nMalibu Pineapple $5.40
URL:https://www.gameonsports.bar/event/wednesday-special-feature-46/
LOCATION:Game On Sports Bar & Grill\, 3701 Dewolf Way\, Merritt\, BC\, V1K 1C4\, Canada
ATTACH;FMTTYPE=image/jpeg:https://www.gameonsports.bar/wp-content/uploads/2024/04/Wednesday-April-24-2024-IG.jpeg
ORGANIZER;CN="Jim%20Cooley":MAILTO:jim.cooley@live.ca
END:VEVENT
BEGIN:VEVENT
DTSTART;TZID=America/Vancouver:20240425T120000
DTEND;TZID=America/Vancouver:20240425T160000
DTSTAMP:20260423T203641
CREATED:20240425T193218Z
LAST-MODIFIED:20240425T193218Z
UID:2604-1714046400-1714060800@www.gameonsports.bar
SUMMARY:Thursday Special Feature
DESCRIPTION:Western Burger\nwith soup\, salad or fries $18.99 \nSoup of the Day: \nTurkey Sausage Gumbo\nBeef Vegetable\nCream of Tomato\nPotato Bacon \nDrink Special: \nPints of Sleeman Honey Brown $6.00\nVodka Cranberry $5.40
URL:https://www.gameonsports.bar/event/thursday-special-feature-50/
LOCATION:Game On Sports Bar & Grill\, 3701 Dewolf Way\, Merritt\, BC\, V1K 1C4\, Canada
ATTACH;FMTTYPE=image/jpeg:https://www.gameonsports.bar/wp-content/uploads/2024/04/Thursday-April-25-2024-IG.jpeg
ORGANIZER;CN="Jim%20Cooley":MAILTO:jim.cooley@live.ca
END:VEVENT
BEGIN:VEVENT
DTSTART;TZID=America/Vancouver:20240426T120000
DTEND;TZID=America/Vancouver:20240426T160000
DTSTAMP:20260423T203641
CREATED:20240426T182231Z
LAST-MODIFIED:20240426T182231Z
UID:2607-1714132800-1714147200@www.gameonsports.bar
SUMMARY:Friday Special Feature
DESCRIPTION:Pulled Pork Poutine $14.99 \nSoup of the Day: \nBorscht\nBeef Vegetable\nCabbage Roll \nDrink Special: \nPints of Lions Gate Lager $6.00\nLong Island Iced Tea $5.40
URL:https://www.gameonsports.bar/event/friday-special-feature-51/
LOCATION:Game On Sports Bar & Grill\, 3701 Dewolf Way\, Merritt\, BC\, V1K 1C4\, Canada
ATTACH;FMTTYPE=image/jpeg:https://www.gameonsports.bar/wp-content/uploads/2024/04/Friday-April-26-2024-IG.jpeg
ORGANIZER;CN="Jim%20Cooley":MAILTO:jim.cooley@live.ca
END:VEVENT
BEGIN:VEVENT
DTSTART;TZID=America/Vancouver:20240427T120000
DTEND;TZID=America/Vancouver:20240427T160000
DTSTAMP:20260423T203641
CREATED:20240427T182912Z
LAST-MODIFIED:20240427T183939Z
UID:2610-1714219200-1714233600@www.gameonsports.bar
SUMMARY:Saturday Special Feature
DESCRIPTION:Spicy Beef Quesadilla $16.99 \nJalapeno Poppers $9.99 \nSoup of the Day: \nMushroom & Chicken\nCream of Carrot\nBeef Vegetable \nDrink Special: \nPints of Rickards Red $6.00\nParalyzers $5.40
URL:https://www.gameonsports.bar/event/saturday-special-feature-47/
LOCATION:Game On Sports Bar & Grill\, 3701 Dewolf Way\, Merritt\, BC\, V1K 1C4\, Canada
ATTACH;FMTTYPE=image/jpeg:https://www.gameonsports.bar/wp-content/uploads/2024/04/Saturday-April-27-2024-IG.jpeg
ORGANIZER;CN="Jim%20Cooley":MAILTO:jim.cooley@live.ca
END:VEVENT
BEGIN:VEVENT
DTSTART;TZID=America/Vancouver:20240429T120000
DTEND;TZID=America/Vancouver:20240429T160000
DTSTAMP:20260423T203641
CREATED:20240429T205349Z
LAST-MODIFIED:20240429T205358Z
UID:2613-1714392000-1714406400@www.gameonsports.bar
SUMMARY:Monday Special Feature
DESCRIPTION:Shrimp Tacos $17.99 \nJalapeno Poppers $9.99 \nDeep Fried Pickles 8.99 \nSoup of the Day: \nCream of Tomato\nTurkey Sausage Giumbo\nBroccoli Cheddar \nDrink Special: \nPints of Lions Gate Lager $6.00\nTwisted Tea $5.00
URL:https://www.gameonsports.bar/event/monday-special-feature-47/
LOCATION:Game On Sports Bar & Grill\, 3701 Dewolf Way\, Merritt\, BC\, V1K 1C4\, Canada
ATTACH;FMTTYPE=image/jpeg:https://www.gameonsports.bar/wp-content/uploads/2024/04/Monday-April-29-2024-IG.jpeg
ORGANIZER;CN="Jim%20Cooley":MAILTO:jim.cooley@live.ca
END:VEVENT
BEGIN:VEVENT
DTSTART;TZID=America/Vancouver:20240430T120000
DTEND;TZID=America/Vancouver:20240430T160000
DTSTAMP:20260423T203641
CREATED:20240430T190146Z
LAST-MODIFIED:20240430T190227Z
UID:2616-1714478400-1714492800@www.gameonsports.bar
SUMMARY:Tuesday Special Feature
DESCRIPTION:Pulled Pork Sandwich\nwith soup\, salad or fries $17.99 \nSoup of the Day: \nPotato Bacon\nCabbage Roll\nBeef Vegetable\nCream of Tomato \nDrink Special: \nPints of Ricards Red $6.00\nVodka Cran $5.40 \n 
URL:https://www.gameonsports.bar/event/tuesday-special-feature-49/
LOCATION:Game On Sports Bar & Grill\, 3701 Dewolf Way\, Merritt\, BC\, V1K 1C4\, Canada
ATTACH;FMTTYPE=image/jpeg:https://www.gameonsports.bar/wp-content/uploads/2024/04/Tuesday-April-30-2024-IG.jpeg
ORGANIZER;CN="Jim%20Cooley":MAILTO:jim.cooley@live.ca
END:VEVENT
BEGIN:VEVENT
DTSTART;TZID=America/Vancouver:20240501T120000
DTEND;TZID=America/Vancouver:20240501T160000
DTSTAMP:20260423T203641
CREATED:20240501T182156Z
LAST-MODIFIED:20240501T182209Z
UID:2620-1714564800-1714579200@www.gameonsports.bar
SUMMARY:Wednesday Special Feature
DESCRIPTION:Western Burger\nwith soup\, salad or fries. $17.99 \nSoup of the Day: \nCabbage Roll\nCream of Chicken & Mushroom\nBeef Vegetable \nDrink Special: \nPints of Sleeman Honey Brown $6.00\nParalyzers $5.40
URL:https://www.gameonsports.bar/event/wednesday-special-feature-47/
LOCATION:Game On Sports Bar & Grill\, 3701 Dewolf Way\, Merritt\, BC\, V1K 1C4\, Canada
ATTACH;FMTTYPE=image/jpeg:https://www.gameonsports.bar/wp-content/uploads/2024/05/Wednesday-May-1-2024-IG.jpeg
ORGANIZER;CN="Jim%20Cooley":MAILTO:jim.cooley@live.ca
END:VEVENT
BEGIN:VEVENT
DTSTART;TZID=America/Vancouver:20240502T120000
DTEND;TZID=America/Vancouver:20240502T160000
DTSTAMP:20260423T203641
CREATED:20240502T190258Z
LAST-MODIFIED:20240502T190336Z
UID:2623-1714651200-1714665600@www.gameonsports.bar
SUMMARY:Thursday Special Feature
DESCRIPTION:3 Beef Sliders with cheese\, pickles\,\ncaramelized onions and horseradish aioli with 2 deep fried pickles $11.99 \nSoup of the Day: \nCream of Tomato\nPotato Bacon\nBorscht\nBeef Vegetable \nDrink Special: \nBottles of Canadion $5.15\nParalyzers $5.40
URL:https://www.gameonsports.bar/event/thursday-special-feature-51/
LOCATION:Game On Sports Bar & Grill\, 3701 Dewolf Way\, Merritt\, BC\, V1K 1C4\, Canada
ATTACH;FMTTYPE=image/jpeg:https://www.gameonsports.bar/wp-content/uploads/2024/05/Thursday-May-2-2024-ig.jpeg
ORGANIZER;CN="Jim%20Cooley":MAILTO:jim.cooley@live.ca
END:VEVENT
BEGIN:VEVENT
DTSTART;TZID=America/Vancouver:20240503T120000
DTEND;TZID=America/Vancouver:20240503T160000
DTSTAMP:20260423T203641
CREATED:20240503T185344Z
LAST-MODIFIED:20240503T185344Z
UID:2626-1714737600-1714752000@www.gameonsports.bar
SUMMARY:Friday Special Feature
DESCRIPTION:Salmon Tartar Tacos with\nMango Salsa $19.95 \nSoup of the Day: \nTomato Bacon\nChicken & Ham Chowder\nSplit Pea & Ham\nCream of Broccoli \nDrink Special: \nPints of Lions Gate Lager $6.00\nGame On Icedtea $5.40
URL:https://www.gameonsports.bar/event/friday-special-feature-52/
LOCATION:Game On Sports Bar & Grill\, 3701 Dewolf Way\, Merritt\, BC\, V1K 1C4\, Canada
ATTACH;FMTTYPE=image/jpeg:https://www.gameonsports.bar/wp-content/uploads/2024/05/Friday-May-3-2024-IG.jpeg
ORGANIZER;CN="Jim%20Cooley":MAILTO:jim.cooley@live.ca
END:VEVENT
END:VCALENDAR