BEGIN:VCALENDAR
VERSION:2.0
PRODID:-//Game On Sports Bar &amp; Grill - ECPv6.0.8//NONSGML v1.0//EN
CALSCALE:GREGORIAN
METHOD:PUBLISH
X-WR-CALNAME:Game On Sports Bar &amp; Grill
X-ORIGINAL-URL:https://www.gameonsports.bar
X-WR-CALDESC:Events for Game On Sports Bar &amp; Grill
REFRESH-INTERVAL;VALUE=DURATION:PT1H
X-Robots-Tag:noindex
X-PUBLISHED-TTL:PT1H
BEGIN:VTIMEZONE
TZID:America/Vancouver
BEGIN:DAYLIGHT
TZOFFSETFROM:-0800
TZOFFSETTO:-0700
TZNAME:PDT
DTSTART:20240310T100000
END:DAYLIGHT
BEGIN:STANDARD
TZOFFSETFROM:-0700
TZOFFSETTO:-0800
TZNAME:PST
DTSTART:20241103T090000
END:STANDARD
END:VTIMEZONE
BEGIN:VEVENT
DTSTART;TZID=America/Vancouver:20240302T120000
DTEND;TZID=America/Vancouver:20240302T160000
DTSTAMP:20260423T170155
CREATED:20240302T200305Z
LAST-MODIFIED:20240302T200305Z
UID:2471-1709380800-1709395200@www.gameonsports.bar
SUMMARY:Saturday Special Feature
DESCRIPTION:Chipotle Beef Panini\nwith soup\, salad or fries $16.99 \nSoup of the Day: \nCooley Burger\nCream of Mushroom\nCabbage Roll \nDrink Special: \nPints of Rickards Red $6.00\nBailey’s & Coffee
URL:https://www.gameonsports.bar/event/saturday-special-feature-42/
LOCATION:Game On Sports Bar & Grill\, 3701 Dewolf Way\, Merritt\, BC\, V1K 1C4\, Canada
ATTACH;FMTTYPE=image/jpeg:https://www.gameonsports.bar/wp-content/uploads/2024/03/Saturday-March-2-2024-IG.jpeg
ORGANIZER;CN="Jim%20Cooley":MAILTO:jim.cooley@live.ca
END:VEVENT
BEGIN:VEVENT
DTSTART;TZID=America/Vancouver:20240304T120000
DTEND;TZID=America/Vancouver:20240304T160000
DTSTAMP:20260423T170155
CREATED:20240304T193306Z
LAST-MODIFIED:20240304T193602Z
UID:2474-1709553600-1709568000@www.gameonsports.bar
SUMMARY:Monday Special Feature
DESCRIPTION:Flamethrower Burger\nwith soup\, salad or fries $17.99 \nSoup of the Day: \nTomato Bacon\nCabbage Roll\nCooley Burger \nDrink Special: \nBottles of Kokanee $5.15\nLong Island Iced Tea $5.40
URL:https://www.gameonsports.bar/event/monday-special-feature-40/
LOCATION:Game On Sports Bar & Grill\, 3701 Dewolf Way\, Merritt\, BC\, V1K 1C4\, Canada
ATTACH;FMTTYPE=image/jpeg:https://www.gameonsports.bar/wp-content/uploads/2024/03/Monday-March-4-2024-IG.jpeg
ORGANIZER;CN="Jim%20Cooley":MAILTO:jim.cooley@live.ca
END:VEVENT
BEGIN:VEVENT
DTSTART;TZID=America/Vancouver:20240305T120000
DTEND;TZID=America/Vancouver:20240305T160000
DTSTAMP:20260423T170155
CREATED:20240305T200900Z
LAST-MODIFIED:20240305T201526Z
UID:2478-1709640000-1709654400@www.gameonsports.bar
SUMMARY:Tuesday Special Feature
DESCRIPTION:2pc Stuffed Yorkies $14.99\nBaked French Onion\nwith Garlic Toast $11.99 \nSoup of the Day: \nChicken Sausage Gumbo\nChicken Ham Chowder\nCooley Burger \nDrink Special: \nPints of Seasonal Ale $6.00\nParalyzers $5.40
URL:https://www.gameonsports.bar/event/tuesday-special-feature-41/
LOCATION:Game On Sports Bar & Grill\, 3701 Dewolf Way\, Merritt\, BC\, V1K 1C4\, Canada
ATTACH;FMTTYPE=image/jpeg:https://www.gameonsports.bar/wp-content/uploads/2024/03/Tuesday-March-5-2024-IG.jpeg
ORGANIZER;CN="Jim%20Cooley":MAILTO:jim.cooley@live.ca
END:VEVENT
BEGIN:VEVENT
DTSTART;TZID=America/Vancouver:20240306T120000
DTEND;TZID=America/Vancouver:20240306T160000
DTSTAMP:20260423T170155
CREATED:20240306T195707Z
LAST-MODIFIED:20240306T195716Z
UID:2481-1709726400-1709740800@www.gameonsports.bar
SUMMARY:Wednesday Special Feature
DESCRIPTION:Grilled Philly Steak Wrap\nwith soup\, salad or fries. $16.99 \nSoup of the Day: \nBeef Barley\nPotato Bacon\nCream of Tomato\nHam Chicken Corn Chowder \nDrink Special: \nPints of Sleeman Honey Brown $6.00\nLong Island Ice Tea $5.40
URL:https://www.gameonsports.bar/event/wednesday-special-feature-39/
LOCATION:Game On Sports Bar & Grill\, 3701 Dewolf Way\, Merritt\, BC\, V1K 1C4\, Canada
ATTACH;FMTTYPE=image/jpeg:https://www.gameonsports.bar/wp-content/uploads/2024/03/Wednesday-March-6-2024-IG.jpeg
ORGANIZER;CN="Jim%20Cooley":MAILTO:jim.cooley@live.ca
END:VEVENT
BEGIN:VEVENT
DTSTART;TZID=America/Vancouver:20240307T120000
DTEND;TZID=America/Vancouver:20240307T160000
DTSTAMP:20260423T170155
CREATED:20240307T195708Z
LAST-MODIFIED:20240307T195708Z
UID:2484-1709812800-1709827200@www.gameonsports.bar
SUMMARY:Thursday Special Feature
DESCRIPTION:Beef Stew with Cheese Toast $13.99 \nSpinach & Cream Cheese stuffed\nChicken Club Sandwich\nwith soup\, salad or fries $16.99 \nSoup of the Day: \nCabbage Roll\nCream of Mushroom\nPotato Bacon \nDrink Special: \nTequilla Sunrise $5.50\nCans of Blue Moon $5.15
URL:https://www.gameonsports.bar/event/thursday-special-feature-44/
LOCATION:Game On Sports Bar & Grill\, 3701 Dewolf Way\, Merritt\, BC\, V1K 1C4\, Canada
ATTACH;FMTTYPE=image/jpeg:https://www.gameonsports.bar/wp-content/uploads/2024/03/Thursday-March-7-2024-IG.jpeg
ORGANIZER;CN="Jim%20Cooley":MAILTO:jim.cooley@live.ca
END:VEVENT
BEGIN:VEVENT
DTSTART;TZID=America/Vancouver:20240308T120000
DTEND;TZID=America/Vancouver:20240308T160000
DTSTAMP:20260423T170155
CREATED:20240308T193450Z
LAST-MODIFIED:20240308T193450Z
UID:2487-1709899200-1709913600@www.gameonsports.bar
SUMMARY:Friday Special Feature
DESCRIPTION:Hot Meatloaf with Mushrooms\nand Gravy\nwith soup\, salad or fries $17.99 \nSoup of the Day: \nPhilly Beef\nChicken & Sausage Gumbo\nBroccoli Cheddar \nDrink Special: \nPints of Flagship IPA $6.00\nGame On Iced Tea $5.40
URL:https://www.gameonsports.bar/event/friday-special-feature-44/
LOCATION:Game On Sports Bar & Grill\, 3701 Dewolf Way\, Merritt\, BC\, V1K 1C4\, Canada
ATTACH;FMTTYPE=image/jpeg:https://www.gameonsports.bar/wp-content/uploads/2024/03/Friday-March-8-2024-IG.jpeg
ORGANIZER;CN="Jim%20Cooley":MAILTO:jim.cooley@live.ca
END:VEVENT
BEGIN:VEVENT
DTSTART;TZID=America/Vancouver:20240311T120000
DTEND;TZID=America/Vancouver:20240311T160000
DTSTAMP:20260423T170155
CREATED:20240311T184005Z
LAST-MODIFIED:20240311T185340Z
UID:2490-1710158400-1710172800@www.gameonsports.bar
SUMMARY:Monday Special Feature
DESCRIPTION:Swiss & Caramelized Cnion\nBison Burger\nwith soup\, salad or fries $16.99 \nSoup of the Day: \nBeef Barley\nCabbage Roll\nBroccoli Cheddar \nDrink Special: \nPints of Seasonal Ale $6.00\nBaileys & Coffee $6.00
URL:https://www.gameonsports.bar/event/monday-special-feature-41/
LOCATION:Game On Sports Bar & Grill\, 3701 Dewolf Way\, Merritt\, BC\, V1K 1C4\, Canada
ATTACH;FMTTYPE=image/jpeg:https://www.gameonsports.bar/wp-content/uploads/2024/03/Monday-March-11-2024-IG.jpeg
ORGANIZER;CN="Jim%20Cooley":MAILTO:jim.cooley@live.ca
END:VEVENT
BEGIN:VEVENT
DTSTART;TZID=America/Vancouver:20240312T120000
DTEND;TZID=America/Vancouver:20240312T160000
DTSTAMP:20260423T170155
CREATED:20240312T202330Z
LAST-MODIFIED:20240312T202330Z
UID:2493-1710244800-1710259200@www.gameonsports.bar
SUMMARY:Tuesday Special Feature
DESCRIPTION:Western Burger\nwith soup\, salad or fries $18.99 \nSoup of the Day: \nTomato Bacon\nCooley Burger\nChicken Sausage Gumbo \nDrink Special: \nPints of Sleeman Honey Brown $6.00\nLong island Ice Tea $5.40
URL:https://www.gameonsports.bar/event/tuesday-special-feature-42/
LOCATION:Game On Sports Bar & Grill\, 3701 Dewolf Way\, Merritt\, BC\, V1K 1C4\, Canada
ATTACH;FMTTYPE=image/jpeg:https://www.gameonsports.bar/wp-content/uploads/2024/03/Tuesday-March-12-2024-IG.jpeg
ORGANIZER;CN="Jim%20Cooley":MAILTO:jim.cooley@live.ca
END:VEVENT
BEGIN:VEVENT
DTSTART;TZID=America/Vancouver:20240313T120000
DTEND;TZID=America/Vancouver:20240313T160000
DTSTAMP:20260423T170155
CREATED:20240313T182134Z
LAST-MODIFIED:20240313T182134Z
UID:2497-1710331200-1710345600@www.gameonsports.bar
SUMMARY:Wednesday Special Feature
DESCRIPTION:Chicken Bacon Ranch Wrap\nwith Crispy Pickles.\nServed with soup\, salad or fries. $16.99 \nSoup of the Day: \nBorscht\nSplit Pea & Ham\nCooley Burger \nDrink Special: \nPints of Seasonal Ale $6.00\nParalyzers $5.40
URL:https://www.gameonsports.bar/event/wednesday-special-feature-40/
LOCATION:Game On Sports Bar & Grill\, 3701 Dewolf Way\, Merritt\, BC\, V1K 1C4\, Canada
ATTACH;FMTTYPE=image/jpeg:https://www.gameonsports.bar/wp-content/uploads/2024/03/Wednesday-March-13-2024-IG.jpeg
ORGANIZER;CN="Jim%20Cooley":MAILTO:jim.cooley@live.ca
END:VEVENT
BEGIN:VEVENT
DTSTART;TZID=America/Vancouver:20240315T120000
DTEND;TZID=America/Vancouver:20240315T160000
DTSTAMP:20260423T170155
CREATED:20240315T183022Z
LAST-MODIFIED:20240315T183022Z
UID:2500-1710504000-1710518400@www.gameonsports.bar
SUMMARY:Friday Special Feature
DESCRIPTION:Chilli Cheese Fries $16.99 \nMushroom Onion Chicken Swiss Melt with soup\, salad or fries $17.99 \nSoup of the Day: \nBorscht\nCabbage Roll\nSplit Pea & Ham \nDrink Special: \nPints of Seasonal Ale $6.00\nVodka Cranberry $5.40
URL:https://www.gameonsports.bar/event/friday-special-feature-45/
LOCATION:Game On Sports Bar & Grill\, 3701 Dewolf Way\, Merritt\, BC\, V1K 1C4\, Canada
ATTACH;FMTTYPE=image/jpeg:https://www.gameonsports.bar/wp-content/uploads/2024/03/Friday-March-15-2024-IG.jpeg
ORGANIZER;CN="Jim%20Cooley":MAILTO:jim.cooley@live.ca
END:VEVENT
BEGIN:VEVENT
DTSTART;TZID=America/Vancouver:20240316T120000
DTEND;TZID=America/Vancouver:20240316T160000
DTSTAMP:20260423T170155
CREATED:20240316T191454Z
LAST-MODIFIED:20240316T191454Z
UID:2503-1710590400-1710604800@www.gameonsports.bar
SUMMARY:Saturday Special Feature
DESCRIPTION:Hot Meatloaf with Mushrooms & Gravy with soup\, salad or fries $17.99 \nSoup of the Day: \nCorned Beef & Cabbage\nChicken Sausage Gumbo\nCabbage Roll \nDrink Special: \nPints of Coors Light $6.00\nParalyzers $5.40
URL:https://www.gameonsports.bar/event/saturday-special-feature-43/
LOCATION:Game On Sports Bar & Grill\, 3701 Dewolf Way\, Merritt\, BC\, V1K 1C4\, Canada
ATTACH;FMTTYPE=image/jpeg:https://www.gameonsports.bar/wp-content/uploads/2024/03/Saturday-March-16-2024-IG.jpeg
ORGANIZER;CN="Jim%20Cooley":MAILTO:jim.cooley@live.ca
END:VEVENT
BEGIN:VEVENT
DTSTART;TZID=America/Vancouver:20240318T120000
DTEND;TZID=America/Vancouver:20240318T160000
DTSTAMP:20260423T170155
CREATED:20240318T183253Z
LAST-MODIFIED:20240318T183253Z
UID:2506-1710763200-1710777600@www.gameonsports.bar
SUMMARY:Monday Special Feature:
DESCRIPTION:Chilli with Cheese Toast $13.99\nJalapeno Poppers $9.99 \nSoup of the Day: \nPotato Bacon\nSplit Pea & Ham\nTomato Bacon \nDrink Special: \nPints of Lions Gate Lager $6.00\nParalyzers $5.40
URL:https://www.gameonsports.bar/event/monday-special-feature-42/
LOCATION:Game On Sports Bar & Grill\, 3701 Dewolf Way\, Merritt\, BC\, V1K 1C4\, Canada
ATTACH;FMTTYPE=image/jpeg:https://www.gameonsports.bar/wp-content/uploads/2024/03/Monday-March-18-2024-IG.jpeg
ORGANIZER;CN="Jim%20Cooley":MAILTO:jim.cooley@live.ca
END:VEVENT
BEGIN:VEVENT
DTSTART;TZID=America/Vancouver:20240319T120000
DTEND;TZID=America/Vancouver:20240319T160000
DTSTAMP:20260423T170155
CREATED:20240319T182151Z
LAST-MODIFIED:20240319T182158Z
UID:2509-1710849600-1710864000@www.gameonsports.bar
SUMMARY:Tuesday Special Feature
DESCRIPTION:Philly Wrap\nwith soup\, salad or fries. $16.99 \nSoup of the Day: \nCream of Broccoli\nBeef Barley\nCorned Beef & Cabbage \nDrink Special: \nSleeman Honey Brown $6.00\nParalyzers $5.40
URL:https://www.gameonsports.bar/event/tuesday-special-feature-43/
LOCATION:Game On Sports Bar & Grill\, 3701 Dewolf Way\, Merritt\, BC\, V1K 1C4\, Canada
ATTACH;FMTTYPE=image/jpeg:https://www.gameonsports.bar/wp-content/uploads/2024/03/Tuesday-March-19-2024-IG.jpeg
ORGANIZER;CN="Jim%20Cooley":MAILTO:jim.cooley@live.ca
END:VEVENT
BEGIN:VEVENT
DTSTART;TZID=America/Vancouver:20240320T120000
DTEND;TZID=America/Vancouver:20240320T160000
DTSTAMP:20260423T170155
CREATED:20240320T182456Z
LAST-MODIFIED:20240320T182456Z
UID:2512-1710936000-1710950400@www.gameonsports.bar
SUMMARY:Wednesday Special Feature
DESCRIPTION:Western Burger\nwith soup\, salad or fries. $18.99 \nSoup of the Day: \nCream of Mushroom\nChicken Sausage Gumbo\nSplit Pea & Ham \nDrink Special: \nPints of Seasonal Ale $6.00\nLong Island Ice Tea $5.40
URL:https://www.gameonsports.bar/event/wednesday-special-feature-41/
LOCATION:Game On Sports Bar & Grill\, 3701 Dewolf Way\, Merritt\, BC\, V1K 1C4\, Canada
ATTACH;FMTTYPE=image/jpeg:https://www.gameonsports.bar/wp-content/uploads/2024/03/Wednesday-March-20-2024-IG.jpeg
ORGANIZER;CN="Jim%20Cooley":MAILTO:jim.cooley@live.ca
END:VEVENT
BEGIN:VEVENT
DTSTART;TZID=America/Vancouver:20240321T120000
DTEND;TZID=America/Vancouver:20240321T160000
DTSTAMP:20260423T170155
CREATED:20240321T180845Z
LAST-MODIFIED:20240321T180845Z
UID:2516-1711022400-1711036800@www.gameonsports.bar
SUMMARY:Thursday Special Feature
DESCRIPTION:Hot Meatloaf with Mushrooms & Gravy with soup\, salad or fries $17.99 \nSoup of the Day: \nBorscht\nPepper Pot\nBeef Barley\nSplit Pea & Ham \nDrink Special: \nPints of Lions Gate Lager $6.00\nGame On Iced Tea $5.40
URL:https://www.gameonsports.bar/event/thursday-special-feature-45/
LOCATION:Game On Sports Bar & Grill\, 3701 Dewolf Way\, Merritt\, BC\, V1K 1C4\, Canada
ATTACH;FMTTYPE=image/jpeg:https://www.gameonsports.bar/wp-content/uploads/2024/03/Thursday-March-21-2024-IG.jpeg
ORGANIZER;CN="Jim%20Cooley":MAILTO:jim.cooley@live.ca
END:VEVENT
BEGIN:VEVENT
DTSTART;TZID=America/Vancouver:20240322T120000
DTEND;TZID=America/Vancouver:20240322T160000
DTSTAMP:20260423T170155
CREATED:20240322T190009Z
LAST-MODIFIED:20240322T190009Z
UID:2519-1711108800-1711123200@www.gameonsports.bar
SUMMARY:Friday Special Feature
DESCRIPTION:BBQ Cheddar Beef Dip\nwith soup\, salad or fries $16.99 \nSoup of the Day: \nCorned Beef & Cabbage\nBeef Barley\nBorscht\nCabbage Roll \nDrink Special: \nPints of Seasonal Ale $6.00\nParalyzers $5.40
URL:https://www.gameonsports.bar/event/friday-special-feature-46/
LOCATION:Game On Sports Bar & Grill\, 3701 Dewolf Way\, Merritt\, BC\, V1K 1C4\, Canada
ATTACH;FMTTYPE=image/jpeg:https://www.gameonsports.bar/wp-content/uploads/2024/03/Friday-March-22-2024-IG.jpeg
ORGANIZER;CN="Jim%20Cooley":MAILTO:jim.cooley@live.ca
END:VEVENT
BEGIN:VEVENT
DTSTART;TZID=America/Vancouver:20240323T120000
DTEND;TZID=America/Vancouver:20240323T160000
DTSTAMP:20260423T170155
CREATED:20240323T185820Z
LAST-MODIFIED:20240323T185820Z
UID:2522-1711195200-1711209600@www.gameonsports.bar
SUMMARY:Saturday Special Feature
DESCRIPTION:Mushroom Swiss Burger\nwith soup\, salad or fries $17.99 \nJalapeno Poppers $9.99 \nSoup of the Day: \nCorned the Cabbage\nCream of Mushroom\nBroccoli Cheddar \nDrink Special: \nPints of Lions Gate Lager $5.00\nSmirnoff Ice $5.00
URL:https://www.gameonsports.bar/event/saturday-special-feature-44/
LOCATION:Game On Sports Bar & Grill\, 3701 Dewolf Way\, Merritt\, BC\, V1K 1C4\, Canada
ATTACH;FMTTYPE=image/jpeg:https://www.gameonsports.bar/wp-content/uploads/2024/03/Saturday-March-23-2024-IG.jpeg
ORGANIZER;CN="Jim%20Cooley":MAILTO:jim.cooley@live.ca
END:VEVENT
BEGIN:VEVENT
DTSTART;TZID=America/Vancouver:20240326T120000
DTEND;TZID=America/Vancouver:20240326T160000
DTSTAMP:20260423T170155
CREATED:20240326T190009Z
LAST-MODIFIED:20240326T190041Z
UID:2525-1711454400-1711468800@www.gameonsports.bar
SUMMARY:Tuesday Special Feature
DESCRIPTION:Flame Thrower Bacon Cheese Burger with fries\, soup\, or salad $17.99 \nSoup of the Day: \nCream of Broccoli\nBeef Barley\nSplit Pea & Ham \nDrink Special: \nBottles of Corona $5.15
URL:https://www.gameonsports.bar/event/tuesday-special-feature-44/
LOCATION:Game On Sports Bar & Grill\, 3701 Dewolf Way\, Merritt\, BC\, V1K 1C4\, Canada
ATTACH;FMTTYPE=image/jpeg:https://www.gameonsports.bar/wp-content/uploads/2024/03/Tuesday-March-26-2024-IG.jpeg
ORGANIZER;CN="Jim%20Cooley":MAILTO:jim.cooley@live.ca
END:VEVENT
BEGIN:VEVENT
DTSTART;TZID=America/Vancouver:20240327T120000
DTEND;TZID=America/Vancouver:20240327T160000
DTSTAMP:20260423T170155
CREATED:20240327T182033Z
LAST-MODIFIED:20240327T182033Z
UID:2528-1711540800-1711555200@www.gameonsports.bar
SUMMARY:Wednesday Special Feature
DESCRIPTION:Chicken Club Panini\nwith soup\, salad or fries. $16.99 \nSoup of the Day: \nBorscht\nPhilly Beef\nChicken Ham Chowder\nSplit Pea & Ham \nDrink Special: \nPints of Sleeman Honey Brown $6.00\nVodka Cranberry $5.40
URL:https://www.gameonsports.bar/event/wednesday-special-feature-42/
LOCATION:Game On Sports Bar & Grill\, 3701 Dewolf Way\, Merritt\, BC\, V1K 1C4\, Canada
ATTACH;FMTTYPE=image/jpeg:https://www.gameonsports.bar/wp-content/uploads/2024/03/Wednesday-March-27-2024-IG.jpeg
ORGANIZER;CN="Jim%20Cooley":MAILTO:jim.cooley@live.ca
END:VEVENT
BEGIN:VEVENT
DTSTART;TZID=America/Vancouver:20240328T120000
DTEND;TZID=America/Vancouver:20240328T160000
DTSTAMP:20260423T170155
CREATED:20240328T181912Z
LAST-MODIFIED:20240328T181912Z
UID:2531-1711627200-1711641600@www.gameonsports.bar
SUMMARY:Thursday Special Feature
DESCRIPTION:Beet Salad $18.95\nadd Chicken or Prawns $25.95 \nSoup of the Day: \nCabbage Roll\nBeef Barley\nBroccoli Cheddar \nDrink Special: \nPins of Seasonal Ale $6.00\nParalyzers $5.40
URL:https://www.gameonsports.bar/event/thursday-special-feature-46/
LOCATION:Game On Sports Bar & Grill\, 3701 Dewolf Way\, Merritt\, BC\, V1K 1C4\, Canada
ATTACH;FMTTYPE=image/jpeg:https://www.gameonsports.bar/wp-content/uploads/2024/03/Thursday-March-28-2024-IG.jpeg
ORGANIZER;CN="Jim%20Cooley":MAILTO:jim.cooley@live.ca
END:VEVENT
BEGIN:VEVENT
DTSTART;TZID=America/Vancouver:20240329T120000
DTEND;TZID=America/Vancouver:20240329T160000
DTSTAMP:20260423T170155
CREATED:20240329T181716Z
LAST-MODIFIED:20240329T181716Z
UID:2535-1711713600-1711728000@www.gameonsports.bar
SUMMARY:Friday Special Feature
DESCRIPTION:Bowl of Chili with Cheese Toast $13.99 \nBeet & Quinoa Salad with Prawn\nSkewer $19.95 \nSoup of the Day: \nCream of Carrot\nCream of Mushroom\nCream of Cauliflower \nDrink Special: \nPints of Flagship IPA $6.00\nGame On Iced Tea $5.40
URL:https://www.gameonsports.bar/event/friday-special-feature-47/
LOCATION:Game On Sports Bar & Grill\, 3701 Dewolf Way\, Merritt\, BC\, V1K 1C4\, Canada
ATTACH;FMTTYPE=image/jpeg:https://www.gameonsports.bar/wp-content/uploads/2024/03/Friday-March-29-2024-IG.jpeg
ORGANIZER;CN="Jim%20Cooley":MAILTO:jim.cooley@live.ca
END:VEVENT
BEGIN:VEVENT
DTSTART;TZID=America/Vancouver:20240401T120000
DTEND;TZID=America/Vancouver:20240401T160000
DTSTAMP:20260423T170155
CREATED:20240401T184816Z
LAST-MODIFIED:20240401T184824Z
UID:2538-1711972800-1711987200@www.gameonsports.bar
SUMMARY:Monday Special Feature
DESCRIPTION:Crispy Chicken Spring Caesar\nWrap with soup\, salad or fries $16.99 \nSoup of the Day: \nRoasted Cauliflower\nBroccoli Cheddar\nSplit Pea & Ham\nChicken\, Ham Corn Chowder \nDrink Special: \nPints of Lions Gate Lager $6.00\nLong Island Iced tea $5.40
URL:https://www.gameonsports.bar/event/monday-special-feature-43/
LOCATION:Game On Sports Bar & Grill\, 3701 Dewolf Way\, Merritt\, BC\, V1K 1C4\, Canada
ATTACH;FMTTYPE=image/jpeg:https://www.gameonsports.bar/wp-content/uploads/2024/04/Monday-April-1-2024-IG.jpeg
ORGANIZER;CN="Jim%20Cooley":MAILTO:jim.cooley@live.ca
END:VEVENT
BEGIN:VEVENT
DTSTART;TZID=America/Vancouver:20240401T170000
DTEND;TZID=America/Vancouver:20240401T220000
DTSTAMP:20260423T170155
CREATED:20240401T230420Z
LAST-MODIFIED:20240401T230438Z
UID:2541-1711990800-1712008800@www.gameonsports.bar
SUMMARY:Monday Dinner Special
DESCRIPTION:Turkey Dinner with Mashed Potatos\, Veggies and Homemade Stuffing $19.95 (Stuffing contains nuts) \nSoup of the Day: \nRoasted Cauliflower\nBroccoli Cheddar\nSplit Pea & Ham\nChicken Ham Corn Chowder \nDrink Special: \nPints of Lions Gate Lager $6.00\nLong Island Icedtea $5.40
URL:https://www.gameonsports.bar/event/monday-dinner-special-2/
LOCATION:Game On Sports Bar & Grill\, 3701 Dewolf Way\, Merritt\, BC\, V1K 1C4\, Canada
ATTACH;FMTTYPE=image/jpeg:https://www.gameonsports.bar/wp-content/uploads/2024/04/Monday-Dinner-April-1-2024-IG.jpeg
ORGANIZER;CN="Jim%20Cooley":MAILTO:jim.cooley@live.ca
END:VEVENT
BEGIN:VEVENT
DTSTART;TZID=America/Vancouver:20240402T120000
DTEND;TZID=America/Vancouver:20240402T160000
DTSTAMP:20260423T170155
CREATED:20240402T185353Z
LAST-MODIFIED:20240402T185353Z
UID:2544-1712059200-1712073600@www.gameonsports.bar
SUMMARY:Tuesday Special Feature
DESCRIPTION:Hot Turkey Sandwich\nwith soup\, salad or fries. $16.99 \nSoup of the Day: \nSplit Pea & Ham\nPhilly Beef\nBroccoli Cheddar\nBeef Barley \nDrink Special: \nPints of Seasonal Ale $6.00\nParalyzers $5.40
URL:https://www.gameonsports.bar/event/tuesday-special-feature-45/
LOCATION:Game On Sports Bar & Grill\, 3701 Dewolf Way\, Merritt\, BC\, V1K 1C4\, Canada
ATTACH;FMTTYPE=image/jpeg:https://www.gameonsports.bar/wp-content/uploads/2024/04/Tuesday-April-2-2024-IG.jpeg
ORGANIZER;CN="Jim%20Cooley":MAILTO:jim.cooley@live.ca
END:VEVENT
BEGIN:VEVENT
DTSTART;TZID=America/Vancouver:20240403T120000
DTEND;TZID=America/Vancouver:20240403T160000
DTSTAMP:20260423T170155
CREATED:20240403T190030Z
LAST-MODIFIED:20240403T190030Z
UID:2547-1712145600-1712160000@www.gameonsports.bar
SUMMARY:Wednesday Special Feature
DESCRIPTION:Mushroom Swiss Prime Rib Dip\nwith soup\, salad or fries. $17.99 \nChili Cheese Fries. $14.99 \nSoup of the Day: \nCream of Carrot\nPhilly Beef\nChicken Ham Chowder \nDrink Special: \nPints of Seasonal Ale $6.00\nMalibu Pineapple $5.40
URL:https://www.gameonsports.bar/event/wednesday-special-feature-43/
LOCATION:Game On Sports Bar & Grill\, 3701 Dewolf Way\, Merritt\, BC\, V1K 1C4\, Canada
ATTACH;FMTTYPE=image/jpeg:https://www.gameonsports.bar/wp-content/uploads/2024/04/Wednesday-April-3-2024-IG.jpeg
ORGANIZER;CN="Jim%20Cooley":MAILTO:jim.cooley@live.ca
END:VEVENT
BEGIN:VEVENT
DTSTART;TZID=America/Vancouver:20240404T120000
DTEND;TZID=America/Vancouver:20240404T160000
DTSTAMP:20260423T170155
CREATED:20240404T182916Z
LAST-MODIFIED:20240404T182916Z
UID:2550-1712232000-1712246400@www.gameonsports.bar
SUMMARY:Thursday Special Feature
DESCRIPTION:Hot Meatloaf with Mushrooms & Gravy\nwith soup\, salad or fries $17.99 \nSoup of the Day: \nTurkey & Sausage Gumbo\nCabbage Roll\nCream of Mushroom \nDrink Special: \nPints of Lions Gate Lager $6.00\nVodka Cranberry $5.40
URL:https://www.gameonsports.bar/event/thursday-special-feature-47/
LOCATION:Game On Sports Bar & Grill\, 3701 Dewolf Way\, Merritt\, BC\, V1K 1C4\, Canada
ATTACH;FMTTYPE=image/jpeg:https://www.gameonsports.bar/wp-content/uploads/2024/04/Thursday-April-4-2024-IG.jpeg
ORGANIZER;CN="Jim%20Cooley":MAILTO:jim.cooley@live.ca
END:VEVENT
BEGIN:VEVENT
DTSTART;TZID=America/Vancouver:20240405T120000
DTEND;TZID=America/Vancouver:20240405T160000
DTSTAMP:20260423T170155
CREATED:20240405T190315Z
LAST-MODIFIED:20240405T190315Z
UID:2553-1712318400-1712332800@www.gameonsports.bar
SUMMARY:Friday Special Feature
DESCRIPTION:Cheese & Bacon Stuffed Chicken Club Panini\nwith soup\, salad or fries $16.99 \nSoup of the Day: \nRoasted Cauliflower\nBeef Vegetable\nChicken & Ham Chowder\nTurkey & Sausage Gumbo \nDrink Special: \nPints of Seasonal Ale $6.00\nParalyzers $5.40
URL:https://www.gameonsports.bar/event/friday-special-feature-48/
LOCATION:Game On Sports Bar & Grill\, 3701 Dewolf Way\, Merritt\, BC\, V1K 1C4\, Canada
ATTACH;FMTTYPE=image/jpeg:https://www.gameonsports.bar/wp-content/uploads/2024/04/Friday-April-5-2024-IG.jpeg
ORGANIZER;CN="Jim%20Cooley":MAILTO:jim.cooley@live.ca
END:VEVENT
BEGIN:VEVENT
DTSTART;TZID=America/Vancouver:20240406T120000
DTEND;TZID=America/Vancouver:20240406T160000
DTSTAMP:20260423T170155
CREATED:20240406T185503Z
LAST-MODIFIED:20240406T185503Z
UID:2557-1712404800-1712419200@www.gameonsports.bar
SUMMARY:Saturday Special Feature
DESCRIPTION:Mushroom Swiss Burger\nwith soup\, salad or fries $17.99 \nSoup of the Day: \nTurkey & Sausage Gumbo\nPotato Bacon\nBeef Barley \nDrink Special: \nBottle of Bud Light $5.15\nGrowers Dry Apple Cider $5.00
URL:https://www.gameonsports.bar/event/saturday-special-feature-45/
LOCATION:Game On Sports Bar & Grill\, 3701 Dewolf Way\, Merritt\, BC\, V1K 1C4\, Canada
ATTACH;FMTTYPE=image/jpeg:https://www.gameonsports.bar/wp-content/uploads/2024/04/Saturday-April-6-2024-IG.jpeg
ORGANIZER;CN="Jim%20Cooley":MAILTO:jim.cooley@live.ca
END:VEVENT
BEGIN:VEVENT
DTSTART;TZID=America/Vancouver:20240408T120000
DTEND;TZID=America/Vancouver:20240408T160000
DTSTAMP:20260423T170155
CREATED:20240408T185503Z
LAST-MODIFIED:20240408T185503Z
UID:2560-1712577600-1712592000@www.gameonsports.bar
SUMMARY:Monday Special Feature
DESCRIPTION:Grilled Prime Rib Philly Wrap\nwith soup\, salad or fries $17.99 \nSoup of the Day: \nTurkey Sausage Gumbo\nCheeseburger\nPhilly Beef \nDrink Special: \nBottles of Canadian $5.15\nSmirnoff Ice $5.00
URL:https://www.gameonsports.bar/event/monday-special-feature-44/
LOCATION:Game On Sports Bar & Grill\, 3701 Dewolf Way\, Merritt\, BC\, V1K 1C4\, Canada
ATTACH;FMTTYPE=image/jpeg:https://www.gameonsports.bar/wp-content/uploads/2024/04/Monday-April-8-2024-IG.jpeg
ORGANIZER;CN="Jim%20Cooley":MAILTO:jim.cooley@live.ca
END:VEVENT
BEGIN:VEVENT
DTSTART;TZID=America/Vancouver:20240409T120000
DTEND;TZID=America/Vancouver:20240409T160000
DTSTAMP:20260423T170155
CREATED:20240409T175002Z
LAST-MODIFIED:20240409T175002Z
UID:2563-1712664000-1712678400@www.gameonsports.bar
SUMMARY:Tuesday Special Feature
DESCRIPTION:Mushroom Swiss Prime Rib Dip\nwith soup\, salad or fries. $17.99 \nSoup of the Day: \nCheese Burger\nCabbage Roll\nChicken Ham Chowder \nDrink Special: \nPints of Seasonal Ale $6.00\nParalyzers $5.40
URL:https://www.gameonsports.bar/event/tuesday-special-feature-46/
LOCATION:Game On Sports Bar & Grill\, 3701 Dewolf Way\, Merritt\, BC\, V1K 1C4\, Canada
ATTACH;FMTTYPE=image/jpeg:https://www.gameonsports.bar/wp-content/uploads/2024/04/Tuesday-April-9-2024-IG.jpeg
ORGANIZER;CN="Jim%20Cooley":MAILTO:jim.cooley@live.ca
END:VEVENT
END:VCALENDAR