BEGIN:VCALENDAR
VERSION:2.0
PRODID:-//Game On Sports Bar &amp; Grill - ECPv6.0.8//NONSGML v1.0//EN
CALSCALE:GREGORIAN
METHOD:PUBLISH
X-WR-CALNAME:Game On Sports Bar &amp; Grill
X-ORIGINAL-URL:https://www.gameonsports.bar
X-WR-CALDESC:Events for Game On Sports Bar &amp; Grill
REFRESH-INTERVAL;VALUE=DURATION:PT1H
X-Robots-Tag:noindex
X-PUBLISHED-TTL:PT1H
BEGIN:VTIMEZONE
TZID:America/Vancouver
BEGIN:DAYLIGHT
TZOFFSETFROM:-0800
TZOFFSETTO:-0700
TZNAME:PDT
DTSTART:20240310T100000
END:DAYLIGHT
BEGIN:STANDARD
TZOFFSETFROM:-0700
TZOFFSETTO:-0800
TZNAME:PST
DTSTART:20241103T090000
END:STANDARD
END:VTIMEZONE
BEGIN:VEVENT
DTSTART;TZID=America/Vancouver:20240207T120000
DTEND;TZID=America/Vancouver:20240207T160000
DTSTAMP:20260423T134827
CREATED:20240207T191750Z
LAST-MODIFIED:20240207T191750Z
UID:2409-1707307200-1707321600@www.gameonsports.bar
SUMMARY:Wednesday Special Feature
DESCRIPTION:Dumpling Beef Stew\nwith garlic toast $15.99 \nSoup of the Day: \nBeef Stew\nButternut Squash\nPotato Bacon \nDrink Special: \nPints of Sleeman Honey Brown\n$6.00
URL:https://www.gameonsports.bar/event/wednesday-special-feature-36/
LOCATION:Game On Sports Bar & Grill\, 3701 Dewolf Way\, Merritt\, BC\, V1K 1C4\, Canada
ATTACH;FMTTYPE=image/jpeg:https://www.gameonsports.bar/wp-content/uploads/2024/02/Wednesday-February-7-2024-IG.jpeg
ORGANIZER;CN="Jim%20Cooley":MAILTO:jim.cooley@live.ca
END:VEVENT
BEGIN:VEVENT
DTSTART;TZID=America/Vancouver:20240208T120000
DTEND;TZID=America/Vancouver:20240208T160000
DTSTAMP:20260423T134827
CREATED:20240208T190651Z
LAST-MODIFIED:20240208T190651Z
UID:2412-1707393600-1707408000@www.gameonsports.bar
SUMMARY:Thursday Special Feature
DESCRIPTION:Western Burger\nwith soup\, salad or fries $18.99 \nSoup of the Day: \nCream of Broccoli\nCorned Beef & Cabbage\nChicken & Ham Corn Chowder \nDrink Special: \nBottles of Coors Original $5.15\nVodka Cranberry $5.40
URL:https://www.gameonsports.bar/event/thursday-special-feature-40/
LOCATION:Game On Sports Bar & Grill\, 3701 Dewolf Way\, Merritt\, BC\, V1K 1C4\, Canada
ATTACH;FMTTYPE=image/jpeg:https://www.gameonsports.bar/wp-content/uploads/2024/02/Thursday-February-8-2024-IG.jpeg
ORGANIZER;CN="Jim%20Cooley":MAILTO:jim.cooley@live.ca
END:VEVENT
BEGIN:VEVENT
DTSTART;TZID=America/Vancouver:20240209T120000
DTEND;TZID=America/Vancouver:20240209T160000
DTSTAMP:20260423T134827
CREATED:20240209T191448Z
LAST-MODIFIED:20240209T191448Z
UID:2416-1707480000-1707494400@www.gameonsports.bar
SUMMARY:Friday Special Feature
DESCRIPTION:Spinach Chicken Club Panini\nwith soup\, salad or fries $16.99 \nSoup of the Day: \nCream of Tomato\nPotato Bacon\nBeef Barley \nDrink Special: \nPints of Flagship IPA $6.00\nGame On Icedtea $5.40
URL:https://www.gameonsports.bar/event/friday-special-feature-40/
LOCATION:Game On Sports Bar & Grill\, 3701 Dewolf Way\, Merritt\, BC\, V1K 1C4\, Canada
ATTACH;FMTTYPE=image/jpeg:https://www.gameonsports.bar/wp-content/uploads/2024/02/Friday-February-9-2024-IG.jpeg
ORGANIZER;CN="Jim%20Cooley":MAILTO:jim.cooley@live.ca
END:VEVENT
BEGIN:VEVENT
DTSTART;TZID=America/Vancouver:20240210T120000
DTEND;TZID=America/Vancouver:20240210T160000
DTSTAMP:20260423T134827
CREATED:20240210T200235Z
LAST-MODIFIED:20240210T200235Z
UID:2419-1707566400-1707580800@www.gameonsports.bar
SUMMARY:Saturday Special Feature
DESCRIPTION:BLTC Wrap\nwith soup\, salad or fries $14.99 \nSoup of the Day: \nFrench Onion\nCream of Carrot\nMullagatawny \nDrink Special: \nPints of Sleeman Honey Brown $6.00\nMango Whiteclaw $5.00
URL:https://www.gameonsports.bar/event/saturday-special-feature-39/
LOCATION:Game On Sports Bar & Grill\, 3701 Dewolf Way\, Merritt\, BC\, V1K 1C4\, Canada
ATTACH;FMTTYPE=image/jpeg:https://www.gameonsports.bar/wp-content/uploads/2024/02/Saturday-February-10-2024-IG.jpeg
ORGANIZER;CN="Jim%20Cooley":MAILTO:jim.cooley@live.ca
END:VEVENT
BEGIN:VEVENT
DTSTART;TZID=America/Vancouver:20240212T120000
DTEND;TZID=America/Vancouver:20240212T160000
DTSTAMP:20260423T134827
CREATED:20240212T210157Z
LAST-MODIFIED:20240212T210157Z
UID:2422-1707739200-1707753600@www.gameonsports.bar
SUMMARY:Monday Special Feature
DESCRIPTION:Mushroom Swiss Burger\nwith soup\, salad or fries $17.99 \nSoup of the Day: \nCabbage Roll\nCream of Tomato\nChicken & Ham Corn Chowder \nDrink Special: \nBottles of MGD $5.15\nGrowers Appie $5.00
URL:https://www.gameonsports.bar/event/monday-special-feature-37/
LOCATION:Game On Sports Bar & Grill\, 3701 Dewolf Way\, Merritt\, BC\, V1K 1C4\, Canada
ATTACH;FMTTYPE=image/jpeg:https://www.gameonsports.bar/wp-content/uploads/2024/02/Monday-February-12-2024-IG.jpeg
ORGANIZER;CN="Jim%20Cooley":MAILTO:jim.cooley@live.ca
END:VEVENT
BEGIN:VEVENT
DTSTART;TZID=America/Vancouver:20240213T120000
DTEND;TZID=America/Vancouver:20240213T160000
DTSTAMP:20260423T134827
CREATED:20240213T192540Z
LAST-MODIFIED:20240213T192540Z
UID:2425-1707825600-1707840000@www.gameonsports.bar
SUMMARY:Tuesday Special Feature
DESCRIPTION:Grilled Prime Rib Philly Wrap\nwith soup\, salad or fries. $17.99 \nSoup of the Day: \nButternut Squash\nChicken Mushroom and Spinach\nBeef Barley \nDrink Special: \nPints of Sleeman Honey Brown $6.00
URL:https://www.gameonsports.bar/event/tuesday-special-feature-38/
LOCATION:Game On Sports Bar & Grill\, 3701 Dewolf Way\, Merritt\, BC\, V1K 1C4\, Canada
ATTACH;FMTTYPE=image/jpeg:https://www.gameonsports.bar/wp-content/uploads/2024/02/Tuesday-February-13-2024-IG.jpeg
ORGANIZER;CN="Jim%20Cooley":MAILTO:jim.cooley@live.ca
END:VEVENT
BEGIN:VEVENT
DTSTART;TZID=America/Vancouver:20240215T120000
DTEND;TZID=America/Vancouver:20240215T160000
DTSTAMP:20260423T134827
CREATED:20240215T202928Z
LAST-MODIFIED:20240215T202928Z
UID:2428-1707998400-1708012800@www.gameonsports.bar
SUMMARY:Thursday Special Feature
DESCRIPTION:Caesar Salad with Digby Nova Scotia Scallops with Garlic\nToast $2199 \nSoup of the Day: \nMullagatawny\nBeef Barley\nChicken Mushroom & Spinach \nDrink Special: \nPints of Seasonal Ale $5.00\nLong Island Icetea $5.40
URL:https://www.gameonsports.bar/event/thursday-special-feature-41/
LOCATION:Game On Sports Bar & Grill\, 3701 Dewolf Way\, Merritt\, BC\, V1K 1C4\, Canada
ATTACH;FMTTYPE=image/jpeg:https://www.gameonsports.bar/wp-content/uploads/2024/02/Thursday-February-15-2024-IG.jpeg
ORGANIZER;CN="Jim%20Cooley":MAILTO:jim.cooley@live.ca
END:VEVENT
BEGIN:VEVENT
DTSTART;TZID=America/Vancouver:20240216T120000
DTEND;TZID=America/Vancouver:20240216T160000
DTSTAMP:20260423T134827
CREATED:20240216T192206Z
LAST-MODIFIED:20240216T192206Z
UID:2431-1708084800-1708099200@www.gameonsports.bar
SUMMARY:Friday Special Feature
DESCRIPTION:Bowl of Seafood Chowder\nwith Garlic Toast $12.99 \nSoup of the Day: \nCream of Carrot\nChicken & Ham Corn Chowder \nDrink Special: \nPints of Lion’s Gate Lager $6.00\nParalyzers $5.40
URL:https://www.gameonsports.bar/event/friday-special-feature-41/
LOCATION:Game On Sports Bar & Grill\, 3701 Dewolf Way\, Merritt\, BC\, V1K 1C4\, Canada
ATTACH;FMTTYPE=image/jpeg:https://www.gameonsports.bar/wp-content/uploads/2024/02/Friday-February-16-2024-IG.jpeg
ORGANIZER;CN="Jim%20Cooley":MAILTO:jim.cooley@live.ca
END:VEVENT
BEGIN:VEVENT
DTSTART;TZID=America/Vancouver:20240217T120000
DTEND;TZID=America/Vancouver:20240217T160000
DTSTAMP:20260423T134827
CREATED:20240217T201019Z
LAST-MODIFIED:20240217T201143Z
UID:2435-1708171200-1708185600@www.gameonsports.bar
SUMMARY:Saturday Special Feature
DESCRIPTION:Chicken & Bacon Caesar Wrap\nwith soup\, salad or fries $16.99 \nHam & Swiss Stuffed Chicken Panini with soup\, salad or fries $17.99 \nSoup of the Day: \nCream of Carrot\nBeef Barley\nCream of Broccoli \nDrink Special: \nBottles of Canadian $5.15\nGrowers Pear Cider $5.00
URL:https://www.gameonsports.bar/event/saturday-special-feature-40/
LOCATION:Game On Sports Bar & Grill\, 3701 Dewolf Way\, Merritt\, BC\, V1K 1C4\, Canada
ATTACH;FMTTYPE=image/jpeg:https://www.gameonsports.bar/wp-content/uploads/2024/02/Saturday-February-17-2024-IG.jpeg
ORGANIZER;CN="Jim%20Cooley":MAILTO:jim.cooley@live.ca
END:VEVENT
BEGIN:VEVENT
DTSTART;TZID=America/Vancouver:20240219T120000
DTEND;TZID=America/Vancouver:20240219T160000
DTSTAMP:20260423T134827
CREATED:20240219T195347Z
LAST-MODIFIED:20240219T195606Z
UID:2438-1708344000-1708358400@www.gameonsports.bar
SUMMARY:Monday Special Feature
DESCRIPTION:Prime Rib Philly Wrap\nwith soup\, salad or fries $17.99 \nSoup of the Day: \nChicken & Ham Corn Chowder\nBeef Barley\nButternut Squash Mullagatawny with Rice \nDrink Special: \nPints of Seasonal Ale $5.75\nParalyzers $5.40
URL:https://www.gameonsports.bar/event/monday-special-feature-38/
LOCATION:Game On Sports Bar & Grill\, 3701 Dewolf Way\, Merritt\, BC\, V1K 1C4\, Canada
ORGANIZER;CN="Jim%20Cooley":MAILTO:jim.cooley@live.ca
END:VEVENT
BEGIN:VEVENT
DTSTART;TZID=America/Vancouver:20240220T120000
DTEND;TZID=America/Vancouver:20240220T160000
DTSTAMP:20260423T134827
CREATED:20240220T193100Z
LAST-MODIFIED:20240220T193100Z
UID:2440-1708430400-1708444800@www.gameonsports.bar
SUMMARY:Tuesday Special Feature
DESCRIPTION:Hot Meatloaf Sandwich\nwith soup\, salad or fries. $16.99 \nSeafood Chowder\nwith garlic toast $12.99 \nSoup of the Day: \nCabbage Roll\nBeef Barley\nCream of Tomato \nDrink Special: \nPints of Sleeman Honey Brown $6.00\nLong Island $5.40
URL:https://www.gameonsports.bar/event/tuesday-special-feature-39/
LOCATION:Game On Sports Bar & Grill\, 3701 Dewolf Way\, Merritt\, BC\, V1K 1C4\, Canada
ATTACH;FMTTYPE=image/jpeg:https://www.gameonsports.bar/wp-content/uploads/2024/02/Tuesday-February-20-2024-IG.jpeg
ORGANIZER;CN="Jim%20Cooley":MAILTO:jim.cooley@live.ca
END:VEVENT
BEGIN:VEVENT
DTSTART;TZID=America/Vancouver:20240221T120000
DTEND;TZID=America/Vancouver:20240221T160000
DTSTAMP:20260423T134827
CREATED:20240221T191326Z
LAST-MODIFIED:20240221T191326Z
UID:2443-1708516800-1708531200@www.gameonsports.bar
SUMMARY:Wednesday Special Feature
DESCRIPTION:Western Burger\nwith soup\, salad or fries $18.99 \nSoup of the Day: \nChicken & Ham Corn Chowder\nMulligatawny\nCream of Broccolli \nDrink Special: \nBottles of Bud $5.15
URL:https://www.gameonsports.bar/event/wednesday-special-feature-37/
LOCATION:Game On Sports Bar & Grill\, 3701 Dewolf Way\, Merritt\, BC\, V1K 1C4\, Canada
ATTACH;FMTTYPE=image/jpeg:https://www.gameonsports.bar/wp-content/uploads/2024/02/Wednesday-February-21-2024-IG.jpeg
ORGANIZER;CN="Jim%20Cooley":MAILTO:jim.cooley@live.ca
END:VEVENT
BEGIN:VEVENT
DTSTART;TZID=America/Vancouver:20240222T120000
DTEND;TZID=America/Vancouver:20240222T160000
DTSTAMP:20260423T134827
CREATED:20240222T193119Z
LAST-MODIFIED:20240222T193119Z
UID:2446-1708603200-1708617600@www.gameonsports.bar
SUMMARY:Thursday Special Feature
DESCRIPTION:Crispy Chicken Cub Wrap\nwith soup\, salad or fries $16.99 \nSoup of the Day: \nCream of Mushroom\nBeef Barley\nMulligatawny \nDrink Special: \nPints of Rickard’s $6.00\nVodka Slime $5.25
URL:https://www.gameonsports.bar/event/thursday-special-feature-42/
LOCATION:Game On Sports Bar & Grill\, 3701 Dewolf Way\, Merritt\, BC\, V1K 1C4\, Canada
ATTACH;FMTTYPE=image/jpeg:https://www.gameonsports.bar/wp-content/uploads/2024/02/Thursday-February-22-2024-IG.jpeg
ORGANIZER;CN="Jim%20Cooley":MAILTO:jim.cooley@live.ca
END:VEVENT
BEGIN:VEVENT
DTSTART;TZID=America/Vancouver:20240223T120000
DTEND;TZID=America/Vancouver:20240223T160000
DTSTAMP:20260423T134827
CREATED:20240223T193658Z
LAST-MODIFIED:20240223T193658Z
UID:2449-1708689600-1708704000@www.gameonsports.bar
SUMMARY:Friday Special Feature
DESCRIPTION:Bacon\, Swiss & Ranch Chicken Burger with soup\, salad or fries $16.99 \nSoup of the Day: \nCream of Carrot\nChicken Ham Corn Chowder\nCream of Tomato \nDrink Special: \nPints of Lion’s Gate Lager $6.00\nGame On Iced Tea $5.40
URL:https://www.gameonsports.bar/event/friday-special-feature-42/
LOCATION:Game On Sports Bar & Grill\, 3701 Dewolf Way\, Merritt\, BC\, V1K 1C4\, Canada
ATTACH;FMTTYPE=image/jpeg:https://www.gameonsports.bar/wp-content/uploads/2024/02/Friday-February-23-2024-IG.jpeg
ORGANIZER;CN="Jim%20Cooley":MAILTO:jim.cooley@live.ca
END:VEVENT
BEGIN:VEVENT
DTSTART;TZID=America/Vancouver:20240224T120000
DTEND;TZID=America/Vancouver:20240224T160000
DTSTAMP:20260423T134827
CREATED:20240224T200924Z
LAST-MODIFIED:20240224T200940Z
UID:2452-1708776000-1708790400@www.gameonsports.bar
SUMMARY:Saturday Special Feature
DESCRIPTION:Prawn & Bacon Ceasar Salad\nwith Garlic Toast $17.99 \nBowl of Seafood Chowder\nwith Garlic Toast $ 12.99 \nSoup of the Day: \nMullagatawny\nCabbage Roll \nDrink Special: \nPints of Seasonal Ale $6.00\nVodka Cranberry $5.40
URL:https://www.gameonsports.bar/event/saturday-special-feature-41/
LOCATION:Game On Sports Bar & Grill\, 3701 Dewolf Way\, Merritt\, BC\, V1K 1C4\, Canada
ATTACH;FMTTYPE=image/jpeg:https://www.gameonsports.bar/wp-content/uploads/2024/02/Saturday-February-24-2024-IG.jpeg
ORGANIZER;CN="Jim%20Cooley":MAILTO:jim.cooley@live.ca
END:VEVENT
BEGIN:VEVENT
DTSTART;TZID=America/Vancouver:20240226T120000
DTEND;TZID=America/Vancouver:20240226T160000
DTSTAMP:20260423T134827
CREATED:20240226T195840Z
LAST-MODIFIED:20240226T195840Z
UID:2456-1708948800-1708963200@www.gameonsports.bar
SUMMARY:Monday Special Feature
DESCRIPTION:Beef Tenderloin Skewer\non Caesar Salad with Garlic Toast $17.99 \nSoup of the Day: \nCabbage Roll\nCream of Mushroom\nChicken & Ham Corn Chowder \nDrink Special: \nPints of Lions Gate Lager $6.00\nSmirnoff Ice $5.00
URL:https://www.gameonsports.bar/event/monday-special-feature-39/
LOCATION:Game On Sports Bar & Grill\, 3701 Dewolf Way\, Merritt\, BC\, V1K 1C4\, Canada
ATTACH;FMTTYPE=image/jpeg:https://www.gameonsports.bar/wp-content/uploads/2024/02/Monday-February-26-2024-IG.jpeg
ORGANIZER;CN="Jim%20Cooley":MAILTO:jim.cooley@live.ca
END:VEVENT
BEGIN:VEVENT
DTSTART;TZID=America/Vancouver:20240227T120000
DTEND;TZID=America/Vancouver:20240227T160000
DTSTAMP:20260423T134827
CREATED:20240227T201441Z
LAST-MODIFIED:20240227T201441Z
UID:2459-1709035200-1709049600@www.gameonsports.bar
SUMMARY:Tuesday Special Feature
DESCRIPTION:Prime Rib Stuffed Potato Skins\nin a Mushroom Sauce $16.99 \nSeafood Chowder with Garlic Toast $12.99 \nSoup of the Day: \nCream of Broccoli\nChicken Sausage Gumbo\nSpinach Mushroom Chicken \nDrink Special: \nPints of Sleeman Honey Brown $6.00
URL:https://www.gameonsports.bar/event/tuesday-special-feature-40/
LOCATION:Game On Sports Bar & Grill\, 3701 Dewolf Way\, Merritt\, BC\, V1K 1C4\, Canada
ATTACH;FMTTYPE=image/jpeg:https://www.gameonsports.bar/wp-content/uploads/2024/02/Tuesday-February-27-2024-IG.jpeg
ORGANIZER;CN="Jim%20Cooley":MAILTO:jim.cooley@live.ca
END:VEVENT
BEGIN:VEVENT
DTSTART;TZID=America/Vancouver:20240228T120000
DTEND;TZID=America/Vancouver:20240228T160000
DTSTAMP:20260423T134827
CREATED:20240228T192333Z
LAST-MODIFIED:20240228T192426Z
UID:2462-1709121600-1709136000@www.gameonsports.bar
SUMMARY:Wednesday Special Feature
DESCRIPTION:Western Burger\nwith soup\, salad or fries. $18.99 \nBaked French Onion\nwith garlic toast. $11.95 \nSoup of the Day: \nCabbage Roll\nCream of Carrot\nChicken Sausage Gumbo \nDrink Special: \nPints of Seasonal Ale $6.00\nParalyzers $5.40
URL:https://www.gameonsports.bar/event/wednesday-special-feature-38/
LOCATION:Game On Sports Bar & Grill\, 3701 Dewolf Way\, Merritt\, BC\, V1K 1C4\, Canada
ATTACH;FMTTYPE=image/jpeg:https://www.gameonsports.bar/wp-content/uploads/2024/02/Wednesday-February-28-2024-IG.jpeg
ORGANIZER;CN="Jim%20Cooley":MAILTO:jim.cooley@live.ca
END:VEVENT
BEGIN:VEVENT
DTSTART;TZID=America/Vancouver:20240229T120000
DTEND;TZID=America/Vancouver:20240229T160000
DTSTAMP:20260423T134827
CREATED:20240229T200243Z
LAST-MODIFIED:20240229T200243Z
UID:2465-1709208000-1709222400@www.gameonsports.bar
SUMMARY:Thursday Special Feature
DESCRIPTION:Spinach Chicken Club Panini\nwith soup\, salad or fries $16.99 \nSoup of the Day: \nCream of Carrot\nCooley Burger\nBroccoli Cheddar\nChicken & Ham Corn Chowder \nDrink Special: \nBottles of MGD $5.15\nLong Island Icedtea $5.40
URL:https://www.gameonsports.bar/event/thursday-special-feature-43/
LOCATION:Game On Sports Bar & Grill\, 3701 Dewolf Way\, Merritt\, BC\, V1K 1C4\, Canada
ATTACH;FMTTYPE=image/jpeg:https://www.gameonsports.bar/wp-content/uploads/2024/02/Thursday-February-29-2024-IG.jpeg
ORGANIZER;CN="Jim%20Cooley":MAILTO:jim.cooley@live.ca
END:VEVENT
BEGIN:VEVENT
DTSTART;TZID=America/Vancouver:20240301T120000
DTEND;TZID=America/Vancouver:20240301T160000
DTSTAMP:20260423T134827
CREATED:20240301T194225Z
LAST-MODIFIED:20240301T194225Z
UID:2468-1709294400-1709308800@www.gameonsports.bar
SUMMARY:Friday Special Feature
DESCRIPTION:Baked French Onion Soup\nwith Garlic Toast $11.95 \nHot Meatloaf\nwith soup\, salad or fries $17.99 \nSoup of the Day: \nCream of Tomato\nBroccoli Cheddar\nCabbage Roll \nDrink Special: \nPints of Seasonal Ale $6.00\nBrown Cow $5.50
URL:https://www.gameonsports.bar/event/friday-special-feature-43/
LOCATION:Game On Sports Bar & Grill\, 3701 Dewolf Way\, Merritt\, BC\, V1K 1C4\, Canada
ATTACH;FMTTYPE=image/jpeg:https://www.gameonsports.bar/wp-content/uploads/2024/03/Friday-March-1-2024-IG.jpeg
ORGANIZER;CN="Jim%20Cooley":MAILTO:jim.cooley@live.ca
END:VEVENT
BEGIN:VEVENT
DTSTART;TZID=America/Vancouver:20240302T120000
DTEND;TZID=America/Vancouver:20240302T160000
DTSTAMP:20260423T134827
CREATED:20240302T200305Z
LAST-MODIFIED:20240302T200305Z
UID:2471-1709380800-1709395200@www.gameonsports.bar
SUMMARY:Saturday Special Feature
DESCRIPTION:Chipotle Beef Panini\nwith soup\, salad or fries $16.99 \nSoup of the Day: \nCooley Burger\nCream of Mushroom\nCabbage Roll \nDrink Special: \nPints of Rickards Red $6.00\nBailey’s & Coffee
URL:https://www.gameonsports.bar/event/saturday-special-feature-42/
LOCATION:Game On Sports Bar & Grill\, 3701 Dewolf Way\, Merritt\, BC\, V1K 1C4\, Canada
ATTACH;FMTTYPE=image/jpeg:https://www.gameonsports.bar/wp-content/uploads/2024/03/Saturday-March-2-2024-IG.jpeg
ORGANIZER;CN="Jim%20Cooley":MAILTO:jim.cooley@live.ca
END:VEVENT
BEGIN:VEVENT
DTSTART;TZID=America/Vancouver:20240304T120000
DTEND;TZID=America/Vancouver:20240304T160000
DTSTAMP:20260423T134827
CREATED:20240304T193306Z
LAST-MODIFIED:20240304T193602Z
UID:2474-1709553600-1709568000@www.gameonsports.bar
SUMMARY:Monday Special Feature
DESCRIPTION:Flamethrower Burger\nwith soup\, salad or fries $17.99 \nSoup of the Day: \nTomato Bacon\nCabbage Roll\nCooley Burger \nDrink Special: \nBottles of Kokanee $5.15\nLong Island Iced Tea $5.40
URL:https://www.gameonsports.bar/event/monday-special-feature-40/
LOCATION:Game On Sports Bar & Grill\, 3701 Dewolf Way\, Merritt\, BC\, V1K 1C4\, Canada
ATTACH;FMTTYPE=image/jpeg:https://www.gameonsports.bar/wp-content/uploads/2024/03/Monday-March-4-2024-IG.jpeg
ORGANIZER;CN="Jim%20Cooley":MAILTO:jim.cooley@live.ca
END:VEVENT
BEGIN:VEVENT
DTSTART;TZID=America/Vancouver:20240305T120000
DTEND;TZID=America/Vancouver:20240305T160000
DTSTAMP:20260423T134827
CREATED:20240305T200900Z
LAST-MODIFIED:20240305T201526Z
UID:2478-1709640000-1709654400@www.gameonsports.bar
SUMMARY:Tuesday Special Feature
DESCRIPTION:2pc Stuffed Yorkies $14.99\nBaked French Onion\nwith Garlic Toast $11.99 \nSoup of the Day: \nChicken Sausage Gumbo\nChicken Ham Chowder\nCooley Burger \nDrink Special: \nPints of Seasonal Ale $6.00\nParalyzers $5.40
URL:https://www.gameonsports.bar/event/tuesday-special-feature-41/
LOCATION:Game On Sports Bar & Grill\, 3701 Dewolf Way\, Merritt\, BC\, V1K 1C4\, Canada
ATTACH;FMTTYPE=image/jpeg:https://www.gameonsports.bar/wp-content/uploads/2024/03/Tuesday-March-5-2024-IG.jpeg
ORGANIZER;CN="Jim%20Cooley":MAILTO:jim.cooley@live.ca
END:VEVENT
BEGIN:VEVENT
DTSTART;TZID=America/Vancouver:20240306T120000
DTEND;TZID=America/Vancouver:20240306T160000
DTSTAMP:20260423T134827
CREATED:20240306T195707Z
LAST-MODIFIED:20240306T195716Z
UID:2481-1709726400-1709740800@www.gameonsports.bar
SUMMARY:Wednesday Special Feature
DESCRIPTION:Grilled Philly Steak Wrap\nwith soup\, salad or fries. $16.99 \nSoup of the Day: \nBeef Barley\nPotato Bacon\nCream of Tomato\nHam Chicken Corn Chowder \nDrink Special: \nPints of Sleeman Honey Brown $6.00\nLong Island Ice Tea $5.40
URL:https://www.gameonsports.bar/event/wednesday-special-feature-39/
LOCATION:Game On Sports Bar & Grill\, 3701 Dewolf Way\, Merritt\, BC\, V1K 1C4\, Canada
ATTACH;FMTTYPE=image/jpeg:https://www.gameonsports.bar/wp-content/uploads/2024/03/Wednesday-March-6-2024-IG.jpeg
ORGANIZER;CN="Jim%20Cooley":MAILTO:jim.cooley@live.ca
END:VEVENT
BEGIN:VEVENT
DTSTART;TZID=America/Vancouver:20240307T120000
DTEND;TZID=America/Vancouver:20240307T160000
DTSTAMP:20260423T134827
CREATED:20240307T195708Z
LAST-MODIFIED:20240307T195708Z
UID:2484-1709812800-1709827200@www.gameonsports.bar
SUMMARY:Thursday Special Feature
DESCRIPTION:Beef Stew with Cheese Toast $13.99 \nSpinach & Cream Cheese stuffed\nChicken Club Sandwich\nwith soup\, salad or fries $16.99 \nSoup of the Day: \nCabbage Roll\nCream of Mushroom\nPotato Bacon \nDrink Special: \nTequilla Sunrise $5.50\nCans of Blue Moon $5.15
URL:https://www.gameonsports.bar/event/thursday-special-feature-44/
LOCATION:Game On Sports Bar & Grill\, 3701 Dewolf Way\, Merritt\, BC\, V1K 1C4\, Canada
ATTACH;FMTTYPE=image/jpeg:https://www.gameonsports.bar/wp-content/uploads/2024/03/Thursday-March-7-2024-IG.jpeg
ORGANIZER;CN="Jim%20Cooley":MAILTO:jim.cooley@live.ca
END:VEVENT
BEGIN:VEVENT
DTSTART;TZID=America/Vancouver:20240308T120000
DTEND;TZID=America/Vancouver:20240308T160000
DTSTAMP:20260423T134827
CREATED:20240308T193450Z
LAST-MODIFIED:20240308T193450Z
UID:2487-1709899200-1709913600@www.gameonsports.bar
SUMMARY:Friday Special Feature
DESCRIPTION:Hot Meatloaf with Mushrooms\nand Gravy\nwith soup\, salad or fries $17.99 \nSoup of the Day: \nPhilly Beef\nChicken & Sausage Gumbo\nBroccoli Cheddar \nDrink Special: \nPints of Flagship IPA $6.00\nGame On Iced Tea $5.40
URL:https://www.gameonsports.bar/event/friday-special-feature-44/
LOCATION:Game On Sports Bar & Grill\, 3701 Dewolf Way\, Merritt\, BC\, V1K 1C4\, Canada
ATTACH;FMTTYPE=image/jpeg:https://www.gameonsports.bar/wp-content/uploads/2024/03/Friday-March-8-2024-IG.jpeg
ORGANIZER;CN="Jim%20Cooley":MAILTO:jim.cooley@live.ca
END:VEVENT
BEGIN:VEVENT
DTSTART;TZID=America/Vancouver:20240311T120000
DTEND;TZID=America/Vancouver:20240311T160000
DTSTAMP:20260423T134827
CREATED:20240311T184005Z
LAST-MODIFIED:20240311T185340Z
UID:2490-1710158400-1710172800@www.gameonsports.bar
SUMMARY:Monday Special Feature
DESCRIPTION:Swiss & Caramelized Cnion\nBison Burger\nwith soup\, salad or fries $16.99 \nSoup of the Day: \nBeef Barley\nCabbage Roll\nBroccoli Cheddar \nDrink Special: \nPints of Seasonal Ale $6.00\nBaileys & Coffee $6.00
URL:https://www.gameonsports.bar/event/monday-special-feature-41/
LOCATION:Game On Sports Bar & Grill\, 3701 Dewolf Way\, Merritt\, BC\, V1K 1C4\, Canada
ATTACH;FMTTYPE=image/jpeg:https://www.gameonsports.bar/wp-content/uploads/2024/03/Monday-March-11-2024-IG.jpeg
ORGANIZER;CN="Jim%20Cooley":MAILTO:jim.cooley@live.ca
END:VEVENT
BEGIN:VEVENT
DTSTART;TZID=America/Vancouver:20240312T120000
DTEND;TZID=America/Vancouver:20240312T160000
DTSTAMP:20260423T134827
CREATED:20240312T202330Z
LAST-MODIFIED:20240312T202330Z
UID:2493-1710244800-1710259200@www.gameonsports.bar
SUMMARY:Tuesday Special Feature
DESCRIPTION:Western Burger\nwith soup\, salad or fries $18.99 \nSoup of the Day: \nTomato Bacon\nCooley Burger\nChicken Sausage Gumbo \nDrink Special: \nPints of Sleeman Honey Brown $6.00\nLong island Ice Tea $5.40
URL:https://www.gameonsports.bar/event/tuesday-special-feature-42/
LOCATION:Game On Sports Bar & Grill\, 3701 Dewolf Way\, Merritt\, BC\, V1K 1C4\, Canada
ATTACH;FMTTYPE=image/jpeg:https://www.gameonsports.bar/wp-content/uploads/2024/03/Tuesday-March-12-2024-IG.jpeg
ORGANIZER;CN="Jim%20Cooley":MAILTO:jim.cooley@live.ca
END:VEVENT
BEGIN:VEVENT
DTSTART;TZID=America/Vancouver:20240313T120000
DTEND;TZID=America/Vancouver:20240313T160000
DTSTAMP:20260423T134827
CREATED:20240313T182134Z
LAST-MODIFIED:20240313T182134Z
UID:2497-1710331200-1710345600@www.gameonsports.bar
SUMMARY:Wednesday Special Feature
DESCRIPTION:Chicken Bacon Ranch Wrap\nwith Crispy Pickles.\nServed with soup\, salad or fries. $16.99 \nSoup of the Day: \nBorscht\nSplit Pea & Ham\nCooley Burger \nDrink Special: \nPints of Seasonal Ale $6.00\nParalyzers $5.40
URL:https://www.gameonsports.bar/event/wednesday-special-feature-40/
LOCATION:Game On Sports Bar & Grill\, 3701 Dewolf Way\, Merritt\, BC\, V1K 1C4\, Canada
ATTACH;FMTTYPE=image/jpeg:https://www.gameonsports.bar/wp-content/uploads/2024/03/Wednesday-March-13-2024-IG.jpeg
ORGANIZER;CN="Jim%20Cooley":MAILTO:jim.cooley@live.ca
END:VEVENT
BEGIN:VEVENT
DTSTART;TZID=America/Vancouver:20240315T120000
DTEND;TZID=America/Vancouver:20240315T160000
DTSTAMP:20260423T134827
CREATED:20240315T183022Z
LAST-MODIFIED:20240315T183022Z
UID:2500-1710504000-1710518400@www.gameonsports.bar
SUMMARY:Friday Special Feature
DESCRIPTION:Chilli Cheese Fries $16.99 \nMushroom Onion Chicken Swiss Melt with soup\, salad or fries $17.99 \nSoup of the Day: \nBorscht\nCabbage Roll\nSplit Pea & Ham \nDrink Special: \nPints of Seasonal Ale $6.00\nVodka Cranberry $5.40
URL:https://www.gameonsports.bar/event/friday-special-feature-45/
LOCATION:Game On Sports Bar & Grill\, 3701 Dewolf Way\, Merritt\, BC\, V1K 1C4\, Canada
ATTACH;FMTTYPE=image/jpeg:https://www.gameonsports.bar/wp-content/uploads/2024/03/Friday-March-15-2024-IG.jpeg
ORGANIZER;CN="Jim%20Cooley":MAILTO:jim.cooley@live.ca
END:VEVENT
END:VCALENDAR