BEGIN:VCALENDAR
VERSION:2.0
PRODID:-//Game On Sports Bar &amp; Grill - ECPv6.0.8//NONSGML v1.0//EN
CALSCALE:GREGORIAN
METHOD:PUBLISH
X-ORIGINAL-URL:https://www.gameonsports.bar
X-WR-CALDESC:Events for Game On Sports Bar &amp; Grill
REFRESH-INTERVAL;VALUE=DURATION:PT1H
X-Robots-Tag:noindex
X-PUBLISHED-TTL:PT1H
BEGIN:VTIMEZONE
TZID:America/Vancouver
BEGIN:DAYLIGHT
TZOFFSETFROM:-0800
TZOFFSETTO:-0700
TZNAME:PDT
DTSTART:20230312T100000
END:DAYLIGHT
BEGIN:STANDARD
TZOFFSETFROM:-0700
TZOFFSETTO:-0800
TZNAME:PST
DTSTART:20231105T090000
END:STANDARD
BEGIN:DAYLIGHT
TZOFFSETFROM:-0800
TZOFFSETTO:-0700
TZNAME:PDT
DTSTART:20240310T100000
END:DAYLIGHT
BEGIN:STANDARD
TZOFFSETFROM:-0700
TZOFFSETTO:-0800
TZNAME:PST
DTSTART:20241103T090000
END:STANDARD
END:VTIMEZONE
BEGIN:VEVENT
DTSTART;TZID=America/Vancouver:20231202T120000
DTEND;TZID=America/Vancouver:20231202T160000
DTSTAMP:20260423T051829
CREATED:20231202T192120Z
LAST-MODIFIED:20231202T192120Z
UID:2226-1701518400-1701532800@www.gameonsports.bar
SUMMARY:Saturday Special Feature
DESCRIPTION:Beef & Mozza Panini\nwith soup\, salad or fries $15.99 \nSoup of the Day: \nCream of Broccoli\nCabbage Roll\nPhilly Beef \nDrink Special: \nPints of Lions Gate Lager $6.00\nTwisted Tea $5.00
URL:https://www.gameonsports.bar/event/saturday-special-feature-32/
LOCATION:Game On Sports Bar & Grill\, 3701 Dewolf Way\, Merritt\, BC\, V1K 1C4\, Canada
ATTACH;FMTTYPE=image/jpeg:https://www.gameonsports.bar/wp-content/uploads/2023/12/Saturday-December-2-2023-ig.jpeg
ORGANIZER;CN="Jim%20Cooley":MAILTO:jim.cooley@live.ca
END:VEVENT
BEGIN:VEVENT
DTSTART;TZID=America/Vancouver:20231204T120000
DTEND;TZID=America/Vancouver:20231204T160000
DTSTAMP:20260423T051829
CREATED:20231204T190129Z
LAST-MODIFIED:20231204T190129Z
UID:2229-1701691200-1701705600@www.gameonsports.bar
SUMMARY:Monday Special Feature
DESCRIPTION:Turkey Club Panini\nwith soup\, salad or fries $16.99 \nSoup of the Day: \nCheese Burger\nCabbage Roll\nBeef Barley \nDrink Special: \nBottles of Budwiser $5.15\nBaileys & Coffee $6.00
URL:https://www.gameonsports.bar/event/monday-special-feature-31/
LOCATION:Game On Sports Bar & Grill\, 3701 Dewolf Way\, Merritt\, BC\, V1K 1C4\, Canada
ATTACH;FMTTYPE=image/jpeg:https://www.gameonsports.bar/wp-content/uploads/2023/12/Monday-December-4-2023-IG.jpeg
ORGANIZER;CN="Jim%20Cooley":MAILTO:jim.cooley@live.ca
END:VEVENT
BEGIN:VEVENT
DTSTART;TZID=America/Vancouver:20231205T120000
DTEND;TZID=America/Vancouver:20231205T160000
DTSTAMP:20260423T051829
CREATED:20231205T184221Z
LAST-MODIFIED:20231205T184221Z
UID:2232-1701777600-1701792000@www.gameonsports.bar
SUMMARY:Tuesday Special Feature
DESCRIPTION:Chicken Swiss Burger $17.99\ntopped with crispy spicy pickles served with soup\, salad or fries. \nBaked French Onion with\nGarlic Toast $11.49 \nSoup of the Day: \nTurkey Sausage Gumbo\nCream of Tomato\nChickpea Veg & Bacon \nDrink Special: \nBottles of Coors Original $5.15\nGreyhounds $5.50
URL:https://www.gameonsports.bar/event/tuesday-special-feature-29/
LOCATION:Game On Sports Bar & Grill\, 3701 Dewolf Way\, Merritt\, BC\, V1K 1C4\, Canada
ATTACH;FMTTYPE=image/jpeg:https://www.gameonsports.bar/wp-content/uploads/2023/12/Tuesday-December-5-2023-IG-post.jpeg
END:VEVENT
BEGIN:VEVENT
DTSTART;TZID=America/Vancouver:20231206T120000
DTEND;TZID=America/Vancouver:20231206T160000
DTSTAMP:20260423T051829
CREATED:20231206T190530Z
LAST-MODIFIED:20231206T190530Z
UID:2237-1701864000-1701878400@www.gameonsports.bar
SUMMARY:Wednesday Special Feature
DESCRIPTION:Philly Steak Wrap $18.99\nCubano Sandwich $17.99\nboth with soup\, salad or fries \nSoup of the Day: \nTurkey Veg\nCream of Mushroom\nBeef Barley \nDrink Special: \nBottles of Kokanee $5.15\nMalibu Pineapple $5.50
URL:https://www.gameonsports.bar/event/wednesday-special-feature-27/
LOCATION:Game On Sports Bar & Grill\, 3701 Dewolf Way\, Merritt\, BC\, V1K 1C4\, Canada
ATTACH;FMTTYPE=image/jpeg:https://www.gameonsports.bar/wp-content/uploads/2023/12/Wednesday-December-6-2023-ig.jpeg
ORGANIZER;CN="Jim%20Cooley":MAILTO:jim.cooley@live.ca
END:VEVENT
BEGIN:VEVENT
DTSTART;TZID=America/Vancouver:20231207T120000
DTEND;TZID=America/Vancouver:20231207T160000
DTSTAMP:20260423T051829
CREATED:20231207T191647Z
LAST-MODIFIED:20231207T191647Z
UID:2240-1701950400-1701964800@www.gameonsports.bar
SUMMARY:Thursday Special Feature
DESCRIPTION:Shredded Lime & Tarragon\nChicken Ranch Wrap with soup\, salad or fries $16.99 \nSoup of the Day: \nPhilly Beef\nChick Pea & Bacon\nTurkey & Sausage Gumbo \nDrink Special: \nBottles of Budwiser $5.15\nGreyhounds $5.40
URL:https://www.gameonsports.bar/event/thursday-special-feature-31/
LOCATION:Game On Sports Bar & Grill\, 3701 Dewolf Way\, Merritt\, BC\, V1K 1C4\, Canada
ATTACH;FMTTYPE=image/jpeg:https://www.gameonsports.bar/wp-content/uploads/2023/12/Thursday-December-7-2023-ig.jpeg
ORGANIZER;CN="Jim%20Cooley":MAILTO:jim.cooley@live.ca
END:VEVENT
BEGIN:VEVENT
DTSTART;TZID=America/Vancouver:20231208T120000
DTEND;TZID=America/Vancouver:20231208T160000
DTSTAMP:20260423T051829
CREATED:20231208T200410Z
LAST-MODIFIED:20231208T200410Z
UID:2243-1702036800-1702051200@www.gameonsports.bar
SUMMARY:Friday Special Feature
DESCRIPTION:Western Burger\nwith soup\, salad or fries $18.99 \nSoup of the Day: \nCream of Tomato\nBeef Barley\nCream of Mushroom\nFrench Onion \nDrink Special: \nBottles of Coors Original $5.15 \nScrewdrivers $5.40
URL:https://www.gameonsports.bar/event/friday-special-feature-31/
LOCATION:Game On Sports Bar & Grill\, 3701 Dewolf Way\, Merritt\, BC\, V1K 1C4\, Canada
ATTACH;FMTTYPE=image/jpeg:https://www.gameonsports.bar/wp-content/uploads/2023/12/Friday-December-8-2023-ig.jpeg
ORGANIZER;CN="Jim%20Cooley":MAILTO:jim.cooley@live.ca
END:VEVENT
BEGIN:VEVENT
DTSTART;TZID=America/Vancouver:20231209T120000
DTEND;TZID=America/Vancouver:20231209T160000
DTSTAMP:20260423T051829
CREATED:20231209T203228Z
LAST-MODIFIED:20231209T203340Z
UID:2246-1702123200-1702137600@www.gameonsports.bar
SUMMARY:Saturday Special Feature
DESCRIPTION:Jalepeno Peppers $11.99 \nLime and Tarragon Shredded Chicken Panini with soup\, salad of fries $16.99 \nSoup of the Day: \nMulligatawny\nPhilly Beef\nTurkey Vegetable \nDrink Special: \nPints of Flagship IPA $6.00\nGrowers Pear Sider $5.00
URL:https://www.gameonsports.bar/event/saturday-special-feature-33/
LOCATION:Game On Sports Bar & Grill\, 3701 Dewolf Way\, Merritt\, BC\, V1K 1C4\, Canada
ATTACH;FMTTYPE=image/jpeg:https://www.gameonsports.bar/wp-content/uploads/2023/12/Saturday-December-9-2023-IG-Post.jpeg
ORGANIZER;CN="Jim%20Cooley":MAILTO:jim.cooley@live.ca
END:VEVENT
BEGIN:VEVENT
DTSTART;TZID=America/Vancouver:20231211T120000
DTEND;TZID=America/Vancouver:20231211T160000
DTSTAMP:20260423T051829
CREATED:20231211T190746Z
LAST-MODIFIED:20231211T190746Z
UID:2249-1702296000-1702310400@www.gameonsports.bar
SUMMARY:Monday Special Feature
DESCRIPTION:Mushroom Swiss Prime Rib Dip\nwith soup\, salad or fries $17.99 \nMac & Cheese Bites served with Chipotle Mayo $13.99 \nSoup of the Day: \nBeef Barley\nCream of Mushroom\nTurkey Rice \nDrink Special: \nPints of Flagship IPA $6.00 \nJoin Us For Happy Hour 2 – 4 PM
URL:https://www.gameonsports.bar/event/monday-special-feature-32/
LOCATION:Game On Sports Bar & Grill\, 3701 Dewolf Way\, Merritt\, BC\, V1K 1C4\, Canada
ATTACH;FMTTYPE=image/jpeg:https://www.gameonsports.bar/wp-content/uploads/2023/12/Monday-December-11-2023-ig.jpeg
ORGANIZER;CN="Jim%20Cooley":MAILTO:jim.cooley@live.ca
END:VEVENT
BEGIN:VEVENT
DTSTART;TZID=America/Vancouver:20231212T120000
DTEND;TZID=America/Vancouver:20231212T160000
DTSTAMP:20260423T051829
CREATED:20231212T190451Z
LAST-MODIFIED:20231212T190451Z
UID:2252-1702382400-1702396800@www.gameonsports.bar
SUMMARY:Tuesday Special Feature
DESCRIPTION:Chicken Ranch Swiss Burger\nwith spicy deep fried pickles $17.99 \nSoup of the Day: \nMullagatawny\nPhilly Beef\nBeef Barley \nDrink Special: \nPints of Lions Gate Lager $6.00 \nHappy Hour 2-4 pm!!!
URL:https://www.gameonsports.bar/event/tuesday-special-feature-30/
LOCATION:Game On Sports Bar & Grill\, 3701 Dewolf Way\, Merritt\, BC\, V1K 1C4\, Canada
ATTACH;FMTTYPE=image/jpeg:https://www.gameonsports.bar/wp-content/uploads/2023/12/Tuesday-December-12-2023-ig.jpeg
ORGANIZER;CN="Jim%20Cooley":MAILTO:jim.cooley@live.ca
END:VEVENT
BEGIN:VEVENT
DTSTART;TZID=America/Vancouver:20231214T120000
DTEND;TZID=America/Vancouver:20231214T160000
DTSTAMP:20260423T051829
CREATED:20231214T191452Z
LAST-MODIFIED:20231214T191452Z
UID:2281-1702555200-1702569600@www.gameonsports.bar
SUMMARY:Thursday Special Feature
DESCRIPTION:Buffalo Chicken Caesar Wrap\nwith soup\, salad or fries $15.99 \nSoup of the Day: \nThai Coconut Curry\nBorscht\nCream of Mushroom \nDrink Special: \nBottles of Coors Original $5.15\nBailey’s & Coffee $6.00
URL:https://www.gameonsports.bar/event/thursday-special-feature-32/
LOCATION:Game On Sports Bar & Grill\, 3701 Dewolf Way\, Merritt\, BC\, V1K 1C4\, Canada
ATTACH;FMTTYPE=image/jpeg:https://www.gameonsports.bar/wp-content/uploads/2023/12/Thursday-December-14-2023-ig.jpeg
ORGANIZER;CN="Jim%20Cooley":MAILTO:jim.cooley@live.ca
END:VEVENT
BEGIN:VEVENT
DTSTART;TZID=America/Vancouver:20231215T120000
DTEND;TZID=America/Vancouver:20231215T160000
DTSTAMP:20260423T051829
CREATED:20231215T200323Z
LAST-MODIFIED:20231215T200323Z
UID:2284-1702641600-1702656000@www.gameonsports.bar
SUMMARY:Friday Special Feature
DESCRIPTION:Western Burger\nwith soup\, salad or fries $18.99 \nSoup of the Day: \nPepper Pot\nCream of Tomato & Bacon\nTurkey & Sausage Gumbo \nDrink Special: \nStrawberry Kiwi Nudes $5.00\nPints of Lions Gate Lager $6.00
URL:https://www.gameonsports.bar/event/friday-special-feature-32/
LOCATION:Game On Sports Bar & Grill\, 3701 Dewolf Way\, Merritt\, BC\, V1K 1C4\, Canada
ATTACH;FMTTYPE=image/jpeg:https://www.gameonsports.bar/wp-content/uploads/2023/12/Friday-December-15-2023-ig.jpeg
ORGANIZER;CN="Jim%20Cooley":MAILTO:jim.cooley@live.ca
END:VEVENT
BEGIN:VEVENT
DTSTART;TZID=America/Vancouver:20231216T120000
DTEND;TZID=America/Vancouver:20231216T160000
DTSTAMP:20260423T051829
CREATED:20231216T192939Z
LAST-MODIFIED:20231216T192939Z
UID:2287-1702728000-1702742400@www.gameonsports.bar
SUMMARY:Saturday Special Feature
DESCRIPTION:Hot Meatloaf Sandwich with Mushrooms & Gravy\nServed with soup\, salad or fries. $16.99 \nBaked French Onion Soup with Garlic Toast $11.99 \nSoup of the Day: \nTurkey Vegetable\nTomato & Bacon \nDrink Specials: \nPints of Flagship IPA $6.00\nVodka Cran $5.50
URL:https://www.gameonsports.bar/event/saturday-special-feature-34/
LOCATION:Game On Sports Bar & Grill\, 3701 Dewolf Way\, Merritt\, BC\, V1K 1C4\, Canada
ATTACH;FMTTYPE=image/jpeg:https://www.gameonsports.bar/wp-content/uploads/2023/12/Saturday-December-16-2023-IG.jpeg
ORGANIZER;CN="Jim%20Cooley":MAILTO:jim.cooley@live.ca
END:VEVENT
BEGIN:VEVENT
DTSTART;TZID=America/Vancouver:20231218T120000
DTEND;TZID=America/Vancouver:20231218T160000
DTSTAMP:20260423T051829
CREATED:20231218T190003Z
LAST-MODIFIED:20231218T190003Z
UID:2290-1702900800-1702915200@www.gameonsports.bar
SUMMARY:Monday Special Feature
DESCRIPTION:2 Stuffed Yorkies $17.99 \nSoup of the Day: \nTurkey Vegetable\nMullagatawny\nBeef Barley \nDrink Special: \nPints of 1516 $6.00\nStrawberry Kiwi Nudes $5.00
URL:https://www.gameonsports.bar/event/monday-special-feature-33/
LOCATION:Game On Sports Bar & Grill\, 3701 Dewolf Way\, Merritt\, BC\, V1K 1C4\, Canada
ATTACH;FMTTYPE=image/jpeg:https://www.gameonsports.bar/wp-content/uploads/2023/12/Monday-December-18-2023-IG.jpeg
ORGANIZER;CN="Jim%20Cooley":MAILTO:jim.cooley@live.ca
END:VEVENT
BEGIN:VEVENT
DTSTART;TZID=America/Vancouver:20231219T120000
DTEND;TZID=America/Vancouver:20231219T160000
DTSTAMP:20260423T051829
CREATED:20231219T191526Z
LAST-MODIFIED:20231219T191526Z
UID:2293-1702987200-1703001600@www.gameonsports.bar
SUMMARY:Tuesday Special Feature
DESCRIPTION:Seafood Chowder with Garlic Toast\n$11.49 \nMushroom & Swiss Beef Dip\nwith soup\, salad or fries $17.99 \nSoup of the Day: \nPepper Pot\nCream of Broccoli\nCabbage Roll \nDrink Special: \nCoors Light Bottles $5.15
URL:https://www.gameonsports.bar/event/tuesday-special-feature-31/
LOCATION:Game On Sports Bar & Grill\, 3701 Dewolf Way\, Merritt\, BC\, V1K 1C4\, Canada
ATTACH;FMTTYPE=image/jpeg:https://www.gameonsports.bar/wp-content/uploads/2023/12/Tuesday-December-19-2023-ig.jpeg
ORGANIZER;CN="Jim%20Cooley":MAILTO:jim.cooley@live.ca
END:VEVENT
BEGIN:VEVENT
DTSTART;TZID=America/Vancouver:20231220T120000
DTEND;TZID=America/Vancouver:20231220T160000
DTSTAMP:20260423T051829
CREATED:20231213T191858Z
LAST-MODIFIED:20231213T191858Z
UID:2277-1703073600-1703088000@www.gameonsports.bar
SUMMARY:Wednesday Special Feature
DESCRIPTION:BBQ Cheddar Beef Dip $17.99\nwith soup\, salad or fries. \nSoup of the Day: \nTurkey Sausage Gumbo\nMulligatawny\nCream of Tomato & Bacon\nChicken Thai Coconut Curry \nDrink Special: \nBottles of Bud $5.15\nScrewdrivers $5.40
URL:https://www.gameonsports.bar/event/wednesday-special-feature-28/
LOCATION:Game On Sports Bar & Grill\, 3701 Dewolf Way\, Merritt\, BC\, V1K 1C4\, Canada
ATTACH;FMTTYPE=image/jpeg:https://www.gameonsports.bar/wp-content/uploads/2023/12/Wednesday-December-13-2023-ig.jpeg
ORGANIZER;CN="Jim%20Cooley":MAILTO:jim.cooley@live.ca
END:VEVENT
BEGIN:VEVENT
DTSTART;TZID=America/Vancouver:20231220T120000
DTEND;TZID=America/Vancouver:20231220T160000
DTSTAMP:20260423T051829
CREATED:20231220T191353Z
LAST-MODIFIED:20231220T191353Z
UID:2296-1703073600-1703088000@www.gameonsports.bar
SUMMARY:Wednesday Special Feature
DESCRIPTION:Baked French Onion Soup\nwith Garlic Toast $11.99 \nWestem Burger\nwith soup\, salad or fries $17.99 \nSoup of the Day: \nCabbage Roll\nCream of Carrot\nBorsht \nDrink Special: \nNew OK Springs Amber Ale $5.75\nBottles of Kokanee $5.15
URL:https://www.gameonsports.bar/event/wednesday-special-feature-29/
LOCATION:Game On Sports Bar & Grill\, 3701 Dewolf Way\, Merritt\, BC\, V1K 1C4\, Canada
ATTACH;FMTTYPE=image/jpeg:https://www.gameonsports.bar/wp-content/uploads/2023/12/Wednesday-December-20-2023-IG.jpeg
ORGANIZER;CN="Jim%20Cooley":MAILTO:jim.cooley@live.ca
END:VEVENT
BEGIN:VEVENT
DTSTART;TZID=America/Vancouver:20231221T120000
DTEND;TZID=America/Vancouver:20231221T160000
DTSTAMP:20260423T051829
CREATED:20231221T192755Z
LAST-MODIFIED:20231221T192755Z
UID:2299-1703160000-1703174400@www.gameonsports.bar
SUMMARY:Thursday Special Feature
DESCRIPTION:Swiss\, Ranch Chicken Burger with Spicy Pickles with soup\, salad or fries $16.99 \nSoup of the Day: \nPepper Pot\nBeef Barley\nThai Coconut Curry\nCream of Broccoli \nDrink Special: \nPints of OK Springs\nSeasonal Ale $5.75 \nStrawberry Kiwi Nudes $5.00
URL:https://www.gameonsports.bar/event/thursday-special-feature-33/
LOCATION:Game On Sports Bar & Grill\, 3701 Dewolf Way\, Merritt\, BC\, V1K 1C4\, Canada
ATTACH;FMTTYPE=image/jpeg:https://www.gameonsports.bar/wp-content/uploads/2023/12/Thursday-December-21-2023-IG.jpeg
ORGANIZER;CN="Jim%20Cooley":MAILTO:jim.cooley@live.ca
END:VEVENT
BEGIN:VEVENT
DTSTART;TZID=America/Vancouver:20231222T120000
DTEND;TZID=America/Vancouver:20231222T160000
DTSTAMP:20260423T051829
CREATED:20231222T200451Z
LAST-MODIFIED:20231222T200451Z
UID:2303-1703246400-1703260800@www.gameonsports.bar
SUMMARY:Friday Special Feature
DESCRIPTION:Mushroom Swiss Burger\nwith soup\, salad or fries $17.99 \nSoup of the Day: \nBorscht\nCream of Tomato\nTurkey & Rice\nPotato Bacon \nDrink Special: \nPints of OK Springs\nSeasonal Ale $5.75 \nGreyhounds $5.40
URL:https://www.gameonsports.bar/event/friday-special-feature-33/
LOCATION:Game On Sports Bar & Grill\, 3701 Dewolf Way\, Merritt\, BC\, V1K 1C4\, Canada
ATTACH;FMTTYPE=image/jpeg:https://www.gameonsports.bar/wp-content/uploads/2023/12/Friday-December-22-2023-IG.jpeg
ORGANIZER;CN="Jim%20Cooley":MAILTO:jim.cooley@live.ca
END:VEVENT
BEGIN:VEVENT
DTSTART;TZID=America/Vancouver:20231227T120000
DTEND;TZID=America/Vancouver:20231227T160000
DTSTAMP:20260423T051829
CREATED:20231227T194459Z
LAST-MODIFIED:20231227T194459Z
UID:2307-1703678400-1703692800@www.gameonsports.bar
SUMMARY:Wednesday Special Feature
DESCRIPTION:Turkey Club Sandwich\nwith soup\, salad or fries $16.99 \nSoup of the Day: \nMulligatawny\nBeef Barley \nDrink Special: \nBottles of Coors Original $5.15 \nStrawberry Kiwi Nudes $5.00
URL:https://www.gameonsports.bar/event/wednesday-special-feature-30/
LOCATION:Game On Sports Bar & Grill\, 3701 Dewolf Way\, Merritt\, BC\, V1K 1C4\, Canada
ATTACH;FMTTYPE=image/jpeg:https://www.gameonsports.bar/wp-content/uploads/2023/12/Wednesday-December-27-2023-ig.jpeg
ORGANIZER;CN="Jim%20Cooley":MAILTO:jim.cooley@live.ca
END:VEVENT
BEGIN:VEVENT
DTSTART;TZID=America/Vancouver:20231228T120000
DTEND;TZID=America/Vancouver:20231228T160000
DTSTAMP:20260423T051829
CREATED:20231228T200403Z
LAST-MODIFIED:20231228T200403Z
UID:2313-1703764800-1703779200@www.gameonsports.bar
SUMMARY:Thursday Special Feature
DESCRIPTION:Western Burger\nwith soup\, salad or fries $18.99 \nSoup of the Day: \nCabbage Roll\nThai Coconut Curry \nDrink Special: \nPints of 1516 $6.00\nBottles of Lucky $5.15
URL:https://www.gameonsports.bar/event/thursday-special-feature-34/
LOCATION:Game On Sports Bar & Grill\, 3701 Dewolf Way\, Merritt\, BC\, V1K 1C4\, Canada
ATTACH;FMTTYPE=image/jpeg:https://www.gameonsports.bar/wp-content/uploads/2023/12/Thursday-December-28-2023-IG.jpeg
ORGANIZER;CN="Jim%20Cooley":MAILTO:jim.cooley@live.ca
END:VEVENT
BEGIN:VEVENT
DTSTART;TZID=America/Vancouver:20231229T120000
DTEND;TZID=America/Vancouver:20231229T160000
DTSTAMP:20260423T051829
CREATED:20231229T192558Z
LAST-MODIFIED:20231229T192558Z
UID:2316-1703851200-1703865600@www.gameonsports.bar
SUMMARY:Friday Special Feature
DESCRIPTION:Jalapeno & Cheddar Beef Dip\nwith soup\, salad or fries $15.99 \nSoup of the Day: \nCream of Carrot\nTurkey Vegetable\nSausage & Turkey Gumbo \nDrink Special: \nGreyhounds $5.40\nBotties of Coors Light $5.15
URL:https://www.gameonsports.bar/event/friday-special-feature-34/
LOCATION:Game On Sports Bar & Grill\, 3701 Dewolf Way\, Merritt\, BC\, V1K 1C4\, Canada
ATTACH;FMTTYPE=image/jpeg:https://www.gameonsports.bar/wp-content/uploads/2023/12/Friday-December-29-2023-IG.jpeg
ORGANIZER;CN="Jim%20Cooley":MAILTO:jim.cooley@live.ca
END:VEVENT
BEGIN:VEVENT
DTSTART;TZID=America/Vancouver:20231230T120000
DTEND;TZID=America/Vancouver:20231230T160000
DTSTAMP:20260423T051829
CREATED:20231230T200934Z
LAST-MODIFIED:20231230T200934Z
UID:2320-1703937600-1703952000@www.gameonsports.bar
SUMMARY:Saturday Special Feature
DESCRIPTION:Chipotle Bacon Chedder Chicken Burger with soup\, salad or fries $16.99 \nSoup of the Day: \nPepper Pot\nCream of Broccoli\nTurkey Vegetable \nDrink Special: \nPints of 1516 $6.00\nLong Island Iced Tea $5.40
URL:https://www.gameonsports.bar/event/saturday-special-feature-35/
LOCATION:Game On Sports Bar & Grill\, 3701 Dewolf Way\, Merritt\, BC\, V1K 1C4\, Canada
ATTACH;FMTTYPE=image/jpeg:https://www.gameonsports.bar/wp-content/uploads/2023/12/Saturday-December-30-2023-IG.jpeg
ORGANIZER;CN="Jim%20Cooley":MAILTO:jim.cooley@live.ca
END:VEVENT
BEGIN:VEVENT
DTSTART;TZID=America/Vancouver:20231231T170000
DTEND;TZID=America/Vancouver:20231231T210000
DTSTAMP:20260423T051829
CREATED:20231227T232949Z
LAST-MODIFIED:20231227T232949Z
UID:2310-1704042000-1704056400@www.gameonsports.bar
SUMMARY:Happy New Year Special!
DESCRIPTION:Dinner Special: $24.99 \nBaked Ham & Scallop Potatoes served with vegetables. \nSteak & Prawns: \n6oz – $32.95 or \n10 oz – $37.95 \nServed with Scallop Potatoes and vegetables & garlic toast. \nCall for Reservations: \n250-315-1022
URL:https://www.gameonsports.bar/event/happy-new-year-special/
LOCATION:Game On Sports Bar & Grill\, 3701 Dewolf Way\, Merritt\, BC\, V1K 1C4\, Canada
ATTACH;FMTTYPE=image/jpeg:https://www.gameonsports.bar/wp-content/uploads/2023/12/Sunday-December-31-2023-IG.jpeg
ORGANIZER;CN="Jim%20Cooley":MAILTO:jim.cooley@live.ca
END:VEVENT
BEGIN:VEVENT
DTSTART;TZID=America/Vancouver:20240102T120000
DTEND;TZID=America/Vancouver:20240102T160000
DTSTAMP:20260423T051829
CREATED:20240102T201939Z
LAST-MODIFIED:20240102T202705Z
UID:2323-1704196800-1704211200@www.gameonsports.bar
SUMMARY:Tuesday Special Feature
DESCRIPTION:2 Prime Rib Stuffed Yorkies $14.99 \nSoup of the Day: \nTurkey Sausage Gumbo\nCream of Broccoli\nBorscht \nDrink Special: \nPints of 1516 $5.80\nScrewdrivers $5.40
URL:https://www.gameonsports.bar/event/tuesday-special-feature-32/
LOCATION:Game On Sports Bar & Grill\, 3701 Dewolf Way\, Merritt\, BC\, V1K 1C4\, Canada
ATTACH;FMTTYPE=image/jpeg:https://www.gameonsports.bar/wp-content/uploads/2024/01/Tuesday-January-2-2024-IG.jpeg
ORGANIZER;CN="Jim%20Cooley":MAILTO:jim.cooley@live.ca
END:VEVENT
BEGIN:VEVENT
DTSTART;TZID=America/Vancouver:20240103T120000
DTEND;TZID=America/Vancouver:20240103T160000
DTSTAMP:20260423T051829
CREATED:20240103T193024Z
LAST-MODIFIED:20240104T005759Z
UID:2326-1704283200-1704297600@www.gameonsports.bar
SUMMARY:Wednesday Special Feature
DESCRIPTION:Chicken Club Panini on French Bread\, with soup\, salad or fries $16.99 \nSoup of the Day: \nSplit Pea and Ham\nCream of Broccoli\nPotato Bacon \nDrink Special: \nPints of 1516 $6.00\nGame on Ice Tea $5.50
URL:https://www.gameonsports.bar/event/wednesday-special-feature-31/
LOCATION:Game On Sports Bar & Grill\, 3701 Dewolf Way\, Merritt\, BC\, V1K 1C4\, Canada
ATTACH;FMTTYPE=image/jpeg:https://www.gameonsports.bar/wp-content/uploads/2024/01/Wednesday-January-3-2024-IG.jpeg
ORGANIZER;CN="Jim%20Cooley":MAILTO:jim.cooley@live.ca
END:VEVENT
BEGIN:VEVENT
DTSTART;TZID=America/Vancouver:20240104T120000
DTEND;TZID=America/Vancouver:20240104T160000
DTSTAMP:20260423T051829
CREATED:20240104T193700Z
LAST-MODIFIED:20240104T193700Z
UID:2329-1704369600-1704384000@www.gameonsports.bar
SUMMARY:Thursday Special Feature
DESCRIPTION:Bacon\, Ranch Chicken Burger\nwith soup\, salad or fries $16.99 \nBaked French Onion with Garlic Toast $11.99 \nSoup of the Day: \nTurkey & Sausage Gumbo\nCabbage Roll\nCream of Tomato \nDrink Special: \nBottles of Coors Light $5.15\nStrongbow $5.00
URL:https://www.gameonsports.bar/event/thursday-special-feature-35/
LOCATION:Game On Sports Bar & Grill\, 3701 Dewolf Way\, Merritt\, BC\, V1K 1C4\, Canada
ATTACH;FMTTYPE=image/jpeg:https://www.gameonsports.bar/wp-content/uploads/2024/01/Thursday-January-4-2024-IG.jpeg
ORGANIZER;CN="Jim%20Cooley":MAILTO:jim.cooley@live.ca
END:VEVENT
BEGIN:VEVENT
DTSTART;TZID=America/Vancouver:20240105T120000
DTEND;TZID=America/Vancouver:20240105T160000
DTSTAMP:20260423T051829
CREATED:20240105T200923Z
LAST-MODIFIED:20240105T200923Z
UID:2332-1704456000-1704470400@www.gameonsports.bar
SUMMARY:Friday Special Feature
DESCRIPTION:Bacon Cheddar Burger\nwith a Fried Egg with soup\, salad and fries $17.99 \nSoup of the Day: \nBeef Barley\nMushroom Chicken & Bacon\nPotato Bacon\nCream of Tomato \nDrink Special: \nPints of 1516 $6.00\nParalyzers $5.40
URL:https://www.gameonsports.bar/event/friday-special-feature-35/
LOCATION:Game On Sports Bar & Grill\, 3701 Dewolf Way\, Merritt\, BC\, V1K 1C4\, Canada
ATTACH;FMTTYPE=image/jpeg:https://www.gameonsports.bar/wp-content/uploads/2024/01/Friday-January-5-2024-IG.jpeg
ORGANIZER;CN="Jim%20Cooley":MAILTO:jim.cooley@live.ca
END:VEVENT
BEGIN:VEVENT
DTSTART;TZID=America/Vancouver:20240106T120000
DTEND;TZID=America/Vancouver:20240106T160000
DTSTAMP:20260423T051829
CREATED:20240106T201939Z
LAST-MODIFIED:20240106T201945Z
UID:2335-1704542400-1704556800@www.gameonsports.bar
SUMMARY:Saturday Special Feature
DESCRIPTION:Spicy Beef Quesadilla $16.99\nJalapeno Poppers $4.99 \nSoup of the Day: \nPotato Bacon\nTurkey Vegetable\nSplit Pea & Ham \nDrink Special: \nPints of Sleeman Honey Brown $6.00\nGrowers Pear $5.00
URL:https://www.gameonsports.bar/event/saturday-special-feature-36/
LOCATION:Game On Sports Bar & Grill\, 3701 Dewolf Way\, Merritt\, BC\, V1K 1C4\, Canada
ATTACH;FMTTYPE=image/jpeg:https://www.gameonsports.bar/wp-content/uploads/2024/01/Saturday-January-6-2024-ig.jpeg
ORGANIZER;CN="Jim%20Cooley":MAILTO:jim.cooley@live.ca
END:VEVENT
BEGIN:VEVENT
DTSTART;TZID=America/Vancouver:20240108T120000
DTEND;TZID=America/Vancouver:20240108T160000
DTSTAMP:20260423T051829
CREATED:20240108T194637Z
LAST-MODIFIED:20240108T194637Z
UID:2339-1704715200-1704729600@www.gameonsports.bar
SUMMARY:Monday Special Feature
DESCRIPTION:Grilled Prime Rib Philly Wrap\nserved with soup or salad or fries 17.99 \nSoup of the Day: \nTurkey\, Sausage & Rice Gumbo\nSplit Pea & Ham\nPotato Bacon \nDrink Special: \nBottles of Coors Light $5. 15\nScrewdrivers 5.40
URL:https://www.gameonsports.bar/event/monday-special-feature-34/
LOCATION:Game On Sports Bar & Grill\, 3701 Dewolf Way\, Merritt\, BC\, V1K 1C4\, Canada
ATTACH;FMTTYPE=image/jpeg:https://www.gameonsports.bar/wp-content/uploads/2024/01/Monday-January-8-2024-IG.jpeg
ORGANIZER;CN="Jim%20Cooley":MAILTO:jim.cooley@live.ca
END:VEVENT
BEGIN:VEVENT
DTSTART;TZID=America/Vancouver:20240109T120000
DTEND;TZID=America/Vancouver:20240109T160000
DTSTAMP:20260423T051829
CREATED:20240109T190940Z
LAST-MODIFIED:20240109T190940Z
UID:2342-1704801600-1704816000@www.gameonsports.bar
SUMMARY:Tuesday Special Feature
DESCRIPTION:Chipotle Lime Braised Beef Taco $18.49 \nTry our Deep Fried Cheese-Cake $9.95 \nSoup of the Day: \nSplit Pea and Ham\nCream of Broccoli\nCream of Tomato \nDrink Special: \nBottles of Lucky $5.15
URL:https://www.gameonsports.bar/event/tuesday-special-feature-33/
LOCATION:Game On Sports Bar & Grill\, 3701 Dewolf Way\, Merritt\, BC\, V1K 1C4\, Canada
ATTACH;FMTTYPE=image/jpeg:https://www.gameonsports.bar/wp-content/uploads/2024/01/Tuesday-January-9-2024-ig.jpeg
ORGANIZER;CN="Jim%20Cooley":MAILTO:jim.cooley@live.ca
END:VEVENT
END:VCALENDAR