BEGIN:VCALENDAR
VERSION:2.0
PRODID:-//Game On Sports Bar &amp; Grill - ECPv6.0.8//NONSGML v1.0//EN
CALSCALE:GREGORIAN
METHOD:PUBLISH
X-WR-CALNAME:Game On Sports Bar &amp; Grill
X-ORIGINAL-URL:https://www.gameonsports.bar
X-WR-CALDESC:Events for Game On Sports Bar &amp; Grill
REFRESH-INTERVAL;VALUE=DURATION:PT1H
X-Robots-Tag:noindex
X-PUBLISHED-TTL:PT1H
BEGIN:VTIMEZONE
TZID:America/Vancouver
BEGIN:DAYLIGHT
TZOFFSETFROM:-0800
TZOFFSETTO:-0700
TZNAME:PDT
DTSTART:20230312T100000
END:DAYLIGHT
BEGIN:STANDARD
TZOFFSETFROM:-0700
TZOFFSETTO:-0800
TZNAME:PST
DTSTART:20231105T090000
END:STANDARD
END:VTIMEZONE
BEGIN:VEVENT
DTSTART;TZID=America/Vancouver:20231107T120000
DTEND;TZID=America/Vancouver:20231107T160000
DTSTAMP:20260423T015927
CREATED:20231107T193629Z
LAST-MODIFIED:20231107T193629Z
UID:2163-1699358400-1699372800@www.gameonsports.bar
SUMMARY:Tuesday Special Feature
DESCRIPTION:BBQ Cheddar Beef Dip\nwith soup\, salad or fries $16.99 \nBeef Stew with Cheese Toast $11.99 \nSoup of the Day: \nMushroom Bacon\nChickpea & Veg \nDrink Special: \nPints of Lions Gate Lager $5.80\nParalizers $5.40
URL:https://www.gameonsports.bar/event/tuesday-special-feature-26/
LOCATION:Game On Sports Bar & Grill\, 3701 Dewolf Way\, Merritt\, BC\, V1K 1C4\, Canada
ATTACH;FMTTYPE=image/jpeg:https://www.gameonsports.bar/wp-content/uploads/2023/11/Tuesday-November-7-2023.jpeg
ORGANIZER;CN="Jim%20Cooley":MAILTO:jim.cooley@live.ca
END:VEVENT
BEGIN:VEVENT
DTSTART;TZID=America/Vancouver:20231108T120000
DTEND;TZID=America/Vancouver:20231108T160000
DTSTAMP:20260423T015927
CREATED:20231108T190527Z
LAST-MODIFIED:20231108T190527Z
UID:2166-1699444800-1699459200@www.gameonsports.bar
SUMMARY:Wednesday Special Feature
DESCRIPTION:Monte Cristo Sandwich\nwith soup\, salad or fries $16.99 \nChili with Cheese Toast $13.00 \nSoup of the Day: \nCorn Chowder\nRoasted Red Pepper and Chicken \nDrink Special: \nSleeman Honey Brown $5.80\nParalyzers $5.40
URL:https://www.gameonsports.bar/event/wednesday-special-feature-25/
LOCATION:Game On Sports Bar & Grill\, 3701 Dewolf Way\, Merritt\, BC\, V1K 1C4\, Canada
ATTACH;FMTTYPE=image/jpeg:https://www.gameonsports.bar/wp-content/uploads/2023/11/Wednesday-November-8-2023-ig.jpeg
ORGANIZER;CN="Jim%20Cooley":MAILTO:jim.cooley@live.ca
END:VEVENT
BEGIN:VEVENT
DTSTART;TZID=America/Vancouver:20231109T120000
DTEND;TZID=America/Vancouver:20231109T160000
DTSTAMP:20260423T015927
CREATED:20231109T190239Z
LAST-MODIFIED:20231109T190239Z
UID:2170-1699531200-1699545600@www.gameonsports.bar
SUMMARY:Thursday Special Feature
DESCRIPTION:Baked French Onion with Garlic\nToast $11.99 \nPatty Melt\nwith soup\, salad or fries $17.99 \nSoup of the Day: \nCauliflour & Cheddar\nCorned Beef & Cabbage\nPotato Bacon \nDrink Special: \nBottles of Kokane $5.15\nLong Island Icedtea $5.40
URL:https://www.gameonsports.bar/event/thursday-special-feature-27/
LOCATION:Game On Sports Bar & Grill\, 3701 Dewolf Way\, Merritt\, BC\, V1K 1C4\, Canada
ATTACH;FMTTYPE=image/jpeg:https://www.gameonsports.bar/wp-content/uploads/2023/11/Thursday-November-9-2023-ig.jpeg
ORGANIZER;CN="Jim%20Cooley":MAILTO:jim.cooley@live.ca
END:VEVENT
BEGIN:VEVENT
DTSTART;TZID=America/Vancouver:20231110T120000
DTEND;TZID=America/Vancouver:20231110T160000
DTSTAMP:20260423T015927
CREATED:20231110T194109Z
LAST-MODIFIED:20231110T194109Z
UID:2173-1699617600-1699632000@www.gameonsports.bar
SUMMARY:Friday Special Feature
DESCRIPTION:Parmesan Crusted Crispy Chicken\nCaesar Sandwich with soup\, salad or fries $15.99 \nSoup of the Day: \nCorn Chowder\nCream of Carrot\nCorned Beef & Cabbage \nDrink Special: \nPints of Coors Light $5.80\nParalyzers $5.40
URL:https://www.gameonsports.bar/event/friday-special-feature-27/
LOCATION:Game On Sports Bar & Grill\, 3701 Dewolf Way\, Merritt\, BC\, V1K 1C4\, Canada
ATTACH;FMTTYPE=image/jpeg:https://www.gameonsports.bar/wp-content/uploads/2023/11/Friday-November-10-2023-IG.jpeg
ORGANIZER;CN="Jim%20Cooley":MAILTO:jim.cooley@live.ca
END:VEVENT
BEGIN:VEVENT
DTSTART;TZID=America/Vancouver:20231111T120000
DTEND;TZID=America/Vancouver:20231111T160000
DTSTAMP:20260423T015927
CREATED:20231111T200730Z
LAST-MODIFIED:20231111T200730Z
UID:2177-1699704000-1699718400@www.gameonsports.bar
SUMMARY:Saturday Special Feature
DESCRIPTION:Mushroom Swiss Burger\nwith soup salad or fries $17.99 \nFire Dusted Calamari $16.87 \nSoup of the Day: \nCream of Carrot\nCream of Broccoli\nMushroom Bacon \nDrink Special: \nPints of Flagship IPA $5.80\nGreyhounds $5.40
URL:https://www.gameonsports.bar/event/saturday-special-feature-29/
LOCATION:Game On Sports Bar & Grill\, 3701 Dewolf Way\, Merritt\, BC\, V1K 1C4\, Canada
ATTACH;FMTTYPE=image/jpeg:https://www.gameonsports.bar/wp-content/uploads/2023/11/Saturday-November-11-2023-ig.jpeg
ORGANIZER;CN="Jim%20Cooley":MAILTO:jim.cooley@live.ca
END:VEVENT
BEGIN:VEVENT
DTSTART;TZID=America/Vancouver:20231113T120000
DTEND;TZID=America/Vancouver:20231113T160000
DTSTAMP:20260423T015927
CREATED:20231113T194136Z
LAST-MODIFIED:20231114T003632Z
UID:2180-1699876800-1699891200@www.gameonsports.bar
SUMMARY:Monday Special Feature
DESCRIPTION:Flame Thrower Burger\nwith soup\, salad or fries $17.99 \nSoup of the Day: \nCorn Chowder\nMushroom & Bacon \nDrink Special: \nPints of Canadian $5.80\nParalyzers $5.40
URL:https://www.gameonsports.bar/event/monday-special-feature-28/
LOCATION:Game On Sports Bar & Grill\, 3701 Dewolf Way\, Merritt\, BC\, V1K 1C4\, Canada
ATTACH;FMTTYPE=image/jpeg:https://www.gameonsports.bar/wp-content/uploads/2023/11/Monday-November-13-2023-ig.jpeg
ORGANIZER;CN="Jim%20Cooley":MAILTO:jim.cooley@live.ca
END:VEVENT
BEGIN:VEVENT
DTSTART;TZID=America/Vancouver:20231114T120000
DTEND;TZID=America/Vancouver:20231114T160000
DTSTAMP:20260423T015927
CREATED:20231114T190642Z
LAST-MODIFIED:20231114T190642Z
UID:2183-1699963200-1699977600@www.gameonsports.bar
SUMMARY:Tuesday Special Feature
DESCRIPTION:Chipotle Chicken Bacon Panini with soup\, salad or fries. $16.99 \nBaked French Onion with Garlic Toast. $11.99 \nSoup of the Day: \nChicken Veg\nLemon Potato \nDrink Special: \nPints of Coorslight $5.80
URL:https://www.gameonsports.bar/event/tuesday-special-feature-27/
LOCATION:Game On Sports Bar & Grill\, 3701 Dewolf Way\, Merritt\, BC\, V1K 1C4\, Canada
ATTACH;FMTTYPE=image/jpeg:https://www.gameonsports.bar/wp-content/uploads/2023/11/Tuesday-November-14-2023-IG.jpeg
ORGANIZER;CN="Jim%20Cooley":MAILTO:jim.cooley@live.ca
END:VEVENT
BEGIN:VEVENT
DTSTART;TZID=America/Vancouver:20231116T120000
DTEND;TZID=America/Vancouver:20231116T160000
DTSTAMP:20260423T015927
CREATED:20231116T195614Z
LAST-MODIFIED:20231116T195614Z
UID:2186-1700136000-1700150400@www.gameonsports.bar
SUMMARY:Thursday Special Feature
DESCRIPTION:Homemade Chili with CheeseToast $13.00 \nSoup of the Day: \nLemon Potato Bacon\nChicken\, Veggie & Rice\nRoasted Red Pepper & Chicken \nDrink Special: \nPints of Flagship IPA $5.80\nGrowers Dry Apple $5.00
URL:https://www.gameonsports.bar/event/thursday-special-feature-28/
LOCATION:Game On Sports Bar & Grill\, 3701 Dewolf Way\, Merritt\, BC\, V1K 1C4\, Canada
ATTACH;FMTTYPE=image/jpeg:https://www.gameonsports.bar/wp-content/uploads/2023/11/Thursday-November-16-2023-IG.jpeg
ORGANIZER;CN="Jim%20Cooley":MAILTO:jim.cooley@live.ca
END:VEVENT
BEGIN:VEVENT
DTSTART;TZID=America/Vancouver:20231117T080000
DTEND;TZID=America/Vancouver:20231117T170000
DTSTAMP:20260423T015927
CREATED:20231117T195317Z
LAST-MODIFIED:20231117T195317Z
UID:2189-1700208000-1700240400@www.gameonsports.bar
SUMMARY:Friday Special Feature
DESCRIPTION:Baked French Onion with Garlic\nToast $11.99 \nBacon\, Swiss Ranch Chicken Burger with soup\, salad or fries $16.99 \nSoup of the Day: \nCorn Chowder\nChicken Veggie &Rice\nMushroom & Bacon \nDrink Special: \nPints of Rickards Red $5.80\nParalyzers $5.40
URL:https://www.gameonsports.bar/event/friday-special-feature-28/
LOCATION:Game On Sports Bar & Grill\, 3701 Dewolf Way\, Merritt\, BC\, V1K 1C4\, Canada
ATTACH;FMTTYPE=image/jpeg:https://www.gameonsports.bar/wp-content/uploads/2023/11/Friday-November-17-2023-ig.jpeg
ORGANIZER;CN="Jim%20Cooley":MAILTO:jim.cooley@live.ca
END:VEVENT
BEGIN:VEVENT
DTSTART;TZID=America/Vancouver:20231118T120000
DTEND;TZID=America/Vancouver:20231118T160000
DTSTAMP:20260423T015927
CREATED:20231118T203713Z
LAST-MODIFIED:20231118T203713Z
UID:2192-1700308800-1700323200@www.gameonsports.bar
SUMMARY:Saturday Special Feature
DESCRIPTION:Bacon\, Ham & Swiss Panini\nwith soup\, salad or fries $16.99 \nSoup of the Day: \nRoasted Red Pepper & Chicken\nCream of Tomato\nLemon Potato Bacon \nDrink Special: \nBottles of Canadian $5.15\nStrongbow $5.00 \n 
URL:https://www.gameonsports.bar/event/saturday-special-feature-30/
LOCATION:Game On Sports Bar & Grill\, 3701 Dewolf Way\, Merritt\, BC\, V1K 1C4\, Canada
ATTACH;FMTTYPE=image/jpeg:https://www.gameonsports.bar/wp-content/uploads/2023/11/Saturday-November-18-2023-ig.jpeg
ORGANIZER;CN="Jim%20Cooley":MAILTO:jim.cooley@live.ca
END:VEVENT
BEGIN:VEVENT
DTSTART;TZID=America/Vancouver:20231120T120000
DTEND;TZID=America/Vancouver:20231120T160000
DTSTAMP:20260423T015927
CREATED:20231120T195133Z
LAST-MODIFIED:20231120T195133Z
UID:2196-1700481600-1700496000@www.gameonsports.bar
SUMMARY:Monday Special Feature
DESCRIPTION:Western Burger\nwith soup\, salad or fries $18.99 \nSoup of the Day: \nChick Pea & Veggie\nCorn Chowder\nLemon Potato Bacon \nDrink Special: \nPints of Flagship IPA $5.80\nParalyzers $5.40
URL:https://www.gameonsports.bar/event/monday-special-feature-29/
LOCATION:Game On Sports Bar & Grill\, 3701 Dewolf Way\, Merritt\, BC\, V1K 1C4\, Canada
ORGANIZER;CN="Jim%20Cooley":MAILTO:jim.cooley@live.ca
END:VEVENT
BEGIN:VEVENT
DTSTART;TZID=America/Vancouver:20231122T120000
DTEND;TZID=America/Vancouver:20231122T160000
DTSTAMP:20260423T015927
CREATED:20231122T185747Z
LAST-MODIFIED:20231122T185747Z
UID:2198-1700654400-1700668800@www.gameonsports.bar
SUMMARY:Wednesday Lunch Special
DESCRIPTION:Prime Rib Swiss Onion Sandwich\nwith soup\, salad or fries $17.99 \nChipotle Chicken Bacon Jalapeno\nPanini on a Pretzel Bun\nwith soup\, salad or fries $16.99 \nSoup of the Day: \nChicken Veg & Rice\nCheddar Broccoli\nCream of Mushroom \nDrink Special: \nPints of Sleeman Honey Brown $5.80\nParalyzers $5.40
URL:https://www.gameonsports.bar/event/wednesday-lunch-special-8/
LOCATION:Game On Sports Bar & Grill\, 3701 Dewolf Way\, Merritt\, BC\, V1K 1C4\, Canada
ATTACH;FMTTYPE=image/jpeg:https://www.gameonsports.bar/wp-content/uploads/2023/11/Wednesday-November-22-2023-ig.jpeg
ORGANIZER;CN="Jim%20Cooley":MAILTO:jim.cooley@live.ca
END:VEVENT
BEGIN:VEVENT
DTSTART;TZID=America/Vancouver:20231123T120000
DTEND;TZID=America/Vancouver:20231123T160000
DTSTAMP:20260423T015927
CREATED:20231123T193126Z
LAST-MODIFIED:20231123T193126Z
UID:2201-1700740800-1700755200@www.gameonsports.bar
SUMMARY:Thursday Special Feature
DESCRIPTION:Crispy Buffalo Chicken Caesar Wrap with soup\, salad or fries $14.99 \nSoup of the Day: \nCream of Tomato\nChicken Taco\nLemon Potato Bacon\nCream of Mushroom \nDrink Special: \nPints of Lions Gate Lager $5.80\nLong Island Iced Tea $5.40
URL:https://www.gameonsports.bar/event/thursday-special-feature-29/
LOCATION:Game On Sports Bar & Grill\, 3701 Dewolf Way\, Merritt\, BC\, V1K 1C4\, Canada
ATTACH;FMTTYPE=image/jpeg:https://www.gameonsports.bar/wp-content/uploads/2023/11/Thursday-November-23-2023-ig.jpeg
ORGANIZER;CN="Jim%20Cooley":MAILTO:jim.cooley@live.ca
END:VEVENT
BEGIN:VEVENT
DTSTART;TZID=America/Vancouver:20231124T120000
DTEND;TZID=America/Vancouver:20231124T160000
DTSTAMP:20260423T015927
CREATED:20231124T194835Z
LAST-MODIFIED:20231124T194835Z
UID:2204-1700827200-1700841600@www.gameonsports.bar
SUMMARY:Friday Special Feature
DESCRIPTION:BBQ Swiss Beef Dip with Carmalized Onions with soup\, fries or salad $16.99 \nSoup of the Day: \nCheeseburger\nBeef Barley\nCream of Tomato \nDrink Special: \nBaileys & Coffee $6.00\nBottles of Bud Light $5.15 \nJoin us for Happy Hour\n2-4 pm\nMonday thru Friday
URL:https://www.gameonsports.bar/event/friday-special-feature-29/
LOCATION:Game On Sports Bar & Grill\, 3701 Dewolf Way\, Merritt\, BC\, V1K 1C4\, Canada
ATTACH;FMTTYPE=image/jpeg:https://www.gameonsports.bar/wp-content/uploads/2023/11/Friday-November-24-2023-ig.jpeg
ORGANIZER;CN="Jim%20Cooley":MAILTO:jim.cooley@live.ca
END:VEVENT
BEGIN:VEVENT
DTSTART;TZID=America/Vancouver:20231125T120000
DTEND;TZID=America/Vancouver:20231125T160000
DTSTAMP:20260423T015927
CREATED:20231125T201433Z
LAST-MODIFIED:20231125T201433Z
UID:2207-1700913600-1700928000@www.gameonsports.bar
SUMMARY:Saturday Special Feature
DESCRIPTION:Hot Meatloaf Sandwich\nwith soup\, salad or fries $16.99 \nSoup of the Day: \nCream of Tomato\nCabbage Roll\nCream of Broccoli \nDrink Special: \nPints of Flagship IPA $6.00\nGame On Iced Tea $5.40
URL:https://www.gameonsports.bar/event/saturday-special-feature-31/
LOCATION:Game On Sports Bar & Grill\, 3701 Dewolf Way\, Merritt\, BC\, V1K 1C4\, Canada
ATTACH;FMTTYPE=image/jpeg:https://www.gameonsports.bar/wp-content/uploads/2023/11/Saturday-November-25-2023-ig.jpeg
ORGANIZER;CN="Jim%20Cooley":MAILTO:jim.cooley@live.ca
END:VEVENT
BEGIN:VEVENT
DTSTART;TZID=America/Vancouver:20231127T120000
DTEND;TZID=America/Vancouver:20231127T160000
DTSTAMP:20260423T015927
CREATED:20231127T195419Z
LAST-MODIFIED:20231127T195419Z
UID:2210-1701086400-1701100800@www.gameonsports.bar
SUMMARY:Monday Special Feature
DESCRIPTION:2 Stuffed Yorkies $ 17.95 \nSoup of the Day: \nGreek Chicken Vegetable\nCream of Tomato\nCheeseburger \nDrink Special: \nBottles of Bud $5.15
URL:https://www.gameonsports.bar/event/monday-special-feature-30/
LOCATION:Game On Sports Bar & Grill\, 3701 Dewolf Way\, Merritt\, BC\, V1K 1C4\, Canada
ATTACH;FMTTYPE=image/jpeg:https://www.gameonsports.bar/wp-content/uploads/2023/11/Monday-November-27-2023-IG.jpeg
ORGANIZER;CN="Jim%20Cooley":MAILTO:jim.cooley@live.ca
END:VEVENT
BEGIN:VEVENT
DTSTART;TZID=America/Vancouver:20231128T120000
DTEND;TZID=America/Vancouver:20231128T160000
DTSTAMP:20260423T015927
CREATED:20231128T190202Z
LAST-MODIFIED:20231128T190202Z
UID:2214-1701172800-1701187200@www.gameonsports.bar
SUMMARY:Tuesday Special Feature
DESCRIPTION:Chicken Swiss Burger\ntopped with crispy spicy pickles with soup\, salad or fries. $17.99 \nSoup of the Day: \nBeef Barley\nCheddar Broccoli\nCream of Mushroom and Beef \nDrink Special: \nBottles of Kokanee $5.15\nScrewdrivers $5.50
URL:https://www.gameonsports.bar/event/tuesday-special-feature-28/
LOCATION:Game On Sports Bar & Grill\, 3701 Dewolf Way\, Merritt\, BC\, V1K 1C4\, Canada
ATTACH;FMTTYPE=image/jpeg:https://www.gameonsports.bar/wp-content/uploads/2023/11/Tuesday-November-28-2023-ig.jpeg
ORGANIZER;CN="Jim%20Cooley":MAILTO:jim.cooley@live.ca
END:VEVENT
BEGIN:VEVENT
DTSTART;TZID=America/Vancouver:20231129T120000
DTEND;TZID=America/Vancouver:20231129T160000
DTSTAMP:20260423T015927
CREATED:20231129T183827Z
LAST-MODIFIED:20231129T183827Z
UID:2217-1701259200-1701273600@www.gameonsports.bar
SUMMARY:Wednesday Special Feature
DESCRIPTION:BBQ Brisket Mozza Melt\non french bread with soup\,\nsalad or fries. $17.99 \nSoup of the Day: \nPhilly Beef\nBeef Barley\nCabbage Roll \nDrink Special: \nBottles of Budweiser $5.15\nParalyzers $5.50
URL:https://www.gameonsports.bar/event/wednesday-special-feature-26/
LOCATION:Game On Sports Bar & Grill\, 3701 Dewolf Way\, Merritt\, BC\, V1K 1C4\, Canada
ATTACH;FMTTYPE=image/jpeg:https://www.gameonsports.bar/wp-content/uploads/2023/11/Wednesday-November-29-2023-ig.jpeg
ORGANIZER;CN="Jim%20Cooley":MAILTO:jim.cooley@live.ca
END:VEVENT
BEGIN:VEVENT
DTSTART;TZID=America/Vancouver:20231130T120000
DTEND;TZID=America/Vancouver:20231130T160000
DTSTAMP:20260423T015927
CREATED:20231130T192329Z
LAST-MODIFIED:20231130T192329Z
UID:2220-1701345600-1701360000@www.gameonsports.bar
SUMMARY:Thursday Special Feature
DESCRIPTION:Hot Turkey Sandwich with\nHomemade Stuffing\nwith soup\, salad or fries $19.95 \nSoup of the Day: \nCabbage Roll\nChicken Vegetable\nCheeseburger \nDrink Special: \nBottles of MGD $5.15\nLong Island Iced Tea $5.40
URL:https://www.gameonsports.bar/event/thursday-special-feature-30/
LOCATION:Game On Sports Bar & Grill\, 3701 Dewolf Way\, Merritt\, BC\, V1K 1C4\, Canada
ATTACH;FMTTYPE=image/jpeg:https://www.gameonsports.bar/wp-content/uploads/2023/11/Thursday-November-30-2023-IG.jpeg
ORGANIZER;CN="Jim%20Cooley":MAILTO:jim.cooley@live.ca
END:VEVENT
BEGIN:VEVENT
DTSTART;TZID=America/Vancouver:20231201T120000
DTEND;TZID=America/Vancouver:20231201T160000
DTSTAMP:20260423T015927
CREATED:20231201T195941Z
LAST-MODIFIED:20231201T195941Z
UID:2223-1701432000-1701446400@www.gameonsports.bar
SUMMARY:Friday Special Feature:
DESCRIPTION:Western Burger\nwith soup\, salad or fries $18.99 \nSoup of the Day: \nLemon Potato Bacon\nPhilly Beef\nBeef Barley \nDrink Special: \nBottles of Corona $5.50\nGrowers Dry Apple $5.00
URL:https://www.gameonsports.bar/event/friday-special-feature-30/
LOCATION:Game On Sports Bar & Grill\, 3701 Dewolf Way\, Merritt\, BC\, V1K 1C4\, Canada
ATTACH;FMTTYPE=image/jpeg:https://www.gameonsports.bar/wp-content/uploads/2023/12/Friday-December-1-2023-IG.jpeg
ORGANIZER;CN="Jim%20Cooley":MAILTO:jim.cooley@live.ca
END:VEVENT
BEGIN:VEVENT
DTSTART;TZID=America/Vancouver:20231202T120000
DTEND;TZID=America/Vancouver:20231202T160000
DTSTAMP:20260423T015927
CREATED:20231202T192120Z
LAST-MODIFIED:20231202T192120Z
UID:2226-1701518400-1701532800@www.gameonsports.bar
SUMMARY:Saturday Special Feature
DESCRIPTION:Beef & Mozza Panini\nwith soup\, salad or fries $15.99 \nSoup of the Day: \nCream of Broccoli\nCabbage Roll\nPhilly Beef \nDrink Special: \nPints of Lions Gate Lager $6.00\nTwisted Tea $5.00
URL:https://www.gameonsports.bar/event/saturday-special-feature-32/
LOCATION:Game On Sports Bar & Grill\, 3701 Dewolf Way\, Merritt\, BC\, V1K 1C4\, Canada
ATTACH;FMTTYPE=image/jpeg:https://www.gameonsports.bar/wp-content/uploads/2023/12/Saturday-December-2-2023-ig.jpeg
ORGANIZER;CN="Jim%20Cooley":MAILTO:jim.cooley@live.ca
END:VEVENT
BEGIN:VEVENT
DTSTART;TZID=America/Vancouver:20231204T120000
DTEND;TZID=America/Vancouver:20231204T160000
DTSTAMP:20260423T015927
CREATED:20231204T190129Z
LAST-MODIFIED:20231204T190129Z
UID:2229-1701691200-1701705600@www.gameonsports.bar
SUMMARY:Monday Special Feature
DESCRIPTION:Turkey Club Panini\nwith soup\, salad or fries $16.99 \nSoup of the Day: \nCheese Burger\nCabbage Roll\nBeef Barley \nDrink Special: \nBottles of Budwiser $5.15\nBaileys & Coffee $6.00
URL:https://www.gameonsports.bar/event/monday-special-feature-31/
LOCATION:Game On Sports Bar & Grill\, 3701 Dewolf Way\, Merritt\, BC\, V1K 1C4\, Canada
ATTACH;FMTTYPE=image/jpeg:https://www.gameonsports.bar/wp-content/uploads/2023/12/Monday-December-4-2023-IG.jpeg
ORGANIZER;CN="Jim%20Cooley":MAILTO:jim.cooley@live.ca
END:VEVENT
BEGIN:VEVENT
DTSTART;TZID=America/Vancouver:20231205T120000
DTEND;TZID=America/Vancouver:20231205T160000
DTSTAMP:20260423T015927
CREATED:20231205T184221Z
LAST-MODIFIED:20231205T184221Z
UID:2232-1701777600-1701792000@www.gameonsports.bar
SUMMARY:Tuesday Special Feature
DESCRIPTION:Chicken Swiss Burger $17.99\ntopped with crispy spicy pickles served with soup\, salad or fries. \nBaked French Onion with\nGarlic Toast $11.49 \nSoup of the Day: \nTurkey Sausage Gumbo\nCream of Tomato\nChickpea Veg & Bacon \nDrink Special: \nBottles of Coors Original $5.15\nGreyhounds $5.50
URL:https://www.gameonsports.bar/event/tuesday-special-feature-29/
LOCATION:Game On Sports Bar & Grill\, 3701 Dewolf Way\, Merritt\, BC\, V1K 1C4\, Canada
ATTACH;FMTTYPE=image/jpeg:https://www.gameonsports.bar/wp-content/uploads/2023/12/Tuesday-December-5-2023-IG-post.jpeg
END:VEVENT
BEGIN:VEVENT
DTSTART;TZID=America/Vancouver:20231206T120000
DTEND;TZID=America/Vancouver:20231206T160000
DTSTAMP:20260423T015927
CREATED:20231206T190530Z
LAST-MODIFIED:20231206T190530Z
UID:2237-1701864000-1701878400@www.gameonsports.bar
SUMMARY:Wednesday Special Feature
DESCRIPTION:Philly Steak Wrap $18.99\nCubano Sandwich $17.99\nboth with soup\, salad or fries \nSoup of the Day: \nTurkey Veg\nCream of Mushroom\nBeef Barley \nDrink Special: \nBottles of Kokanee $5.15\nMalibu Pineapple $5.50
URL:https://www.gameonsports.bar/event/wednesday-special-feature-27/
LOCATION:Game On Sports Bar & Grill\, 3701 Dewolf Way\, Merritt\, BC\, V1K 1C4\, Canada
ATTACH;FMTTYPE=image/jpeg:https://www.gameonsports.bar/wp-content/uploads/2023/12/Wednesday-December-6-2023-ig.jpeg
ORGANIZER;CN="Jim%20Cooley":MAILTO:jim.cooley@live.ca
END:VEVENT
BEGIN:VEVENT
DTSTART;TZID=America/Vancouver:20231207T120000
DTEND;TZID=America/Vancouver:20231207T160000
DTSTAMP:20260423T015927
CREATED:20231207T191647Z
LAST-MODIFIED:20231207T191647Z
UID:2240-1701950400-1701964800@www.gameonsports.bar
SUMMARY:Thursday Special Feature
DESCRIPTION:Shredded Lime & Tarragon\nChicken Ranch Wrap with soup\, salad or fries $16.99 \nSoup of the Day: \nPhilly Beef\nChick Pea & Bacon\nTurkey & Sausage Gumbo \nDrink Special: \nBottles of Budwiser $5.15\nGreyhounds $5.40
URL:https://www.gameonsports.bar/event/thursday-special-feature-31/
LOCATION:Game On Sports Bar & Grill\, 3701 Dewolf Way\, Merritt\, BC\, V1K 1C4\, Canada
ATTACH;FMTTYPE=image/jpeg:https://www.gameonsports.bar/wp-content/uploads/2023/12/Thursday-December-7-2023-ig.jpeg
ORGANIZER;CN="Jim%20Cooley":MAILTO:jim.cooley@live.ca
END:VEVENT
BEGIN:VEVENT
DTSTART;TZID=America/Vancouver:20231208T120000
DTEND;TZID=America/Vancouver:20231208T160000
DTSTAMP:20260423T015927
CREATED:20231208T200410Z
LAST-MODIFIED:20231208T200410Z
UID:2243-1702036800-1702051200@www.gameonsports.bar
SUMMARY:Friday Special Feature
DESCRIPTION:Western Burger\nwith soup\, salad or fries $18.99 \nSoup of the Day: \nCream of Tomato\nBeef Barley\nCream of Mushroom\nFrench Onion \nDrink Special: \nBottles of Coors Original $5.15 \nScrewdrivers $5.40
URL:https://www.gameonsports.bar/event/friday-special-feature-31/
LOCATION:Game On Sports Bar & Grill\, 3701 Dewolf Way\, Merritt\, BC\, V1K 1C4\, Canada
ATTACH;FMTTYPE=image/jpeg:https://www.gameonsports.bar/wp-content/uploads/2023/12/Friday-December-8-2023-ig.jpeg
ORGANIZER;CN="Jim%20Cooley":MAILTO:jim.cooley@live.ca
END:VEVENT
BEGIN:VEVENT
DTSTART;TZID=America/Vancouver:20231209T120000
DTEND;TZID=America/Vancouver:20231209T160000
DTSTAMP:20260423T015927
CREATED:20231209T203228Z
LAST-MODIFIED:20231209T203340Z
UID:2246-1702123200-1702137600@www.gameonsports.bar
SUMMARY:Saturday Special Feature
DESCRIPTION:Jalepeno Peppers $11.99 \nLime and Tarragon Shredded Chicken Panini with soup\, salad of fries $16.99 \nSoup of the Day: \nMulligatawny\nPhilly Beef\nTurkey Vegetable \nDrink Special: \nPints of Flagship IPA $6.00\nGrowers Pear Sider $5.00
URL:https://www.gameonsports.bar/event/saturday-special-feature-33/
LOCATION:Game On Sports Bar & Grill\, 3701 Dewolf Way\, Merritt\, BC\, V1K 1C4\, Canada
ATTACH;FMTTYPE=image/jpeg:https://www.gameonsports.bar/wp-content/uploads/2023/12/Saturday-December-9-2023-IG-Post.jpeg
ORGANIZER;CN="Jim%20Cooley":MAILTO:jim.cooley@live.ca
END:VEVENT
BEGIN:VEVENT
DTSTART;TZID=America/Vancouver:20231211T120000
DTEND;TZID=America/Vancouver:20231211T160000
DTSTAMP:20260423T015927
CREATED:20231211T190746Z
LAST-MODIFIED:20231211T190746Z
UID:2249-1702296000-1702310400@www.gameonsports.bar
SUMMARY:Monday Special Feature
DESCRIPTION:Mushroom Swiss Prime Rib Dip\nwith soup\, salad or fries $17.99 \nMac & Cheese Bites served with Chipotle Mayo $13.99 \nSoup of the Day: \nBeef Barley\nCream of Mushroom\nTurkey Rice \nDrink Special: \nPints of Flagship IPA $6.00 \nJoin Us For Happy Hour 2 – 4 PM
URL:https://www.gameonsports.bar/event/monday-special-feature-32/
LOCATION:Game On Sports Bar & Grill\, 3701 Dewolf Way\, Merritt\, BC\, V1K 1C4\, Canada
ATTACH;FMTTYPE=image/jpeg:https://www.gameonsports.bar/wp-content/uploads/2023/12/Monday-December-11-2023-ig.jpeg
ORGANIZER;CN="Jim%20Cooley":MAILTO:jim.cooley@live.ca
END:VEVENT
BEGIN:VEVENT
DTSTART;TZID=America/Vancouver:20231212T120000
DTEND;TZID=America/Vancouver:20231212T160000
DTSTAMP:20260423T015927
CREATED:20231212T190451Z
LAST-MODIFIED:20231212T190451Z
UID:2252-1702382400-1702396800@www.gameonsports.bar
SUMMARY:Tuesday Special Feature
DESCRIPTION:Chicken Ranch Swiss Burger\nwith spicy deep fried pickles $17.99 \nSoup of the Day: \nMullagatawny\nPhilly Beef\nBeef Barley \nDrink Special: \nPints of Lions Gate Lager $6.00 \nHappy Hour 2-4 pm!!!
URL:https://www.gameonsports.bar/event/tuesday-special-feature-30/
LOCATION:Game On Sports Bar & Grill\, 3701 Dewolf Way\, Merritt\, BC\, V1K 1C4\, Canada
ATTACH;FMTTYPE=image/jpeg:https://www.gameonsports.bar/wp-content/uploads/2023/12/Tuesday-December-12-2023-ig.jpeg
ORGANIZER;CN="Jim%20Cooley":MAILTO:jim.cooley@live.ca
END:VEVENT
BEGIN:VEVENT
DTSTART;TZID=America/Vancouver:20231214T120000
DTEND;TZID=America/Vancouver:20231214T160000
DTSTAMP:20260423T015927
CREATED:20231214T191452Z
LAST-MODIFIED:20231214T191452Z
UID:2281-1702555200-1702569600@www.gameonsports.bar
SUMMARY:Thursday Special Feature
DESCRIPTION:Buffalo Chicken Caesar Wrap\nwith soup\, salad or fries $15.99 \nSoup of the Day: \nThai Coconut Curry\nBorscht\nCream of Mushroom \nDrink Special: \nBottles of Coors Original $5.15\nBailey’s & Coffee $6.00
URL:https://www.gameonsports.bar/event/thursday-special-feature-32/
LOCATION:Game On Sports Bar & Grill\, 3701 Dewolf Way\, Merritt\, BC\, V1K 1C4\, Canada
ATTACH;FMTTYPE=image/jpeg:https://www.gameonsports.bar/wp-content/uploads/2023/12/Thursday-December-14-2023-ig.jpeg
ORGANIZER;CN="Jim%20Cooley":MAILTO:jim.cooley@live.ca
END:VEVENT
END:VCALENDAR