BEGIN:VCALENDAR
VERSION:2.0
PRODID:-//Game On Sports Bar &amp; Grill - ECPv6.0.8//NONSGML v1.0//EN
CALSCALE:GREGORIAN
METHOD:PUBLISH
X-ORIGINAL-URL:https://www.gameonsports.bar
X-WR-CALDESC:Events for Game On Sports Bar &amp; Grill
REFRESH-INTERVAL;VALUE=DURATION:PT1H
X-Robots-Tag:noindex
X-PUBLISHED-TTL:PT1H
BEGIN:VTIMEZONE
TZID:America/Vancouver
BEGIN:DAYLIGHT
TZOFFSETFROM:-0800
TZOFFSETTO:-0700
TZNAME:PDT
DTSTART:20230312T100000
END:DAYLIGHT
BEGIN:STANDARD
TZOFFSETFROM:-0700
TZOFFSETTO:-0800
TZNAME:PST
DTSTART:20231105T090000
END:STANDARD
END:VTIMEZONE
BEGIN:VEVENT
DTSTART;TZID=America/Vancouver:20231002T120000
DTEND;TZID=America/Vancouver:20231002T160000
DTSTAMP:20260422T211536
CREATED:20231002T184351Z
LAST-MODIFIED:20231002T184351Z
UID:2066-1696248000-1696262400@www.gameonsports.bar
SUMMARY:Monday Special Feature
DESCRIPTION:Put Roast Stew with Cheese Toast\n$11.99 \nBBQ Bacon & Cheddar Beef Dip on\na Pretzel Bun with soup\, salad or fries $16.99 \nSoup of the Day: \nGinger Beef\nMulligatawny \nDrink Special: \nPints of Flagship I PA $5.80
URL:https://www.gameonsports.bar/event/monday-special-feature-22/
LOCATION:Game On Sports Bar & Grill\, 3701 Dewolf Way\, Merritt\, BC\, V1K 1C4\, Canada
ATTACH;FMTTYPE=image/jpeg:https://www.gameonsports.bar/wp-content/uploads/2023/10/Monday-October-2-2023-Special-calendar.jpeg
ORGANIZER;CN="Jim%20Cooley":MAILTO:jim.cooley@live.ca
END:VEVENT
BEGIN:VEVENT
DTSTART;TZID=America/Vancouver:20231003T120000
DTEND;TZID=America/Vancouver:20231003T160000
DTSTAMP:20260422T211536
CREATED:20231003T181433Z
LAST-MODIFIED:20231003T181441Z
UID:2069-1696334400-1696348800@www.gameonsports.bar
SUMMARY:Tuesday Special Feature
DESCRIPTION:Philly Steak Wrap\nwith soup\, salad or fries $16.99 \nSoup of the Day: \nMulligatawny\nButternut Squash\nLemon Potato & Bacon \nDrink Special: \nPints of Flagship I.P.A $5.80
URL:https://www.gameonsports.bar/event/tuesday-special-feature-22/
LOCATION:Game On Sports Bar & Grill\, 3701 Dewolf Way\, Merritt\, BC\, V1K 1C4\, Canada
ATTACH;FMTTYPE=image/jpeg:https://www.gameonsports.bar/wp-content/uploads/2023/10/Tuesday-October-3-2023-Special-calendar.jpeg
ORGANIZER;CN="Jim%20Cooley":MAILTO:jim.cooley@live.ca
END:VEVENT
BEGIN:VEVENT
DTSTART;TZID=America/Vancouver:20231004T120000
DTEND;TZID=America/Vancouver:20231004T160000
DTSTAMP:20260422T211536
CREATED:20231004T201211Z
LAST-MODIFIED:20231004T201211Z
UID:2072-1696420800-1696435200@www.gameonsports.bar
SUMMARY:Wednesday Special Feature
DESCRIPTION:Spinach & Feta Chicken Club Panini with soup\, salad or fries $16.99 \nsubstitute your Burger or Hoagie Bun\nwith our new Pretzel Bun. \nSoup of the Day: \nGinger Beef & Rice\nCream of Broccoli\nButtenut Squash \nDrink Special: \nBottles Bud Light $5.15\nSmirnoff Ice $5.00
URL:https://www.gameonsports.bar/event/wednesday-special-feature-21/
LOCATION:Game On Sports Bar & Grill\, 3701 Dewolf Way\, Merritt\, BC\, V1K 1C4\, Canada
ATTACH;FMTTYPE=image/jpeg:https://www.gameonsports.bar/wp-content/uploads/2023/10/Wednesday-October-4-2023-Special-ig-Calendar.jpeg
ORGANIZER;CN="Jim%20Cooley":MAILTO:jim.cooley@live.ca
END:VEVENT
BEGIN:VEVENT
DTSTART;TZID=America/Vancouver:20231005T120000
DTEND;TZID=America/Vancouver:20231005T160000
DTSTAMP:20260422T211536
CREATED:20231005T184151Z
LAST-MODIFIED:20231005T184151Z
UID:2075-1696507200-1696521600@www.gameonsports.bar
SUMMARY:Thursday Special Feature
DESCRIPTION:Beef Stew with Cheese Toast $11.99 \nBacon\, Swiss & Ranch Chicken Burger on a Pretzel Bun\nwith soup\, salad or fries $16.99 \nSoup of the Day: \nButternut Squash\nCream of Mushroom & Bacon \nDrink Special: \nPints of Canadian $5.80\nLong Island Iced Tea $5.40
URL:https://www.gameonsports.bar/event/thursday-special-feature-23/
LOCATION:Game On Sports Bar & Grill\, 3701 Dewolf Way\, Merritt\, BC\, V1K 1C4\, Canada
ATTACH;FMTTYPE=image/jpeg:https://www.gameonsports.bar/wp-content/uploads/2023/10/Thursday-October-5-2023-Special-Calendar.jpeg
ORGANIZER;CN="Jim%20Cooley":MAILTO:jim.cooley@live.ca
END:VEVENT
BEGIN:VEVENT
DTSTART;TZID=America/Vancouver:20231006T120000
DTEND;TZID=America/Vancouver:20231006T160000
DTSTAMP:20260422T211536
CREATED:20231006T185511Z
LAST-MODIFIED:20231006T185727Z
UID:2078-1696593600-1696608000@www.gameonsports.bar
SUMMARY:Friday Special Feature
DESCRIPTION:Parmesan Crusted Crispy Chicken Caesar Sandwich with soup\, salad or fries $14.99 \nSoup of the Day: \nChicken Vegetable\nGinger Beef & Rice\nBroccoli Cheddar \nDrink Special: \nPints of Lions $5.80\nScrewdrivers $5.40 \nNew: Roasted Peach & Honey Deepfried Cheesecake! \n 
URL:https://www.gameonsports.bar/event/friday-special-feature-22/
LOCATION:Game On Sports Bar & Grill\, 3701 Dewolf Way\, Merritt\, BC\, V1K 1C4\, Canada
ATTACH;FMTTYPE=image/png:https://www.gameonsports.bar/wp-content/uploads/2023/10/Friday-October-6-2023-Special-fb.png
ORGANIZER;CN="Jim%20Cooley":MAILTO:jim.cooley@live.ca
END:VEVENT
BEGIN:VEVENT
DTSTART;TZID=America/Vancouver:20231006T170000
DTEND;TZID=America/Vancouver:20231006T220000
DTSTAMP:20260422T211536
CREATED:20230602T184643Z
LAST-MODIFIED:20231006T185544Z
UID:1751-1696611600-1696629600@www.gameonsports.bar
SUMMARY:Steak and Prawns Dinner - Every Friday Night!
DESCRIPTION:Two sizes to choose from:\n6 oz for $32.95\n10 oz for $37.95\nIncludes:\nVegetables\, Garlic Toast and choice of Potato. \nEvery Friday Night!
URL:https://www.gameonsports.bar/event/steak-and-prawns-dinner-every-friday-night/
LOCATION:Game On Sports Bar & Grill\, 3701 Dewolf Way\, Merritt\, BC\, V1K 1C4\, Canada
ATTACH;FMTTYPE=image/jpeg:https://www.gameonsports.bar/wp-content/uploads/2023/06/FRIDAYS-Steak-and-Prawns-calendar.jpeg
ORGANIZER;CN="Jim%20Cooley":MAILTO:jim.cooley@live.ca
END:VEVENT
BEGIN:VEVENT
DTSTART;TZID=America/Vancouver:20231007T120000
DTEND;TZID=America/Vancouver:20231007T160000
DTSTAMP:20260422T211536
CREATED:20231007T193727Z
LAST-MODIFIED:20231007T193727Z
UID:2085-1696680000-1696694400@www.gameonsports.bar
SUMMARY:Saturday Special Feature
DESCRIPTION:Chicken\, Ham & Swiss Panini on a\nPretzel Hoagie with soup\, salad or fries $16.99 \nSoup of the Day: \nBeef Vegetable\nMushroom & Bacon\nChicken Cordon Bleu \nDrink Special: \nBottles of MGD $5.15\nStrawberry Kiwi Nudes $5.00
URL:https://www.gameonsports.bar/event/saturday-special-feature-24/
LOCATION:Game On Sports Bar & Grill\, 3701 Dewolf Way\, Merritt\, BC\, V1K 1C4\, Canada
ATTACH;FMTTYPE=image/jpeg:https://www.gameonsports.bar/wp-content/uploads/2023/10/Saturday-October-7-2023-fb.jpeg
ORGANIZER;CN="Jim%20Cooley":MAILTO:jim.cooley@live.ca
END:VEVENT
BEGIN:VEVENT
DTSTART;TZID=America/Vancouver:20231008T160000
DTEND;TZID=America/Vancouver:20231009T160000
DTSTAMP:20260422T211536
CREATED:20231007T152357Z
LAST-MODIFIED:20231007T152432Z
UID:2082-1696780800-1696867200@www.gameonsports.bar
SUMMARY:Thanksgiving Dinner
DESCRIPTION:Thanksgiving Dinner 🍁\nHam\, Scalloped Potatoes\, Veggies\nPumpkin Pie for Dessert\n$25.99\n4 to Close\nSunday and Monday
URL:https://www.gameonsports.bar/event/thanksgiving-dinner/
LOCATION:Game On Sports Bar & Grill\, 3701 Dewolf Way\, Merritt\, BC\, V1K 1C4\, Canada
ATTACH;FMTTYPE=image/png:https://www.gameonsports.bar/wp-content/uploads/2023/10/Happy-Thanksgiving-Dinner-fb.png
ORGANIZER;CN="Jim%20Cooley":MAILTO:jim.cooley@live.ca
END:VEVENT
BEGIN:VEVENT
DTSTART;TZID=America/Vancouver:20231009T120000
DTEND;TZID=America/Vancouver:20231009T160000
DTSTAMP:20260422T211536
CREATED:20231009T194300Z
LAST-MODIFIED:20231009T194300Z
UID:2088-1696852800-1696867200@www.gameonsports.bar
SUMMARY:Monday Special Feature
DESCRIPTION:Beef Stew with Cheese Toast $1199\nRoasted Ham & Swiss Panini\nwith soup\, salad or fries $14.99 \nPatty melt with soup\, salad or fries$16.99 \nSoup of the Day: \nGinger Beef\nButternut Squash \nDrink Special: \nBottles of Canadian $5.15\nLong Island Iced Tea $5.40
URL:https://www.gameonsports.bar/event/monday-special-feature-23/
LOCATION:Game On Sports Bar & Grill\, 3701 Dewolf Way\, Merritt\, BC\, V1K 1C4\, Canada
ATTACH;FMTTYPE=image/jpeg:https://www.gameonsports.bar/wp-content/uploads/2023/10/Monday-October-9-2023-fb.jpeg
ORGANIZER;CN="Jim%20Cooley":MAILTO:jim.cooley@live.ca
END:VEVENT
BEGIN:VEVENT
DTSTART;TZID=America/Vancouver:20231010T120000
DTEND;TZID=America/Vancouver:20231010T160000
DTSTAMP:20260422T211536
CREATED:20231010T183648Z
LAST-MODIFIED:20231010T183648Z
UID:2093-1696939200-1696953600@www.gameonsports.bar
SUMMARY:Tuesday Special Feature
DESCRIPTION:Western Burger $16.99\non a pretzel bun\, served\nwith soup\, salad or fries \nSoup of the Day: \nBeef Veg & Rice\nChicken Veg\nMulligatawny \nDrink Special: \nPints of Sleeman Honey Brown $5.80
URL:https://www.gameonsports.bar/event/tuesday-special-feature-23/
LOCATION:Game On Sports Bar & Grill\, 3701 Dewolf Way\, Merritt\, BC\, V1K 1C4\, Canada
ATTACH;FMTTYPE=image/jpeg:https://www.gameonsports.bar/wp-content/uploads/2023/10/Tuesday-October-10-2023-FB.jpeg
ORGANIZER;CN="Jim%20Cooley":MAILTO:jim.cooley@live.ca
END:VEVENT
BEGIN:VEVENT
DTSTART;TZID=America/Vancouver:20231011T120000
DTEND;TZID=America/Vancouver:20231011T160000
DTSTAMP:20260422T211536
CREATED:20231011T184211Z
LAST-MODIFIED:20231011T184211Z
UID:2096-1697025600-1697040000@www.gameonsports.bar
SUMMARY:Wednesday Special Feature
DESCRIPTION:Spinach Feta Chicken Club Panini with soup\, salad or fries. $16.99 \n* Appy * Fire dusted calamari. $16.87 \nSoup of the Day: \nButternot Squash\nCorned Beef & Cabbage\nCream of Mushroom & Bacon \nDrink Special: \nPints of Flagship I.P.A $5.80\nBaileys & Coffee $6.00
URL:https://www.gameonsports.bar/event/wednesday-special-feature-22/
LOCATION:Game On Sports Bar & Grill\, 3701 Dewolf Way\, Merritt\, BC\, V1K 1C4\, Canada
ATTACH;FMTTYPE=image/jpeg:https://www.gameonsports.bar/wp-content/uploads/2023/10/Wednesday-October-11-2023-fb.jpeg
ORGANIZER;CN="Jim%20Cooley":MAILTO:jim.cooley@live.ca
END:VEVENT
BEGIN:VEVENT
DTSTART;TZID=America/Vancouver:20231013T120000
DTEND;TZID=America/Vancouver:20231013T160000
DTSTAMP:20260422T211536
CREATED:20231013T181621Z
LAST-MODIFIED:20231013T181621Z
UID:2102-1697198400-1697212800@www.gameonsports.bar
SUMMARY:Friday Special Feature
DESCRIPTION:Boneless Pork Bites $14.99 \nSpinach & Artichoke Dip with Tortilla Chips $13.99 Add Pita Bread $15.99 \nParmesan Crusted Crispy Chicken Caesar Sandwich with soup\, salad or fries $14.99 \nSoup of the Day: \nPotato Bacon & Cheddar\nBeef Vegetable\nChicken Cordon Bleu \nDrink Special: \nBottles of Bud Light $5.15\nLong Island Iced Tea $5.40
URL:https://www.gameonsports.bar/event/friday-special-feature-23/
LOCATION:Game On Sports Bar & Grill\, 3701 Dewolf Way\, Merritt\, BC\, V1K 1C4\, Canada
ATTACH;FMTTYPE=image/jpeg:https://www.gameonsports.bar/wp-content/uploads/2023/10/Friday-October-13-2023-fb.jpeg
ORGANIZER;CN="Jim%20Cooley":MAILTO:jim.cooley@live.ca
END:VEVENT
BEGIN:VEVENT
DTSTART;TZID=America/Vancouver:20231014T120000
DTEND;TZID=America/Vancouver:20231014T160000
DTSTAMP:20260422T211536
CREATED:20231014T184712Z
LAST-MODIFIED:20231014T184712Z
UID:2105-1697284800-1697299200@www.gameonsports.bar
SUMMARY:Saturday Special Feature
DESCRIPTION:Mushroom Swiss Prime Rib Melt\nwith soup\, salad or fries $17.99 \nSpinach & Artichoke Dip with Tortilla Chips $13.99 \nSoup of the Day: \nMushroom & Bacon\nBeef Vegetable\nChicken Vegetable \nDrink Special: \nBaileys: Coffee $6.00\nPints of Lions Gate Lager $5.80
URL:https://www.gameonsports.bar/event/saturday-special-feature-25/
LOCATION:Game On Sports Bar & Grill\, 3701 Dewolf Way\, Merritt\, BC\, V1K 1C4\, Canada
ATTACH;FMTTYPE=image/jpeg:https://www.gameonsports.bar/wp-content/uploads/2023/10/Saturday-October-14-2023-FB.jpeg
ORGANIZER;CN="Jim%20Cooley":MAILTO:jim.cooley@live.ca
END:VEVENT
BEGIN:VEVENT
DTSTART;TZID=America/Vancouver:20231016T120000
DTEND;TZID=America/Vancouver:20231016T160000
DTSTAMP:20260422T211536
CREATED:20231016T192958Z
LAST-MODIFIED:20231016T192958Z
UID:2108-1697457600-1697472000@www.gameonsports.bar
SUMMARY:Monday Special Feature
DESCRIPTION:BBQ Beef Bunwich on a Pretzel Bun with soup\, salad or fries $17.99 \nSoup of the Day: \nSpinach\, Mushroom & Chicken\nSplit Pea & Ham\nCream of Broccoli \nDrink Special: \nPints of Canadian $5.80
URL:https://www.gameonsports.bar/event/monday-special-feature-24/
LOCATION:Game On Sports Bar & Grill\, 3701 Dewolf Way\, Merritt\, BC\, V1K 1C4\, Canada
ATTACH;FMTTYPE=image/jpeg:https://www.gameonsports.bar/wp-content/uploads/2023/10/Monday-October-16-2023-FB.jpeg
ORGANIZER;CN="Jim%20Cooley":MAILTO:jim.cooley@live.ca
END:VEVENT
BEGIN:VEVENT
DTSTART;TZID=America/Vancouver:20231018T120000
DTEND;TZID=America/Vancouver:20231018T160000
DTSTAMP:20260422T211536
CREATED:20231018T182242Z
LAST-MODIFIED:20231018T182242Z
UID:2112-1697630400-1697644800@www.gameonsports.bar
SUMMARY:Wednesday Special Feature
DESCRIPTION:Spinach Feta ChicKen Club Panini\,\nWith soup\, salad or fries $16.99 \n*Appy* Fire Dusted Calamari $16.87 \nSoup of the Day: \nPotato Bacon & Cheddar\nChick Pea Vegetable\nSpinach Mushroom & Chicken \nDrink Special: \nPints of Sleeman Honey Brown $5.80\nVodka Cran $5.40
URL:https://www.gameonsports.bar/event/wednesday-special-feature-23/
LOCATION:Game On Sports Bar & Grill\, 3701 Dewolf Way\, Merritt\, BC\, V1K 1C4\, Canada
ATTACH;FMTTYPE=image/jpeg:https://www.gameonsports.bar/wp-content/uploads/2023/10/Wednesday-October-18-2023-fb.jpeg
ORGANIZER;CN="Jim%20Cooley":MAILTO:jim.cooley@live.ca
END:VEVENT
BEGIN:VEVENT
DTSTART;TZID=America/Vancouver:20231019T120000
DTEND;TZID=America/Vancouver:20231019T160000
DTSTAMP:20260422T211536
CREATED:20231019T201936Z
LAST-MODIFIED:20231019T201936Z
UID:2115-1697716800-1697731200@www.gameonsports.bar
SUMMARY:Thursday Special Feature
DESCRIPTION:Hot Meatloaf Sandwich\nwith soup\, salad or fries $16.99 \nBoneless Pork Bites $15.37 \nSoup of the Day: \nSplit Pea & Ham\nGinger Beef\nChick Pea & Vegetable \nDrink Special: \nPints of Flagship IPA $5.80
URL:https://www.gameonsports.bar/event/thursday-special-feature-24/
LOCATION:Game On Sports Bar & Grill\, 3701 Dewolf Way\, Merritt\, BC\, V1K 1C4\, Canada
ATTACH;FMTTYPE=image/jpeg:https://www.gameonsports.bar/wp-content/uploads/2023/10/Thursday-October-19-2023-fb.jpeg
ORGANIZER;CN="Jim%20Cooley":MAILTO:jim.cooley@live.ca
END:VEVENT
BEGIN:VEVENT
DTSTART;TZID=America/Vancouver:20231020T120000
DTEND;TZID=America/Vancouver:20231020T160000
DTSTAMP:20260422T211536
CREATED:20231020T185230Z
LAST-MODIFIED:20231020T185230Z
UID:2118-1697803200-1697817600@www.gameonsports.bar
SUMMARY:Friday Special Feature
DESCRIPTION:Beef Stew with Cheese Toast $11.99\nParmesan Crusted Crispy Chicken Caesar Sandwich with soup\, salad or fries $14.99 \nSoup of the Day: \nChicken & Sausage Gumbo\nButternut Squash \nDrink Special: \nPints of Lions Gate Lager $5.80\nParalyzers $5.40
URL:https://www.gameonsports.bar/event/friday-special-feature-24/
LOCATION:Game On Sports Bar & Grill\, 3701 Dewolf Way\, Merritt\, BC\, V1K 1C4\, Canada
ATTACH;FMTTYPE=image/jpeg:https://www.gameonsports.bar/wp-content/uploads/2023/10/Friday-October-20-2023-fb.jpeg
ORGANIZER;CN="Jim%20Cooley":MAILTO:jim.cooley@live.ca
END:VEVENT
BEGIN:VEVENT
DTSTART;TZID=America/Vancouver:20231021T120000
DTEND;TZID=America/Vancouver:20231021T160000
DTSTAMP:20260422T211536
CREATED:20231021T192032Z
LAST-MODIFIED:20231021T192032Z
UID:2121-1697889600-1697904000@www.gameonsports.bar
SUMMARY:Saturday Special Feature
DESCRIPTION:Bacon\, Swiss & Ranch Chicken Burger with soup\, salad or fries $16.99 \nSoup of the Day: \nChick Pea & Veggie\nPotato Bacon\nPhilly Beef \nDrink Special: \nPints of Sleeman Honey Brown\n$5.80 \nScrew Driver $5.40
URL:https://www.gameonsports.bar/event/saturday-special-feature-26/
LOCATION:Game On Sports Bar & Grill\, 3701 Dewolf Way\, Merritt\, BC\, V1K 1C4\, Canada
ATTACH;FMTTYPE=image/jpeg:https://www.gameonsports.bar/wp-content/uploads/2023/10/Saturday-October-21-2023-fb.jpeg
ORGANIZER;CN="Jim%20Cooley":MAILTO:jim.cooley@live.ca
END:VEVENT
BEGIN:VEVENT
DTSTART;TZID=America/Vancouver:20231023T120000
DTEND;TZID=America/Vancouver:20231023T160000
DTSTAMP:20260422T211536
CREATED:20231023T190352Z
LAST-MODIFIED:20231023T190352Z
UID:2124-1698062400-1698076800@www.gameonsports.bar
SUMMARY:Monday Special Feature
DESCRIPTION:Mushroom Swiss Bison Burger\nwith soup\, salad or fries $16.99 \nBoneless Pork Bites $15.37 \nSoup of the Day: \nChick Pea & Veggie\nGinger Beef & Rice\nPotato Bacon & Cheddar \nPints of Canadian $5.80\nBaileys & Coffee $6.00
URL:https://www.gameonsports.bar/event/monday-special-feature-25/
LOCATION:Game On Sports Bar & Grill\, 3701 Dewolf Way\, Merritt\, BC\, V1K 1C4\, Canada
ATTACH;FMTTYPE=image/png:https://www.gameonsports.bar/wp-content/uploads/2023/10/Monday-October-23-2023-fb.png
ORGANIZER;CN="Jim%20Cooley":MAILTO:jim.cooley@live.ca
END:VEVENT
BEGIN:VEVENT
DTSTART;TZID=America/Vancouver:20231024T120000
DTEND;TZID=America/Vancouver:20231024T160000
DTSTAMP:20260422T211536
CREATED:20231024T182245Z
LAST-MODIFIED:20231024T182245Z
UID:2127-1698148800-1698163200@www.gameonsports.bar
SUMMARY:Tuesday Special Feature
DESCRIPTION:Prime Rib Mushroom Swiss Dip\nwith soup\, salad or fries. $17.99 \nBBQ Bacon Cheddar Bison Burger\nwith soup\, salad or fries. $16.99 \nSoup of the Day: \nChicken Sausage Gumbo\nBeef Vegetable\nChick Pea Vegetable \nDrink Special: \nPints of Lions Gate Lager $5.80\nBaileys Coffee $6.00
URL:https://www.gameonsports.bar/event/tuesday-special-feature-24/
LOCATION:Game On Sports Bar & Grill\, 3701 Dewolf Way\, Merritt\, BC\, V1K 1C4\, Canada
ATTACH;FMTTYPE=image/jpeg:https://www.gameonsports.bar/wp-content/uploads/2023/10/Tuesday-October-24-2023-ig.jpeg
ORGANIZER;CN="Jim%20Cooley":MAILTO:jim.cooley@live.ca
END:VEVENT
BEGIN:VEVENT
DTSTART;TZID=America/Vancouver:20231026T120000
DTEND;TZID=America/Vancouver:20231026T160000
DTSTAMP:20260422T211536
CREATED:20231026T191633Z
LAST-MODIFIED:20231026T191633Z
UID:2131-1698321600-1698336000@www.gameonsports.bar
SUMMARY:Thursday Special Feature
DESCRIPTION:Western Burger with soup\, salad or fries $18.99 \nSoup of the Day: \nChicken Vegetable\nPotato Bacon\nSplit Pea & Ham \nDrink Special: \nPints of Lions Gate Lager\nLong Island Iced Tea $5.40
URL:https://www.gameonsports.bar/event/thursday-special-feature-25/
LOCATION:Game On Sports Bar & Grill\, 3701 Dewolf Way\, Merritt\, BC\, V1K 1C4\, Canada
ATTACH;FMTTYPE=image/jpeg:https://www.gameonsports.bar/wp-content/uploads/2023/10/Thursday-October-26-2023-Instagram-Post.jpeg
ORGANIZER;CN="Jim%20Cooley":MAILTO:jim.cooley@live.ca
END:VEVENT
BEGIN:VEVENT
DTSTART;TZID=America/Vancouver:20231027T120000
DTEND;TZID=America/Vancouver:20231027T160000
DTSTAMP:20260422T211536
CREATED:20231027T185227Z
LAST-MODIFIED:20231027T185227Z
UID:2134-1698408000-1698422400@www.gameonsports.bar
SUMMARY:Friday Special Feature
DESCRIPTION:Parmesan Crusted Crispy Chicken Caesar Sandwich with soup\, salad\nor fries $14.99 \nSoup of the Day: \nChick Pea & Vegetable\nBeef Vegetable\nPotato Bacon \nDrink Special: \nPints of Coors Light $5.80
URL:https://www.gameonsports.bar/event/friday-special-feature-25/
LOCATION:Game On Sports Bar & Grill\, 3701 Dewolf Way\, Merritt\, BC\, V1K 1C4\, Canada
ATTACH;FMTTYPE=image/jpeg:https://www.gameonsports.bar/wp-content/uploads/2023/10/Friday-October-27-2023-post.jpeg
ORGANIZER;CN="Jim%20Cooley":MAILTO:jim.cooley@live.ca
END:VEVENT
BEGIN:VEVENT
DTSTART;TZID=America/Vancouver:20231028T120000
DTEND;TZID=America/Vancouver:20231028T160000
DTSTAMP:20260422T211536
CREATED:20231028T185131Z
LAST-MODIFIED:20231028T185131Z
UID:2137-1698494400-1698508800@www.gameonsports.bar
SUMMARY:Saturday Special Feature
DESCRIPTION:BLTC Wrap with soup\, salad or fries $14.99 \nSoup of the Day: \nPhilly Beef\nGinger Beef & Rice\nCream of Broccoli \nDrink Special: \nBottles of Bud Light $5.15\nGrowers Apple Cider $5.00
URL:https://www.gameonsports.bar/event/saturday-special-feature-27/
LOCATION:Game On Sports Bar & Grill\, 3701 Dewolf Way\, Merritt\, BC\, V1K 1C4\, Canada
ATTACH;FMTTYPE=image/jpeg:https://www.gameonsports.bar/wp-content/uploads/2023/10/Saturday-October-28-2023-Post.jpeg
ORGANIZER;CN="Jim%20Cooley":MAILTO:jim.cooley@live.ca
END:VEVENT
BEGIN:VEVENT
DTSTART;TZID=America/Vancouver:20231030T120000
DTEND;TZID=America/Vancouver:20231030T160000
DTSTAMP:20260422T211536
CREATED:20231030T185739Z
LAST-MODIFIED:20231030T185739Z
UID:2140-1698667200-1698681600@www.gameonsports.bar
SUMMARY:Monday Special Feature
DESCRIPTION:Prime Rib Mushroom Swiss Dip\nwith soup\, salad or fries $17.99 \nSoup of the Day: \nChick Pea\, Veggie & Bacon\nBroccoli Cheddar\nPotato Bacon \nDrink Special: \nPints of Canadian $5.80
URL:https://www.gameonsports.bar/event/monday-special-feature-26/
LOCATION:Game On Sports Bar & Grill\, 3701 Dewolf Way\, Merritt\, BC\, V1K 1C4\, Canada
ATTACH;FMTTYPE=image/jpeg:https://www.gameonsports.bar/wp-content/uploads/2023/10/Monday-October-30-2023-ig.jpeg
ORGANIZER;CN="Jim%20Cooley":MAILTO:jim.cooley@live.ca
END:VEVENT
BEGIN:VEVENT
DTSTART;TZID=America/Vancouver:20231031T120000
DTEND;TZID=America/Vancouver:20231031T160000
DTSTAMP:20260422T211536
CREATED:20231031T182829Z
LAST-MODIFIED:20231031T182829Z
UID:2143-1698753600-1698768000@www.gameonsports.bar
SUMMARY:Tuesday Special Feature
DESCRIPTION:Mushroom Swiss Burger\nwith soup\, salad or fries $17.99 \nBeef Stew with Cheese Toast $11.99 \n*Appy* Fire Dusted Calamari $16.87 \nSoup of the Day: \nChicken Sausage Gumbo\nBroccoli Cheddar\nRoasted Cauliflower \nDrink Special: \nPints of Sleeman Honey Brown $5.80\nVodka Cranberry $5.40
URL:https://www.gameonsports.bar/event/tuesday-special-feature-25/
LOCATION:Game On Sports Bar & Grill\, 3701 Dewolf Way\, Merritt\, BC\, V1K 1C4\, Canada
ATTACH;FMTTYPE=image/jpeg:https://www.gameonsports.bar/wp-content/uploads/2023/10/Tuesday-October-31-2023-IG.jpeg
ORGANIZER;CN="Jim%20Cooley":MAILTO:jim.cooley@live.ca
END:VEVENT
BEGIN:VEVENT
DTSTART;TZID=America/Vancouver:20231101T120000
DTEND;TZID=America/Vancouver:20231101T160000
DTSTAMP:20260422T211536
CREATED:20231101T174408Z
LAST-MODIFIED:20231101T174422Z
UID:2146-1698840000-1698854400@www.gameonsports.bar
SUMMARY:Wednesday Special Feature
DESCRIPTION:Pally Melt\nwith soup\, salad or fries $16.99 \nBaked French Onion with Garlic Toast $11.99 \nSoup of the Day: \nChicken Cordon Bleu\nCorned Beef & Cabbage\nChickpea Veg & Bacon \nDrink Special: \nPints of Coors Light $5.80\nGreyhounds $5.40
URL:https://www.gameonsports.bar/event/wednesday-special-feature-24/
LOCATION:Game On Sports Bar & Grill\, 3701 Dewolf Way\, Merritt\, BC\, V1K 1C4\, Canada
ATTACH;FMTTYPE=image/jpeg:https://www.gameonsports.bar/wp-content/uploads/2023/11/Wednesday-November-1-2023-IG.jpeg
ORGANIZER;CN="Jim%20Cooley":MAILTO:jim.cooley@live.ca
END:VEVENT
BEGIN:VEVENT
DTSTART;TZID=America/Vancouver:20231102T120000
DTEND;TZID=America/Vancouver:20231102T160000
DTSTAMP:20260422T211536
CREATED:20231102T190303Z
LAST-MODIFIED:20231102T190303Z
UID:2149-1698926400-1698940800@www.gameonsports.bar
SUMMARY:Thursday Special Feature
DESCRIPTION:Homemade Chili with Cheese Toast $13.99 \nBoneless Pork Bites $14.99 \nSoup of the Day: \nCream of Carrot\nCream of Broccoli \nDrink Special: \nPints of Lions Gate Lager $5.80\nParalyzers $5.40
URL:https://www.gameonsports.bar/event/thursday-special-feature-26/
LOCATION:Game On Sports Bar & Grill\, 3701 Dewolf Way\, Merritt\, BC\, V1K 1C4\, Canada
ATTACH;FMTTYPE=image/jpeg:https://www.gameonsports.bar/wp-content/uploads/2023/11/Thursday-November-2-2023-IG.jpeg
ORGANIZER;CN="Jim%20Cooley":MAILTO:jim.cooley@live.ca
END:VEVENT
BEGIN:VEVENT
DTSTART;TZID=America/Vancouver:20231103T120000
DTEND;TZID=America/Vancouver:20231103T160000
DTSTAMP:20260422T211536
CREATED:20231103T190754Z
LAST-MODIFIED:20231103T190754Z
UID:2153-1699012800-1699027200@www.gameonsports.bar
SUMMARY:Friday Special Feature
DESCRIPTION:Parmesan Crusted Crispy Chicken Caesar Sandwich with fries\, soup or salad $15.99 \nChili Cheese Fries $14.99 \nSoup of the Day: \nSausage & Chicken Gumbo\nPhilly Beef\nRoasted Califlour & Cheddar \nDrink Special: \nPints of Coors Light $5.80\nBrown Cows $5.50
URL:https://www.gameonsports.bar/event/friday-special-feature-26/
LOCATION:Game On Sports Bar & Grill\, 3701 Dewolf Way\, Merritt\, BC\, V1K 1C4\, Canada
ATTACH;FMTTYPE=image/jpeg:https://www.gameonsports.bar/wp-content/uploads/2023/11/Friday-November-3-2023-IG.jpeg
ORGANIZER;CN="Jim%20Cooley":MAILTO:jim.cooley@live.ca
END:VEVENT
BEGIN:VEVENT
DTSTART;TZID=America/Vancouver:20231104T120000
DTEND;TZID=America/Vancouver:20231104T160000
DTSTAMP:20260422T211536
CREATED:20231104T190807Z
LAST-MODIFIED:20231104T190807Z
UID:2156-1699099200-1699113600@www.gameonsports.bar
SUMMARY:Saturday Special Feature
DESCRIPTION:Hot Meatloaf Sandwich\nwith soup\, salad or fries $16.99 \nSoup of the Day: \nChick Pea & Veggie\nCorned Beef & Cabbage\nPhilly Beef \nDrink Special: \nPints of Flagship IPA $5.80\nStrongbow $5.00
URL:https://www.gameonsports.bar/event/saturday-special-feature-28/
LOCATION:Game On Sports Bar & Grill\, 3701 Dewolf Way\, Merritt\, BC\, V1K 1C4\, Canada
ATTACH;FMTTYPE=image/jpeg:https://www.gameonsports.bar/wp-content/uploads/2023/11/Saturday-November-4-2023-IG.jpeg
ORGANIZER;CN="Jim%20Cooley":MAILTO:jim.cooley@live.ca
END:VEVENT
BEGIN:VEVENT
DTSTART;TZID=America/Vancouver:20231106T120000
DTEND;TZID=America/Vancouver:20231106T160000
DTSTAMP:20260422T211536
CREATED:20231106T192746Z
LAST-MODIFIED:20231106T192746Z
UID:2160-1699272000-1699286400@www.gameonsports.bar
SUMMARY:Monday Special Feature
DESCRIPTION:Baked French Onion Soup $11.99 \nWestern Burger with soup\, salad or fries $18.99 \nSoup of the Day: \nCream of Tomato\nCream of Broccoli\nSausage & Chicken Gumbo \nDrink Special: \nPints of Canadian $5.80\nBaileys: Coffee $6.00
URL:https://www.gameonsports.bar/event/monday-special-feature-27/
LOCATION:Game On Sports Bar & Grill\, 3701 Dewolf Way\, Merritt\, BC\, V1K 1C4\, Canada
ATTACH;FMTTYPE=image/jpeg:https://www.gameonsports.bar/wp-content/uploads/2023/11/Monday-November-6-2023-ig.jpeg
ORGANIZER;CN="Jim%20Cooley":MAILTO:jim.cooley@live.ca
END:VEVENT
END:VCALENDAR