BEGIN:VCALENDAR
VERSION:2.0
PRODID:-//Game On Sports Bar &amp; Grill - ECPv6.0.8//NONSGML v1.0//EN
CALSCALE:GREGORIAN
METHOD:PUBLISH
X-WR-CALNAME:Game On Sports Bar &amp; Grill
X-ORIGINAL-URL:https://www.gameonsports.bar
X-WR-CALDESC:Events for Game On Sports Bar &amp; Grill
REFRESH-INTERVAL;VALUE=DURATION:PT1H
X-Robots-Tag:noindex
X-PUBLISHED-TTL:PT1H
BEGIN:VTIMEZONE
TZID:America/Vancouver
BEGIN:DAYLIGHT
TZOFFSETFROM:-0800
TZOFFSETTO:-0700
TZNAME:PDT
DTSTART:20230312T100000
END:DAYLIGHT
BEGIN:STANDARD
TZOFFSETFROM:-0700
TZOFFSETTO:-0800
TZNAME:PST
DTSTART:20231105T090000
END:STANDARD
END:VTIMEZONE
BEGIN:VEVENT
DTSTART;TZID=America/Vancouver:20230907T120000
DTEND;TZID=America/Vancouver:20230907T160000
DTSTAMP:20260422T181755
CREATED:20230907T191554Z
LAST-MODIFIED:20230907T191554Z
UID:2002-1694088000-1694102400@www.gameonsports.bar
SUMMARY:Thursday Special Feature
DESCRIPTION:Seafood Chowder with Cheese Toast $11.95 \nSoup of the Day: \nCream of Carrot\nBeef Vegetable \nDrink Special: \nBottles of Pilsner $5.15\nGrowers Dry Apple Cider $5.00
URL:https://www.gameonsports.bar/event/thursday-special-feature-19/
LOCATION:Game On Sports Bar & Grill\, 3701 Dewolf Way\, Merritt\, BC\, V1K 1C4\, Canada
ATTACH;FMTTYPE=image/jpeg:https://www.gameonsports.bar/wp-content/uploads/2023/09/Thursday-September-7-2023-Special-calendar.jpeg
ORGANIZER;CN="Jim%20Cooley":MAILTO:jim.cooley@live.ca
END:VEVENT
BEGIN:VEVENT
DTSTART;TZID=America/Vancouver:20230909T120000
DTEND;TZID=America/Vancouver:20230909T160000
DTSTAMP:20260422T181755
CREATED:20230909T193558Z
LAST-MODIFIED:20230909T193558Z
UID:2005-1694260800-1694275200@www.gameonsports.bar
SUMMARY:Saturday Special Feature
DESCRIPTION:Baked French Onion with Garlic Toast $11.95 \nChipotle\, Bacon & Swiss Chicken Burger with soup\, salad or fries $16.99 \nSoup of the Day: \nCorn Chowder \nDrink Special: \nPints of Flagship IP $5.80\nScrewdrivers $5.40
URL:https://www.gameonsports.bar/event/saturday-special-feature-20/
LOCATION:Game On Sports Bar & Grill\, 3701 Dewolf Way\, Merritt\, BC\, V1K 1C4\, Canada
ATTACH;FMTTYPE=image/jpeg:https://www.gameonsports.bar/wp-content/uploads/2023/09/Saturday-September-9-2023-Special-calendar.jpeg
ORGANIZER;CN="Jim%20Cooley":MAILTO:jim.cooley@live.ca
END:VEVENT
BEGIN:VEVENT
DTSTART;TZID=America/Vancouver:20230911T120000
DTEND;TZID=America/Vancouver:20230911T160000
DTSTAMP:20260422T181755
CREATED:20230911T185938Z
LAST-MODIFIED:20230911T185938Z
UID:2008-1694433600-1694448000@www.gameonsports.bar
SUMMARY:Monday Special Feature
DESCRIPTION:Mushroom Swiss Burger\nwith Soup\, Salad or Fries $16.99 \nSoup of the Day: \nCream of Carrot\nBeef Vegetable\nCorn Chowder \nDrink Special: \nPints of Canadian $5.80\nLong Island Iced Tea $5.40
URL:https://www.gameonsports.bar/event/monday-special-feature-19/
LOCATION:Game On Sports Bar & Grill\, 3701 Dewolf Way\, Merritt\, BC\, V1K 1C4\, Canada
ATTACH;FMTTYPE=image/jpeg:https://www.gameonsports.bar/wp-content/uploads/2023/09/Monday-September-11-2023-Special-calendar.jpeg
ORGANIZER;CN="Jim%20Cooley":MAILTO:jim.cooley@live.ca
END:VEVENT
BEGIN:VEVENT
DTSTART;TZID=America/Vancouver:20230912T120000
DTEND;TZID=America/Vancouver:20230912T160000
DTSTAMP:20260422T181755
CREATED:20230912T182156Z
LAST-MODIFIED:20230912T182156Z
UID:2011-1694520000-1694534400@www.gameonsports.bar
SUMMARY:Tuesday Special Feature
DESCRIPTION:Beef Stew with Cheese Toast $11.95 \nSoup of the Day: \nChicken Taco\nCream of Carrot\nSplit Pea & Ham \nDrink Special: \nPints of Rickards Red $5.80
URL:https://www.gameonsports.bar/event/tuesday-special-feature-19/
LOCATION:Game On Sports Bar & Grill\, 3701 Dewolf Way\, Merritt\, BC\, V1K 1C4\, Canada
ATTACH;FMTTYPE=image/jpeg:https://www.gameonsports.bar/wp-content/uploads/2023/09/Tuesday-September-12-2023-Special-calendar.jpeg
ORGANIZER;CN="Jim%20Cooley":MAILTO:jim.cooley@live.ca
END:VEVENT
BEGIN:VEVENT
DTSTART;TZID=America/Vancouver:20230913T120000
DTEND;TZID=America/Vancouver:20230913T160000
DTSTAMP:20260422T181755
CREATED:20230913T182954Z
LAST-MODIFIED:20230913T182954Z
UID:2014-1694606400-1694620800@www.gameonsports.bar
SUMMARY:Wednesday Special Feature
DESCRIPTION:Bacon Swiss Ranch Chicken Burger with your choice of side $16.99 \nSoup of the Day: \nBorscht\nCheddar Broccoli\nBeef Veggie \nDrink Special: \nPints of Coors Light $5.80
URL:https://www.gameonsports.bar/event/wednesday-special-feature-18/
LOCATION:Game On Sports Bar & Grill\, 3701 Dewolf Way\, Merritt\, BC\, V1K 1C4\, Canada
ATTACH;FMTTYPE=image/jpeg:https://www.gameonsports.bar/wp-content/uploads/2023/09/Wednesday-September-13-2023-Special-calendar.jpeg
ORGANIZER;CN="Jim%20Cooley":MAILTO:jim.cooley@live.ca
END:VEVENT
BEGIN:VEVENT
DTSTART;TZID=America/Vancouver:20230914T120000
DTEND;TZID=America/Vancouver:20230914T160000
DTSTAMP:20260422T181755
CREATED:20230914T183817Z
LAST-MODIFIED:20230914T183817Z
UID:2017-1694692800-1694707200@www.gameonsports.bar
SUMMARY:Thursday Special Feature
DESCRIPTION:Bacon Cheeseburger with a fried egg with soup\, salad or fries $16.99 \nSoup of the Day: \nCorn Chowder\nChicken Bacon & Mushroom\nBorscht \nDrink Special: \nPints of Flagship IPA $5.80\nScrewdrivers $5.40
URL:https://www.gameonsports.bar/event/thursday-special-feature-20/
LOCATION:Game On Sports Bar & Grill\, 3701 Dewolf Way\, Merritt\, BC\, V1K 1C4\, Canada
ATTACH;FMTTYPE=image/jpeg:https://www.gameonsports.bar/wp-content/uploads/2023/09/Thursday-September-14-2023-Special-calendar.jpeg
ORGANIZER;CN="Jim%20Cooley":MAILTO:jim.cooley@live.ca
END:VEVENT
BEGIN:VEVENT
DTSTART;TZID=America/Vancouver:20230915T120000
DTEND;TZID=America/Vancouver:20230915T160000
DTSTAMP:20260422T181755
CREATED:20230915T185726Z
LAST-MODIFIED:20230915T185726Z
UID:2021-1694779200-1694793600@www.gameonsports.bar
SUMMARY:Friday Special Feature
DESCRIPTION:Bison Cheddar Burger\nwith soup\, salad or fries $16.99 \nSoup of the Day: \nCream of Tomato\nChicken Taco\nBeef Vegetable \nDrink Special: \nBottles of Canadian $5.15\nGame On Iced Tea $5.40
URL:https://www.gameonsports.bar/event/friday-special-feature-19/
LOCATION:Game On Sports Bar & Grill\, 3701 Dewolf Way\, Merritt\, BC\, V1K 1C4\, Canada
ATTACH;FMTTYPE=image/jpeg:https://www.gameonsports.bar/wp-content/uploads/2023/09/Friday-September-15-2023-Specialcalendar.jpeg
ORGANIZER;CN="Jim%20Cooley":MAILTO:jim.cooley@live.ca
END:VEVENT
BEGIN:VEVENT
DTSTART;TZID=America/Vancouver:20230916T120000
DTEND;TZID=America/Vancouver:20230916T160000
DTSTAMP:20260422T181755
CREATED:20230916T194526Z
LAST-MODIFIED:20230916T194526Z
UID:2024-1694865600-1694880000@www.gameonsports.bar
SUMMARY:Saturday Special Feature
DESCRIPTION:Crispy Chicken Caesar & Bacon Wrap with your choice of side $16.99 \nBaked French Onion Soup $ 11.95 \nSoup of the Day: \nCream of Tomato\nRoasted Cauliflower
URL:https://www.gameonsports.bar/event/saturday-special-feature-21/
LOCATION:Game On Sports Bar & Grill\, 3701 Dewolf Way\, Merritt\, BC\, V1K 1C4\, Canada
ATTACH;FMTTYPE=image/jpeg:https://www.gameonsports.bar/wp-content/uploads/2023/09/Saturday-September-16-2023-Special-calendar-1.jpeg
ORGANIZER;CN="Jim%20Cooley":MAILTO:jim.cooley@live.ca
END:VEVENT
BEGIN:VEVENT
DTSTART;TZID=America/Vancouver:20230918T120000
DTEND;TZID=America/Vancouver:20230918T160000
DTSTAMP:20260422T181755
CREATED:20230918T183305Z
LAST-MODIFIED:20230918T183305Z
UID:2028-1695038400-1695052800@www.gameonsports.bar
SUMMARY:Monday Special Feature
DESCRIPTION:Western Burger\nwith soup\, salad or fries $16.99 \nSoup of the Day: \nCream of Carrot\nBeef Vegetable\nCream of Tomato \nDrink Special: \nPints of Canadian $5.80
URL:https://www.gameonsports.bar/event/monday-special-feature-20/
LOCATION:Game On Sports Bar & Grill\, 3701 Dewolf Way\, Merritt\, BC\, V1K 1C4\, Canada
ATTACH;FMTTYPE=image/jpeg:https://www.gameonsports.bar/wp-content/uploads/2023/09/Monday-September-18-2023-calendar.jpeg
ORGANIZER;CN="Jim%20Cooley":MAILTO:jim.cooley@live.ca
END:VEVENT
BEGIN:VEVENT
DTSTART;TZID=America/Vancouver:20230919T120000
DTEND;TZID=America/Vancouver:20230919T160000
DTSTAMP:20260422T181755
CREATED:20230919T181916Z
LAST-MODIFIED:20230919T181916Z
UID:2031-1695124800-1695139200@www.gameonsports.bar
SUMMARY:Tuesday Special Feature
DESCRIPTION:Grilled Chicken Clubhouse Panini\nwith soup\, salad or fries $16.99 \nSoup of the Day: \nCorn Chowder\nCream of Mushroom \nDrink Special: \nBottles of Bud Light $5.15\nPints of Lionsgate Lager $5.80
URL:https://www.gameonsports.bar/event/tuesday-special-feature-20/
LOCATION:Game On Sports Bar & Grill\, 3701 Dewolf Way\, Merritt\, BC\, V1K 1C4\, Canada
ATTACH;FMTTYPE=image/jpeg:https://www.gameonsports.bar/wp-content/uploads/2023/09/Tuesday-September-19-2023-Special-calendar.jpeg
ORGANIZER;CN="Jim%20Cooley":MAILTO:jim.cooley@live.ca
END:VEVENT
BEGIN:VEVENT
DTSTART;TZID=America/Vancouver:20230920T120000
DTEND;TZID=America/Vancouver:20230920T160000
DTSTAMP:20260422T181755
CREATED:20230920T183317Z
LAST-MODIFIED:20230920T183317Z
UID:2034-1695211200-1695225600@www.gameonsports.bar
SUMMARY:Wednesday Special Feature
DESCRIPTION:Grilled Bacon Tomato Cheese Sandwich\, with Soup\, Salad or Fries $14.99 \nBaked French Onion w Garlic Toast$11.95 \nSoup of the Day: \nCream of Tomato\nCream of Broccoli \nDrink Special: \nPints of Coors Light $5.80
URL:https://www.gameonsports.bar/event/wednesday-special-feature-19/
LOCATION:Game On Sports Bar & Grill\, 3701 Dewolf Way\, Merritt\, BC\, V1K 1C4\, Canada
ATTACH;FMTTYPE=image/jpeg:https://www.gameonsports.bar/wp-content/uploads/2023/09/Wednesday-September-20-2023-Special-calendar.jpeg
ORGANIZER;CN="Jim%20Cooley":MAILTO:jim.cooley@live.ca
END:VEVENT
BEGIN:VEVENT
DTSTART;TZID=America/Vancouver:20230921T120000
DTEND;TZID=America/Vancouver:20230921T160000
DTSTAMP:20260422T181755
CREATED:20230921T183735Z
LAST-MODIFIED:20230921T183735Z
UID:2037-1695297600-1695312000@www.gameonsports.bar
SUMMARY:Thursday Special Feature
DESCRIPTION:Beef Stew with Cheese Toast $11.95 \nSpinach\, Feta & Chicken Panini\nwith soup\, salad or fries $16.99 \nSoup of the Day: \nRoasted Cauliflour\nCream of Tomato & Bacon \nDrink Special: \nPints of Sleeman\nHoney Brown $5.80 \n 
URL:https://www.gameonsports.bar/event/thursday-special-feature-21/
LOCATION:Game On Sports Bar & Grill\, 3701 Dewolf Way\, Merritt\, BC\, V1K 1C4\, Canada
ATTACH;FMTTYPE=image/jpeg:https://www.gameonsports.bar/wp-content/uploads/2023/09/Thursday-September-21-2023-Special-calendar.jpeg
ORGANIZER;CN="Jim%20Cooley":MAILTO:jim.cooley@live.ca
END:VEVENT
BEGIN:VEVENT
DTSTART;TZID=America/Vancouver:20230922T120000
DTEND;TZID=America/Vancouver:20230922T160000
DTSTAMP:20260422T181755
CREATED:20230922T183831Z
LAST-MODIFIED:20230922T183831Z
UID:2040-1695384000-1695398400@www.gameonsports.bar
SUMMARY:Friday Special Feature
DESCRIPTION:Parmesan Crusted Chicken Caesar Sandwich with Soup\, Salad or Fries\n$14.99 \nBaked French Onion with Garlic\nToast $11.99 \nSoup of the Day: \nBroccoli Cheddar\nChicken Mushroom \nDrink Special: \nBottles of Miller $5.15
URL:https://www.gameonsports.bar/event/friday-special-feature-20/
LOCATION:Game On Sports Bar & Grill\, 3701 Dewolf Way\, Merritt\, BC\, V1K 1C4\, Canada
ATTACH;FMTTYPE=image/jpeg:https://www.gameonsports.bar/wp-content/uploads/2023/09/Friday-September-22-2023-Special-calendar.jpeg
ORGANIZER;CN="Jim%20Cooley":MAILTO:jim.cooley@live.ca
END:VEVENT
BEGIN:VEVENT
DTSTART;TZID=America/Vancouver:20230923T120000
DTEND;TZID=America/Vancouver:20230923T160000
DTSTAMP:20260422T181755
CREATED:20230923T201029Z
LAST-MODIFIED:20230923T201029Z
UID:2044-1695470400-1695484800@www.gameonsports.bar
SUMMARY:Saturday Special Feature
DESCRIPTION:Chipotle Beef Panini\nwith soup\, salad or fries $14.99 \nSoup of the Day: \nCorned Beef & Cabbage\nBeef Vegetable \nDrink Special: \nPints of Rickards Red $5.80\nGrowers Dry Apple Cider $5.00
URL:https://www.gameonsports.bar/event/saturday-special-feature-22/
LOCATION:Game On Sports Bar & Grill\, 3701 Dewolf Way\, Merritt\, BC\, V1K 1C4\, Canada
ATTACH;FMTTYPE=image/jpeg:https://www.gameonsports.bar/wp-content/uploads/2023/09/Saturday-September-23-2023-Special-calendar.jpeg
ORGANIZER;CN="Jim%20Cooley":MAILTO:jim.cooley@live.ca
END:VEVENT
BEGIN:VEVENT
DTSTART;TZID=America/Vancouver:20230925T120000
DTEND;TZID=America/Vancouver:20230925T160000
DTSTAMP:20260422T181755
CREATED:20230925T185907Z
LAST-MODIFIED:20230925T185907Z
UID:2047-1695643200-1695657600@www.gameonsports.bar
SUMMARY:Monday Special Feature
DESCRIPTION:Spinach & Feta Chicken Club Panini\nServed with Soup\, Salad or Fries $16.99 \nSoup of the Day: \nBorcht\nCream of Tomato\nGinger Beef & Rice \nDrink Special: \nBottles of Kokanee $5.15\nPints of Rickards Red $5.80
URL:https://www.gameonsports.bar/event/monday-special-feature-21/
LOCATION:Game On Sports Bar & Grill\, 3701 Dewolf Way\, Merritt\, BC\, V1K 1C4\, Canada
ATTACH;FMTTYPE=image/jpeg:https://www.gameonsports.bar/wp-content/uploads/2023/09/Monday-September-25-2023-Special-calendar.jpeg
ORGANIZER;CN="Jim%20Cooley":MAILTO:jim.cooley@live.ca
END:VEVENT
BEGIN:VEVENT
DTSTART;TZID=America/Vancouver:20230926T120000
DTEND;TZID=America/Vancouver:20230926T160000
DTSTAMP:20260422T181755
CREATED:20230926T174414Z
LAST-MODIFIED:20230926T174414Z
UID:2050-1695729600-1695744000@www.gameonsports.bar
SUMMARY:Tuesday Special Feature
DESCRIPTION:1 pc Salt and Vinagar Crusted Fish with Chips and Coleslaw $18.00 \nSoup of the Day: \nMulligatawny\nCream of Mushroom\nCorned Beef and Cabbage \nDrink Special: \nPints of Sleeman Honey Brown $5.80
URL:https://www.gameonsports.bar/event/tuesday-special-feature-21/
LOCATION:Game On Sports Bar & Grill\, 3701 Dewolf Way\, Merritt\, BC\, V1K 1C4\, Canada
ATTACH;FMTTYPE=image/jpeg:https://www.gameonsports.bar/wp-content/uploads/2023/09/Tuesday-September-26-2023-Special-calendar.jpeg
ORGANIZER;CN="Jim%20Cooley":MAILTO:jim.cooley@live.ca
END:VEVENT
BEGIN:VEVENT
DTSTART;TZID=America/Vancouver:20230927T120000
DTEND;TZID=America/Vancouver:20230927T160000
DTSTAMP:20260422T181755
CREATED:20230927T174502Z
LAST-MODIFIED:20230927T174502Z
UID:2053-1695816000-1695830400@www.gameonsports.bar
SUMMARY:Wednesday Special Feature
DESCRIPTION:Western Burger\nwith Soup\, Salad or Fries. $16.99 \nPot Roast Stew with Cheese Toast. $11.95 \nSoup of the Day: \nGinger Beef\nCream of Tomato\nBorscht \nDrink Special: \nPints of O.K 1516 $5.80
URL:https://www.gameonsports.bar/event/wednesday-special-feature-20/
LOCATION:Game On Sports Bar & Grill\, 3701 Dewolf Way\, Merritt\, BC\, V1K 1C4\, Canada
ATTACH;FMTTYPE=image/jpeg:https://www.gameonsports.bar/wp-content/uploads/2023/09/Wednesday-September-27-2023-calendar.jpeg
ORGANIZER;CN="Jim%20Cooley":MAILTO:jim.cooley@live.ca
END:VEVENT
BEGIN:VEVENT
DTSTART;TZID=America/Vancouver:20230928T120000
DTEND;TZID=America/Vancouver:20230928T160000
DTSTAMP:20260422T181755
CREATED:20230928T182335Z
LAST-MODIFIED:20230928T182335Z
UID:2056-1695902400-1695916800@www.gameonsports.bar
SUMMARY:Thursday Special Feature
DESCRIPTION:Beef Dip with Swiss on a Pretzel Bun with soup\, salad or fries $14.99 \nSoup of the Day: \nHamburger\nGinger Beef with Rice\nCream of Mushroom \nDrink Special: \nBottles of Bud Light $5.15\nGrowers Dry Apple Cider $5.00
URL:https://www.gameonsports.bar/event/thursday-special-feature-22/
LOCATION:Game On Sports Bar & Grill\, 3701 Dewolf Way\, Merritt\, BC\, V1K 1C4\, Canada
ATTACH;FMTTYPE=image/jpeg:https://www.gameonsports.bar/wp-content/uploads/2023/09/Thursday-September-28-2023-Special-calendar.jpeg
ORGANIZER;CN="Jim%20Cooley":MAILTO:jim.cooley@live.ca
END:VEVENT
BEGIN:VEVENT
DTSTART;TZID=America/Vancouver:20230929T120000
DTEND;TZID=America/Vancouver:20230929T160000
DTSTAMP:20260422T181755
CREATED:20230929T182708Z
LAST-MODIFIED:20230929T182708Z
UID:2059-1695988800-1696003200@www.gameonsports.bar
SUMMARY:Friday Special Feature
DESCRIPTION:Pot Roast Stew with Cheese Toast – $11.99 \nJalapeño & Cheddar Burger on a\nPretzel Bun with soup\, salad\, or fries – $16.99 \nSoup of the Day: \nLemon Potato Bacon\nCheeseburger\nBroccoli & Cheddar \nDrink Special: \nBaileys & Coffee – $6.00\nLions Gate Lager – $5.80
URL:https://www.gameonsports.bar/event/friday-special-feature-21/
LOCATION:Game On Sports Bar & Grill\, 3701 Dewolf Way\, Merritt\, BC\, V1K 1C4\, Canada
ATTACH;FMTTYPE=image/jpeg:https://www.gameonsports.bar/wp-content/uploads/2023/09/Friday-September-29-2023-Special-calendar.jpeg
ORGANIZER;CN="Jim%20Cooley":MAILTO:jim.cooley@live.ca
END:VEVENT
BEGIN:VEVENT
DTSTART;TZID=America/Vancouver:20230930T120000
DTEND;TZID=America/Vancouver:20230930T160000
DTSTAMP:20260422T181755
CREATED:20230930T191801Z
LAST-MODIFIED:20230930T191801Z
UID:2062-1696075200-1696089600@www.gameonsports.bar
SUMMARY:Saturday Special Feature
DESCRIPTION:Crispy Buffalo Chicken Caesar Wrap with soup\, salad or fries $14.99 \nSoup of Day: \nCorned Beef & Cabbage\nGinger Beef \nDrink Special: \nPints of 1516 $5.80\nGame On Coffee $6.00
URL:https://www.gameonsports.bar/event/saturday-special-feature-23/
LOCATION:Game On Sports Bar & Grill\, 3701 Dewolf Way\, Merritt\, BC\, V1K 1C4\, Canada
ATTACH;FMTTYPE=image/jpeg:https://www.gameonsports.bar/wp-content/uploads/2023/09/Saturday-September-30-2023-Special-calendar.jpeg
ORGANIZER;CN="Jim%20Cooley":MAILTO:jim.cooley@live.ca
END:VEVENT
BEGIN:VEVENT
DTSTART;TZID=America/Vancouver:20231002T120000
DTEND;TZID=America/Vancouver:20231002T160000
DTSTAMP:20260422T181755
CREATED:20231002T184351Z
LAST-MODIFIED:20231002T184351Z
UID:2066-1696248000-1696262400@www.gameonsports.bar
SUMMARY:Monday Special Feature
DESCRIPTION:Put Roast Stew with Cheese Toast\n$11.99 \nBBQ Bacon & Cheddar Beef Dip on\na Pretzel Bun with soup\, salad or fries $16.99 \nSoup of the Day: \nGinger Beef\nMulligatawny \nDrink Special: \nPints of Flagship I PA $5.80
URL:https://www.gameonsports.bar/event/monday-special-feature-22/
LOCATION:Game On Sports Bar & Grill\, 3701 Dewolf Way\, Merritt\, BC\, V1K 1C4\, Canada
ATTACH;FMTTYPE=image/jpeg:https://www.gameonsports.bar/wp-content/uploads/2023/10/Monday-October-2-2023-Special-calendar.jpeg
ORGANIZER;CN="Jim%20Cooley":MAILTO:jim.cooley@live.ca
END:VEVENT
BEGIN:VEVENT
DTSTART;TZID=America/Vancouver:20231003T120000
DTEND;TZID=America/Vancouver:20231003T160000
DTSTAMP:20260422T181755
CREATED:20231003T181433Z
LAST-MODIFIED:20231003T181441Z
UID:2069-1696334400-1696348800@www.gameonsports.bar
SUMMARY:Tuesday Special Feature
DESCRIPTION:Philly Steak Wrap\nwith soup\, salad or fries $16.99 \nSoup of the Day: \nMulligatawny\nButternut Squash\nLemon Potato & Bacon \nDrink Special: \nPints of Flagship I.P.A $5.80
URL:https://www.gameonsports.bar/event/tuesday-special-feature-22/
LOCATION:Game On Sports Bar & Grill\, 3701 Dewolf Way\, Merritt\, BC\, V1K 1C4\, Canada
ATTACH;FMTTYPE=image/jpeg:https://www.gameonsports.bar/wp-content/uploads/2023/10/Tuesday-October-3-2023-Special-calendar.jpeg
ORGANIZER;CN="Jim%20Cooley":MAILTO:jim.cooley@live.ca
END:VEVENT
BEGIN:VEVENT
DTSTART;TZID=America/Vancouver:20231004T120000
DTEND;TZID=America/Vancouver:20231004T160000
DTSTAMP:20260422T181755
CREATED:20231004T201211Z
LAST-MODIFIED:20231004T201211Z
UID:2072-1696420800-1696435200@www.gameonsports.bar
SUMMARY:Wednesday Special Feature
DESCRIPTION:Spinach & Feta Chicken Club Panini with soup\, salad or fries $16.99 \nsubstitute your Burger or Hoagie Bun\nwith our new Pretzel Bun. \nSoup of the Day: \nGinger Beef & Rice\nCream of Broccoli\nButtenut Squash \nDrink Special: \nBottles Bud Light $5.15\nSmirnoff Ice $5.00
URL:https://www.gameonsports.bar/event/wednesday-special-feature-21/
LOCATION:Game On Sports Bar & Grill\, 3701 Dewolf Way\, Merritt\, BC\, V1K 1C4\, Canada
ATTACH;FMTTYPE=image/jpeg:https://www.gameonsports.bar/wp-content/uploads/2023/10/Wednesday-October-4-2023-Special-ig-Calendar.jpeg
ORGANIZER;CN="Jim%20Cooley":MAILTO:jim.cooley@live.ca
END:VEVENT
BEGIN:VEVENT
DTSTART;TZID=America/Vancouver:20231005T120000
DTEND;TZID=America/Vancouver:20231005T160000
DTSTAMP:20260422T181755
CREATED:20231005T184151Z
LAST-MODIFIED:20231005T184151Z
UID:2075-1696507200-1696521600@www.gameonsports.bar
SUMMARY:Thursday Special Feature
DESCRIPTION:Beef Stew with Cheese Toast $11.99 \nBacon\, Swiss & Ranch Chicken Burger on a Pretzel Bun\nwith soup\, salad or fries $16.99 \nSoup of the Day: \nButternut Squash\nCream of Mushroom & Bacon \nDrink Special: \nPints of Canadian $5.80\nLong Island Iced Tea $5.40
URL:https://www.gameonsports.bar/event/thursday-special-feature-23/
LOCATION:Game On Sports Bar & Grill\, 3701 Dewolf Way\, Merritt\, BC\, V1K 1C4\, Canada
ATTACH;FMTTYPE=image/jpeg:https://www.gameonsports.bar/wp-content/uploads/2023/10/Thursday-October-5-2023-Special-Calendar.jpeg
ORGANIZER;CN="Jim%20Cooley":MAILTO:jim.cooley@live.ca
END:VEVENT
BEGIN:VEVENT
DTSTART;TZID=America/Vancouver:20231006T120000
DTEND;TZID=America/Vancouver:20231006T160000
DTSTAMP:20260422T181755
CREATED:20231006T185511Z
LAST-MODIFIED:20231006T185727Z
UID:2078-1696593600-1696608000@www.gameonsports.bar
SUMMARY:Friday Special Feature
DESCRIPTION:Parmesan Crusted Crispy Chicken Caesar Sandwich with soup\, salad or fries $14.99 \nSoup of the Day: \nChicken Vegetable\nGinger Beef & Rice\nBroccoli Cheddar \nDrink Special: \nPints of Lions $5.80\nScrewdrivers $5.40 \nNew: Roasted Peach & Honey Deepfried Cheesecake! \n 
URL:https://www.gameonsports.bar/event/friday-special-feature-22/
LOCATION:Game On Sports Bar & Grill\, 3701 Dewolf Way\, Merritt\, BC\, V1K 1C4\, Canada
ATTACH;FMTTYPE=image/png:https://www.gameonsports.bar/wp-content/uploads/2023/10/Friday-October-6-2023-Special-fb.png
ORGANIZER;CN="Jim%20Cooley":MAILTO:jim.cooley@live.ca
END:VEVENT
BEGIN:VEVENT
DTSTART;TZID=America/Vancouver:20231006T170000
DTEND;TZID=America/Vancouver:20231006T220000
DTSTAMP:20260422T181755
CREATED:20230602T184643Z
LAST-MODIFIED:20231006T185544Z
UID:1751-1696611600-1696629600@www.gameonsports.bar
SUMMARY:Steak and Prawns Dinner - Every Friday Night!
DESCRIPTION:Two sizes to choose from:\n6 oz for $32.95\n10 oz for $37.95\nIncludes:\nVegetables\, Garlic Toast and choice of Potato. \nEvery Friday Night!
URL:https://www.gameonsports.bar/event/steak-and-prawns-dinner-every-friday-night/
LOCATION:Game On Sports Bar & Grill\, 3701 Dewolf Way\, Merritt\, BC\, V1K 1C4\, Canada
ATTACH;FMTTYPE=image/jpeg:https://www.gameonsports.bar/wp-content/uploads/2023/06/FRIDAYS-Steak-and-Prawns-calendar.jpeg
ORGANIZER;CN="Jim%20Cooley":MAILTO:jim.cooley@live.ca
END:VEVENT
BEGIN:VEVENT
DTSTART;TZID=America/Vancouver:20231007T120000
DTEND;TZID=America/Vancouver:20231007T160000
DTSTAMP:20260422T181755
CREATED:20231007T193727Z
LAST-MODIFIED:20231007T193727Z
UID:2085-1696680000-1696694400@www.gameonsports.bar
SUMMARY:Saturday Special Feature
DESCRIPTION:Chicken\, Ham & Swiss Panini on a\nPretzel Hoagie with soup\, salad or fries $16.99 \nSoup of the Day: \nBeef Vegetable\nMushroom & Bacon\nChicken Cordon Bleu \nDrink Special: \nBottles of MGD $5.15\nStrawberry Kiwi Nudes $5.00
URL:https://www.gameonsports.bar/event/saturday-special-feature-24/
LOCATION:Game On Sports Bar & Grill\, 3701 Dewolf Way\, Merritt\, BC\, V1K 1C4\, Canada
ATTACH;FMTTYPE=image/jpeg:https://www.gameonsports.bar/wp-content/uploads/2023/10/Saturday-October-7-2023-fb.jpeg
ORGANIZER;CN="Jim%20Cooley":MAILTO:jim.cooley@live.ca
END:VEVENT
BEGIN:VEVENT
DTSTART;TZID=America/Vancouver:20231008T160000
DTEND;TZID=America/Vancouver:20231009T160000
DTSTAMP:20260422T181755
CREATED:20231007T152357Z
LAST-MODIFIED:20231007T152432Z
UID:2082-1696780800-1696867200@www.gameonsports.bar
SUMMARY:Thanksgiving Dinner
DESCRIPTION:Thanksgiving Dinner 🍁\nHam\, Scalloped Potatoes\, Veggies\nPumpkin Pie for Dessert\n$25.99\n4 to Close\nSunday and Monday
URL:https://www.gameonsports.bar/event/thanksgiving-dinner/
LOCATION:Game On Sports Bar & Grill\, 3701 Dewolf Way\, Merritt\, BC\, V1K 1C4\, Canada
ATTACH;FMTTYPE=image/png:https://www.gameonsports.bar/wp-content/uploads/2023/10/Happy-Thanksgiving-Dinner-fb.png
ORGANIZER;CN="Jim%20Cooley":MAILTO:jim.cooley@live.ca
END:VEVENT
BEGIN:VEVENT
DTSTART;TZID=America/Vancouver:20231009T120000
DTEND;TZID=America/Vancouver:20231009T160000
DTSTAMP:20260422T181755
CREATED:20231009T194300Z
LAST-MODIFIED:20231009T194300Z
UID:2088-1696852800-1696867200@www.gameonsports.bar
SUMMARY:Monday Special Feature
DESCRIPTION:Beef Stew with Cheese Toast $1199\nRoasted Ham & Swiss Panini\nwith soup\, salad or fries $14.99 \nPatty melt with soup\, salad or fries$16.99 \nSoup of the Day: \nGinger Beef\nButternut Squash \nDrink Special: \nBottles of Canadian $5.15\nLong Island Iced Tea $5.40
URL:https://www.gameonsports.bar/event/monday-special-feature-23/
LOCATION:Game On Sports Bar & Grill\, 3701 Dewolf Way\, Merritt\, BC\, V1K 1C4\, Canada
ATTACH;FMTTYPE=image/jpeg:https://www.gameonsports.bar/wp-content/uploads/2023/10/Monday-October-9-2023-fb.jpeg
ORGANIZER;CN="Jim%20Cooley":MAILTO:jim.cooley@live.ca
END:VEVENT
BEGIN:VEVENT
DTSTART;TZID=America/Vancouver:20231010T120000
DTEND;TZID=America/Vancouver:20231010T160000
DTSTAMP:20260422T181755
CREATED:20231010T183648Z
LAST-MODIFIED:20231010T183648Z
UID:2093-1696939200-1696953600@www.gameonsports.bar
SUMMARY:Tuesday Special Feature
DESCRIPTION:Western Burger $16.99\non a pretzel bun\, served\nwith soup\, salad or fries \nSoup of the Day: \nBeef Veg & Rice\nChicken Veg\nMulligatawny \nDrink Special: \nPints of Sleeman Honey Brown $5.80
URL:https://www.gameonsports.bar/event/tuesday-special-feature-23/
LOCATION:Game On Sports Bar & Grill\, 3701 Dewolf Way\, Merritt\, BC\, V1K 1C4\, Canada
ATTACH;FMTTYPE=image/jpeg:https://www.gameonsports.bar/wp-content/uploads/2023/10/Tuesday-October-10-2023-FB.jpeg
ORGANIZER;CN="Jim%20Cooley":MAILTO:jim.cooley@live.ca
END:VEVENT
END:VCALENDAR