BEGIN:VCALENDAR
VERSION:2.0
PRODID:-//Game On Sports Bar &amp; Grill - ECPv6.0.8//NONSGML v1.0//EN
CALSCALE:GREGORIAN
METHOD:PUBLISH
X-WR-CALNAME:Game On Sports Bar &amp; Grill
X-ORIGINAL-URL:https://www.gameonsports.bar
X-WR-CALDESC:Events for Game On Sports Bar &amp; Grill
REFRESH-INTERVAL;VALUE=DURATION:PT1H
X-Robots-Tag:noindex
X-PUBLISHED-TTL:PT1H
BEGIN:VTIMEZONE
TZID:America/Vancouver
BEGIN:DAYLIGHT
TZOFFSETFROM:-0800
TZOFFSETTO:-0700
TZNAME:PDT
DTSTART:20230312T100000
END:DAYLIGHT
BEGIN:STANDARD
TZOFFSETFROM:-0700
TZOFFSETTO:-0800
TZNAME:PST
DTSTART:20231105T090000
END:STANDARD
END:VTIMEZONE
BEGIN:VEVENT
DTSTART;TZID=America/Vancouver:20230802T120000
DTEND;TZID=America/Vancouver:20230802T160000
DTSTAMP:20260422T135315
CREATED:20230802T185503Z
LAST-MODIFIED:20230802T185503Z
UID:1906-1690977600-1690992000@www.gameonsports.bar
SUMMARY:Wednesday Special Feature
DESCRIPTION:Bacon Ranch Swiss Chicken\nBurger with your choice of side. $16.99 \nSoups: \nMushroom Chicken\nPhilly Beef\nBeef Barley \nDrink Special: \nPints of Sleeman’s Honey Brown $5.80 \n 
URL:https://www.gameonsports.bar/event/wednesday-special-feature-12/
LOCATION:Game On Sports Bar & Grill\, 3701 Dewolf Way\, Merritt\, BC\, V1K 1C4\, Canada
ATTACH;FMTTYPE=image/jpeg:https://www.gameonsports.bar/wp-content/uploads/2023/08/Wednesday-August-2-2023-Special-calendar.jpeg
ORGANIZER;CN="Jim%20Cooley":MAILTO:jim.cooley@live.ca
END:VEVENT
BEGIN:VEVENT
DTSTART;TZID=America/Vancouver:20230803T120000
DTEND;TZID=America/Vancouver:20230803T160000
DTSTAMP:20260422T135315
CREATED:20230803T191202Z
LAST-MODIFIED:20230803T191202Z
UID:1909-1691064000-1691078400@www.gameonsports.bar
SUMMARY:Thursday Special Feature
DESCRIPTION:Pulled Pork Sandwich\nwith Soup\, Salad or Fries $16.99 \nSoup of the Day: \nChicken Taco\nCream of Broccoli\nPhilly Beef \nDrink Special: \nBottles of Canadian $5.15\nLong Island Icedtea $5.40
URL:https://www.gameonsports.bar/event/thursday-special-feature-15/
LOCATION:Game On Sports Bar & Grill\, 3701 Dewolf Way\, Merritt\, BC\, V1K 1C4\, Canada
ATTACH;FMTTYPE=image/jpeg:https://www.gameonsports.bar/wp-content/uploads/2023/08/Thursday-August-3-2023-Special-calendar.jpeg
ORGANIZER;CN="Jim%20Cooley":MAILTO:jim.cooley@live.ca
END:VEVENT
BEGIN:VEVENT
DTSTART;TZID=America/Vancouver:20230804T120000
DTEND;TZID=America/Vancouver:20230804T160000
DTSTAMP:20260422T135315
CREATED:20230804T174656Z
LAST-MODIFIED:20230804T174656Z
UID:1912-1691150400-1691164800@www.gameonsports.bar
SUMMARY:Friday Special Feature
DESCRIPTION:Parmesan Crusted Chicken Caesar Sandwich with soup\, salad or fries\n$14.99 \nSoup of the Day: \nPotato Bacon\nBeef Barley\nChicken Taco \nDrink Special: \nPints of Lions Gate Lager $5.80
URL:https://www.gameonsports.bar/event/friday-special-feature-14/
LOCATION:Game On Sports Bar & Grill\, 3701 Dewolf Way\, Merritt\, BC\, V1K 1C4\, Canada
ATTACH;FMTTYPE=image/jpeg:https://www.gameonsports.bar/wp-content/uploads/2023/08/Friday-August-4-2023-Special-calendar.jpeg
ORGANIZER;CN="Jim%20Cooley":MAILTO:jim.cooley@live.ca
END:VEVENT
BEGIN:VEVENT
DTSTART;TZID=America/Vancouver:20230805T120000
DTEND;TZID=America/Vancouver:20230805T160000
DTSTAMP:20260422T135315
CREATED:20230805T201135Z
LAST-MODIFIED:20230805T201135Z
UID:1916-1691236800-1691251200@www.gameonsports.bar
SUMMARY:Saturday Special Feature
DESCRIPTION:Southern BBQ Pulled Pork Panini with Soup\, Salad or Fries $16.99 \nSoup of the Day: \nCream of Broccoli\nCream of mushroom \nDrink Special: \nBlue Crush Margarita $5.75\nPints of Coors Light $5.80
URL:https://www.gameonsports.bar/event/saturday-special-feature-16/
LOCATION:Game On Sports Bar & Grill\, 3701 Dewolf Way\, Merritt\, BC\, V1K 1C4\, Canada
ATTACH;FMTTYPE=image/jpeg:https://www.gameonsports.bar/wp-content/uploads/2023/08/Saturday-August-5-2023-Special-calendar.jpeg
ORGANIZER;CN="Jim%20Cooley":MAILTO:jim.cooley@live.ca
END:VEVENT
BEGIN:VEVENT
DTSTART;TZID=America/Vancouver:20230807T120000
DTEND;TZID=America/Vancouver:20230807T160000
DTSTAMP:20260422T135315
CREATED:20230807T192039Z
LAST-MODIFIED:20230807T192039Z
UID:1919-1691409600-1691424000@www.gameonsports.bar
SUMMARY:Monday Special Feature
DESCRIPTION:Grilled Cheese with Bacon & Tomato with Soup\, Salad or Fries $14.99 \nSoup of the Day: \nCorn Chowder\nCream of Broccoli\nBeef Barley \nDrink Special: \nPints of Canadian $5.80
URL:https://www.gameonsports.bar/event/monday-special-feature-14/
LOCATION:Game On Sports Bar & Grill\, 3701 Dewolf Way\, Merritt\, BC\, V1K 1C4\, Canada
ATTACH;FMTTYPE=image/jpeg:https://www.gameonsports.bar/wp-content/uploads/2023/08/Monday-August-7-2023-Special-calendar.jpeg
ORGANIZER;CN="Jim%20Cooley":MAILTO:jim.cooley@live.ca
END:VEVENT
BEGIN:VEVENT
DTSTART;TZID=America/Vancouver:20230808T120000
DTEND;TZID=America/Vancouver:20230808T160000
DTSTAMP:20260422T135315
CREATED:20230808T182553Z
LAST-MODIFIED:20230808T183015Z
UID:1922-1691496000-1691510400@www.gameonsports.bar
SUMMARY:Tuesday Special Feature
DESCRIPTION:Mushroom Swiss Beef Burger\nwith Soup\, Salad or Fries $16.99 \nSoup of the Day: \nBeef Barley\nRoasted Cauliflower \nDrink Special: \nBottles of Budweiser $5.15
URL:https://www.gameonsports.bar/event/tuesday-special-feature-14/
LOCATION:Game On Sports Bar & Grill\, 3701 Dewolf Way\, Merritt\, BC\, V1K 1C4\, Canada
ATTACH;FMTTYPE=image/jpeg:https://www.gameonsports.bar/wp-content/uploads/2023/08/Tuesday-August-8-2023-Special-calendar.jpeg
ORGANIZER;CN="Jim%20Cooley":MAILTO:jim.cooley@live.ca
END:VEVENT
BEGIN:VEVENT
DTSTART;TZID=America/Vancouver:20230809T120000
DTEND;TZID=America/Vancouver:20230809T160000
DTSTAMP:20260422T135315
CREATED:20230809T182159Z
LAST-MODIFIED:20230809T182159Z
UID:1925-1691582400-1691596800@www.gameonsports.bar
SUMMARY:Wednesday Special Feature
DESCRIPTION:Crispy Chicken Clubhouse Panini\, with Soup\, Salad or Fries $16.99 \nSoup of Day: \nCream of Carrot\nCream of Mushroom \nDrink Special: \nPints of Lions Gate Lager $5.80\nGreyhounds $5.40
URL:https://www.gameonsports.bar/event/wednesday-special-feature-13/
LOCATION:Game On Sports Bar & Grill\, 3701 Dewolf Way\, Merritt\, BC\, V1K 1C4\, Canada
ATTACH;FMTTYPE=image/jpeg:https://www.gameonsports.bar/wp-content/uploads/2023/08/Wednesday-August-9-2023-Special-calendar.jpeg
ORGANIZER;CN="Jim%20Cooley":MAILTO:jim.cooley@live.ca
END:VEVENT
BEGIN:VEVENT
DTSTART;TZID=America/Vancouver:20230810T120000
DTEND;TZID=America/Vancouver:20230810T160000
DTSTAMP:20260422T135315
CREATED:20230810T190747Z
LAST-MODIFIED:20230810T190747Z
UID:1928-1691668800-1691683200@www.gameonsports.bar
SUMMARY:Thursday Special Feature
DESCRIPTION:Swiss Beef Dip\nwith Soup\, Salad or Fries $14.99 \nSoup of the Day: \nCorned Beef & Cabbage\nPotato Bacon \nDrink Special: \nPints of 1516 $5.80\nVodka Cranberry $5.40
URL:https://www.gameonsports.bar/event/thursday-special-feature-16/
LOCATION:Game On Sports Bar & Grill\, 3701 Dewolf Way\, Merritt\, BC\, V1K 1C4\, Canada
ATTACH;FMTTYPE=image/jpeg:https://www.gameonsports.bar/wp-content/uploads/2023/08/Thursday-August-10-2023-Special-calendar.jpeg
ORGANIZER;CN="Jim%20Cooley":MAILTO:jim.cooley@live.ca
END:VEVENT
BEGIN:VEVENT
DTSTART;TZID=America/Vancouver:20230811T120000
DTEND;TZID=America/Vancouver:20230811T160000
DTSTAMP:20260422T135315
CREATED:20230811T190520Z
LAST-MODIFIED:20230811T190520Z
UID:1931-1691755200-1691769600@www.gameonsports.bar
SUMMARY:Friday Special Feature
DESCRIPTION:Chipotle\, Bacon Swiss Chicken Burger with Soup\, Salad or Fries $14.99 \nSoup of the Day: \nCorn Chowder\nBeef Barley \nDrink Special: \nPints of Flagship IPA $5.80\nScrew Drivers $5.40
URL:https://www.gameonsports.bar/event/friday-special-feature-15/
LOCATION:Game On Sports Bar & Grill\, 3701 Dewolf Way\, Merritt\, BC\, V1K 1C4\, Canada
ATTACH;FMTTYPE=image/jpeg:https://www.gameonsports.bar/wp-content/uploads/2023/08/Friday-August-11-2023-calendar.jpeg
ORGANIZER;CN="Jim%20Cooley":MAILTO:jim.cooley@live.ca
END:VEVENT
BEGIN:VEVENT
DTSTART;TZID=America/Vancouver:20230814T120000
DTEND;TZID=America/Vancouver:20230814T160000
DTSTAMP:20260422T135315
CREATED:20230814T184622Z
LAST-MODIFIED:20230814T184622Z
UID:1935-1692014400-1692028800@www.gameonsports.bar
SUMMARY:Monday Special Feature
DESCRIPTION:Grilled Cheese with Bacon & Tomato with Soup\, Salad or Fries $14.99 \nSoup of the Day: \nCream of Broccoli\nGinger Beef\nBeef Barley \nPints of Canadian $5.80\nGrowers Dry Apple $5.00
URL:https://www.gameonsports.bar/event/monday-special-feature-15/
LOCATION:Game On Sports Bar & Grill\, 3701 Dewolf Way\, Merritt\, BC\, V1K 1C4\, Canada
ATTACH;FMTTYPE=image/jpeg:https://www.gameonsports.bar/wp-content/uploads/2023/08/Monday-August-14-2023-Special-calendar.jpeg
ORGANIZER;CN="Jim%20Cooley":MAILTO:jim.cooley@live.ca
END:VEVENT
BEGIN:VEVENT
DTSTART;TZID=America/Vancouver:20230815T120000
DTEND;TZID=America/Vancouver:20230815T160000
DTSTAMP:20260422T135315
CREATED:20230815T174607Z
LAST-MODIFIED:20230815T174607Z
UID:1938-1692100800-1692115200@www.gameonsports.bar
SUMMARY:Tuesday Special Feature
DESCRIPTION:Mushroom Swiss Beef Dip\nwith Soup\, Salad or Fries. $16.99 \nSoup: \nCream of Carrot\nCream of Mushroom \nDrink Special: \nPints of Coors $5.80\nSkrewdrivers $5.40
URL:https://www.gameonsports.bar/event/tuesday-special-feature-15/
LOCATION:Game On Sports Bar & Grill\, 3701 Dewolf Way\, Merritt\, BC\, V1K 1C4\, Canada
ATTACH;FMTTYPE=image/jpeg:https://www.gameonsports.bar/wp-content/uploads/2023/08/Tuesday-August-15-2023-Special-calendar.jpeg
ORGANIZER;CN="Jim%20Cooley":MAILTO:jim.cooley@live.ca
END:VEVENT
BEGIN:VEVENT
DTSTART;TZID=America/Vancouver:20230816T120000
DTEND;TZID=America/Vancouver:20230816T160000
DTSTAMP:20260422T135315
CREATED:20230816T180542Z
LAST-MODIFIED:20230816T180542Z
UID:1941-1692187200-1692201600@www.gameonsports.bar
SUMMARY:Wednesday Special Feature
DESCRIPTION:Western Burger\nwith Soup\, Salad or Fries $16.99 \nSoup of the Day: \nCream of Carrot\nGinger Beef \nDrink Special: \nPints of Flagship I.P.A $5.80\nGreyhounds $5.40
URL:https://www.gameonsports.bar/event/wednesday-special-feature-14/
LOCATION:Game On Sports Bar & Grill\, 3701 Dewolf Way\, Merritt\, BC\, V1K 1C4\, Canada
ATTACH;FMTTYPE=image/jpeg:https://www.gameonsports.bar/wp-content/uploads/2023/08/Wednesday-August-16-2023-Special-calendar.jpeg
ORGANIZER;CN="Jim%20Cooley":MAILTO:jim.cooley@live.ca
END:VEVENT
BEGIN:VEVENT
DTSTART;TZID=America/Vancouver:20230818T120000
DTEND;TZID=America/Vancouver:20230818T160000
DTSTAMP:20260422T135315
CREATED:20230818T190805Z
LAST-MODIFIED:20230818T190805Z
UID:1944-1692360000-1692374400@www.gameonsports.bar
SUMMARY:Friday Special Feature
DESCRIPTION:Crispy Chicken Club Panini\nwith Soup\, Salad or Fries $16.99 \nSoup of the Day: \nCorned Beef & Cabbage\nCream of Carrot\nCream of Mushroom \nDrink Special: \nPints of Coors Light $5.80\nBlue Lagoon $5.75
URL:https://www.gameonsports.bar/event/friday-special-feature-16/
LOCATION:Game On Sports Bar & Grill\, 3701 Dewolf Way\, Merritt\, BC\, V1K 1C4\, Canada
ATTACH;FMTTYPE=image/jpeg:https://www.gameonsports.bar/wp-content/uploads/2023/08/Friday-August-18-2023-Special-calendar.jpeg
ORGANIZER;CN="Jim%20Cooley":MAILTO:jim.cooley@live.ca
END:VEVENT
BEGIN:VEVENT
DTSTART;TZID=America/Vancouver:20230819T120000
DTEND;TZID=America/Vancouver:20230819T160000
DTSTAMP:20260422T135315
CREATED:20230819T184749Z
LAST-MODIFIED:20230819T184749Z
UID:1947-1692446400-1692460800@www.gameonsports.bar
SUMMARY:Saturday Special Feature
DESCRIPTION:BLTC Wrap\nwith Soup\, Salad or Fries $14.99 \nSoup of the Day: \nCream of Broccoli\nPotato Bacon \nDrink Special: \nPints of 1516 $5.80\nSmirnoff Ice $5.00
URL:https://www.gameonsports.bar/event/saturday-special-feature-17/
LOCATION:Game On Sports Bar & Grill\, 3701 Dewolf Way\, Merritt\, BC\, V1K 1C4\, Canada
ATTACH;FMTTYPE=image/jpeg:https://www.gameonsports.bar/wp-content/uploads/2023/08/Saturday-August-19-2023-Special-calendar.jpeg
ORGANIZER;CN="Jim%20Cooley":MAILTO:jim.cooley@live.ca
END:VEVENT
BEGIN:VEVENT
DTSTART;TZID=America/Vancouver:20230821T120000
DTEND;TZID=America/Vancouver:20230821T160000
DTSTAMP:20260422T135315
CREATED:20230821T181930Z
LAST-MODIFIED:20230821T182148Z
UID:1951-1692619200-1692633600@www.gameonsports.bar
SUMMARY:Monday Special Feature
DESCRIPTION:Bacon\, Swiss & Ranch Chicken Burger with soup\, salad or fries $16.99 \nSoup of the Day: \nBeef Barley\nCorn Chowder \nDrink Special: \nPints of Canadian $5.80\nGame On Cooler $5.50
URL:https://www.gameonsports.bar/event/monday-special-feature-16/
LOCATION:Game On Sports Bar & Grill\, 3701 Dewolf Way\, Merritt\, BC\, V1K 1C4\, Canada
ATTACH;FMTTYPE=image/jpeg:https://www.gameonsports.bar/wp-content/uploads/2023/08/Monday-August-21-2023-Special-calendar.jpeg
ORGANIZER;CN="Jim%20Cooley":MAILTO:jim.cooley@live.ca
END:VEVENT
BEGIN:VEVENT
DTSTART;TZID=America/Vancouver:20230822T120000
DTEND;TZID=America/Vancouver:20230822T160000
DTSTAMP:20260422T135315
CREATED:20230822T191509Z
LAST-MODIFIED:20230822T191517Z
UID:1955-1692705600-1692720000@www.gameonsports.bar
SUMMARY:Tuesday Special Feature
DESCRIPTION:Cheddar & Jalapeno Beef Dip\nwith soup\, salad or fries $14.99 \nSoup of the Day: \nBorscht\nBroccoli & Cheddar\nCorn Chowder \nDrink Special: \nPints of Lions Gate Lager $5.80\nLong Island Iced Tea $5.40
URL:https://www.gameonsports.bar/event/tuesday-special-feature-16/
LOCATION:Game On Sports Bar & Grill\, 3701 Dewolf Way\, Merritt\, BC\, V1K 1C4\, Canada
ATTACH;FMTTYPE=image/jpeg:https://www.gameonsports.bar/wp-content/uploads/2023/08/Tuesday-August-22-2023-Special-calendar.jpeg
ORGANIZER;CN="Jim%20Cooley":MAILTO:jim.cooley@live.ca
END:VEVENT
BEGIN:VEVENT
DTSTART;TZID=America/Vancouver:20230823T080000
DTEND;TZID=America/Vancouver:20230823T170000
DTSTAMP:20260422T135315
CREATED:20230823T223857Z
LAST-MODIFIED:20230823T223857Z
UID:1961-1692777600-1692810000@www.gameonsports.bar
SUMMARY:Happy Birthday Jim!
DESCRIPTION:
URL:https://www.gameonsports.bar/event/happy-birthday-jim/
LOCATION:BC
ATTACH;FMTTYPE=image/jpeg:https://www.gameonsports.bar/wp-content/uploads/2023/08/happy-birthday-Jim-calendar.jpeg
END:VEVENT
BEGIN:VEVENT
DTSTART;TZID=America/Vancouver:20230823T120000
DTEND;TZID=America/Vancouver:20230823T160000
DTSTAMP:20260422T135315
CREATED:20230823T185751Z
LAST-MODIFIED:20230823T185751Z
UID:1958-1692792000-1692806400@www.gameonsports.bar
SUMMARY:Wednesday Special Feature
DESCRIPTION:Crispy Chicken Buffalo $16.99\nCordon Bleu Burger\, with Soup\, Salad or Fries \nSoup of the Day: \nPotato Bacon\nCorned Beef & Cabbage \nDrink Special: \nPints of 1516 $5.80
URL:https://www.gameonsports.bar/event/wednesday-special-feature-15/
LOCATION:Game On Sports Bar & Grill\, 3701 Dewolf Way\, Merritt\, BC\, V1K 1C4\, Canada
ATTACH;FMTTYPE=image/jpeg:https://www.gameonsports.bar/wp-content/uploads/2023/08/Wednesday-August-23-2023-Special-calendar.jpeg
ORGANIZER;CN="Jim%20Cooley":MAILTO:jim.cooley@live.ca
END:VEVENT
BEGIN:VEVENT
DTSTART;TZID=America/Vancouver:20230824T120000
DTEND;TZID=America/Vancouver:20230824T160000
DTSTAMP:20260422T135315
CREATED:20230824T191958Z
LAST-MODIFIED:20230824T191958Z
UID:1964-1692878400-1692892800@www.gameonsports.bar
SUMMARY:Thursday Special Feature
DESCRIPTION:Western Burger\nwith Soup\, Salad or Fries $18.99 \nSoup of the Day: \nGinger Beef\nBroccoli Cheddar\nCorned Beef & Cabbage \nDrink Special: \nBottles of Kokanee $5.15\nGrowers Dry Apple Cider $5.00
URL:https://www.gameonsports.bar/event/thursday-special-feature-17/
LOCATION:Game On Sports Bar & Grill\, 3701 Dewolf Way\, Merritt\, BC\, V1K 1C4\, Canada
ATTACH;FMTTYPE=image/jpeg:https://www.gameonsports.bar/wp-content/uploads/2023/08/Thursday-August-24-2023-Special-calendar.jpeg
ORGANIZER;CN="Jim%20Cooley":MAILTO:jim.cooley@live.ca
END:VEVENT
BEGIN:VEVENT
DTSTART;TZID=America/Vancouver:20230825T120000
DTEND;TZID=America/Vancouver:20230825T160000
DTSTAMP:20260422T135315
CREATED:20230825T182930Z
LAST-MODIFIED:20230825T182930Z
UID:1967-1692964800-1692979200@www.gameonsports.bar
SUMMARY:Friday Special Feature
DESCRIPTION:Parmesan Crusted Crispy Chicken Caesar Sandwich with Soup\, Salad or Fries $14.99 \nSoup of the Day: \nBorscht\nPhilly Beef \nDrink Special: \nPints of Flagship I PA $5.80\nBrown Cow $5.45
URL:https://www.gameonsports.bar/event/friday-special-feature-17/
LOCATION:Game On Sports Bar & Grill\, 3701 Dewolf Way\, Merritt\, BC\, V1K 1C4\, Canada
ATTACH;FMTTYPE=image/jpeg:https://www.gameonsports.bar/wp-content/uploads/2023/08/Friday-August-25-2023-Special-calendar.jpeg
ORGANIZER;CN="Jim%20Cooley":MAILTO:jim.cooley@live.ca
END:VEVENT
BEGIN:VEVENT
DTSTART;TZID=America/Vancouver:20230826T120000
DTEND;TZID=America/Vancouver:20230826T160000
DTSTAMP:20260422T135315
CREATED:20230826T185943Z
LAST-MODIFIED:20230826T185943Z
UID:1970-1693051200-1693065600@www.gameonsports.bar
SUMMARY:Saturday Special Feature
DESCRIPTION:Patty Melt with soup\, salad or fries $16.99 \nSoup of the Day: \nCorned Beef & Cabbage\nPotato Bacon\nBeef Vegetable \nDrink Special: \nPints of Lions Gate Lager $5.80\nGreyhounds $5.40
URL:https://www.gameonsports.bar/event/saturday-special-feature-18/
LOCATION:Game On Sports Bar & Grill\, 3701 Dewolf Way\, Merritt\, BC\, V1K 1C4\, Canada
ATTACH;FMTTYPE=image/jpeg:https://www.gameonsports.bar/wp-content/uploads/2023/08/Saturday-August-26-2023-Special-calendar.jpeg
ORGANIZER;CN="Jim%20Cooley":MAILTO:jim.cooley@live.ca
END:VEVENT
BEGIN:VEVENT
DTSTART;TZID=America/Vancouver:20230828T120000
DTEND;TZID=America/Vancouver:20230828T160000
DTSTAMP:20260422T135315
CREATED:20230828T180846Z
LAST-MODIFIED:20230828T180846Z
UID:1973-1693224000-1693238400@www.gameonsports.bar
SUMMARY:Monday Special Feature
DESCRIPTION:Crispy Buffalo Chicken Caesar\nWrap with soup\, salad or fries $14.99 \nSoup of the Day: \nBorscht\nPhilly Beef \nDrink Special: \nPints of Canadian $5.80\nGrowers Pear Cider $5.00
URL:https://www.gameonsports.bar/event/monday-special-feature-17/
LOCATION:Game On Sports Bar & Grill\, 3701 Dewolf Way\, Merritt\, BC\, V1K 1C4\, Canada
ATTACH;FMTTYPE=image/jpeg:https://www.gameonsports.bar/wp-content/uploads/2023/08/Monday-August-28-2023-Special-calendar.jpeg
ORGANIZER;CN="Jim%20Cooley":MAILTO:jim.cooley@live.ca
END:VEVENT
BEGIN:VEVENT
DTSTART;TZID=America/Vancouver:20230829T120000
DTEND;TZID=America/Vancouver:20230829T160000
DTSTAMP:20260422T135315
CREATED:20230829T181550Z
LAST-MODIFIED:20230829T181556Z
UID:1976-1693310400-1693324800@www.gameonsports.bar
SUMMARY:Tuesday Special Feature
DESCRIPTION:Crispy Cajun Chicken Burger\nwith soup\, salad or fries. $16.99 \nSoup of the Day: \nBeef Barley\nChicken Taco \nDrink Special: \nPints of 1516 $5.80
URL:https://www.gameonsports.bar/event/tuesday-special-feature-17/
LOCATION:Game On Sports Bar & Grill\, 3701 Dewolf Way\, Merritt\, BC\, V1K 1C4\, Canada
ATTACH;FMTTYPE=image/jpeg:https://www.gameonsports.bar/wp-content/uploads/2023/08/Tuesday-August-29-2023-calendar.jpeg
ORGANIZER;CN="Jim%20Cooley":MAILTO:jim.cooley@live.ca
END:VEVENT
BEGIN:VEVENT
DTSTART;TZID=America/Vancouver:20230830T120000
DTEND;TZID=America/Vancouver:20230830T160000
DTSTAMP:20260422T135315
CREATED:20230830T184844Z
LAST-MODIFIED:20230830T184844Z
UID:1980-1693396800-1693411200@www.gameonsports.bar
SUMMARY:Wednesday Special Feature
DESCRIPTION:Patty Melt\nwith Soup\, Salad or Fries. $16.99 \nSoup of the Day: \nSplit Pea & Ham\nBeef Barley\nSeafood Chowder \nDrink Special: \nPints of Sleeman Honey Brown $5.80\nGame On Ice Tea $5.40
URL:https://www.gameonsports.bar/event/wednesday-special-feature-16/
LOCATION:Game On Sports Bar & Grill\, 3701 Dewolf Way\, Merritt\, BC\, V1K 1C4\, Canada
ATTACH;FMTTYPE=image/jpeg:https://www.gameonsports.bar/wp-content/uploads/2023/08/Wednesday-August-30-2023-Special-calendar.jpeg
ORGANIZER;CN="Jim%20Cooley":MAILTO:jim.cooley@live.ca
END:VEVENT
BEGIN:VEVENT
DTSTART;TZID=America/Vancouver:20230831T120000
DTEND;TZID=America/Vancouver:20230831T160000
DTSTAMP:20260422T135315
CREATED:20230831T200833Z
LAST-MODIFIED:20230831T200833Z
UID:1983-1693483200-1693497600@www.gameonsports.bar
SUMMARY:Thursday Special Feature
DESCRIPTION:Cubano Sandwich\nwith soup\, salad or fries $16.99 \nSoup of the Day: \nBorscht\nBeef Vegetable \nDrink Special: \nPints of 1516 $5.80\nWOO HOO’s $5.25
URL:https://www.gameonsports.bar/event/thursday-special-feature-18/
LOCATION:Game On Sports Bar & Grill\, 3701 Dewolf Way\, Merritt\, BC\, V1K 1C4\, Canada
ATTACH;FMTTYPE=image/jpeg:https://www.gameonsports.bar/wp-content/uploads/2023/08/Thursday-August-31-2023-Special-calendar.jpeg
ORGANIZER;CN="Jim%20Cooley":MAILTO:jim.cooley@live.ca
END:VEVENT
BEGIN:VEVENT
DTSTART;TZID=America/Vancouver:20230901T120000
DTEND;TZID=America/Vancouver:20230901T160000
DTSTAMP:20260422T135315
CREATED:20230901T182223Z
LAST-MODIFIED:20230901T182223Z
UID:1986-1693569600-1693584000@www.gameonsports.bar
SUMMARY:Friday Special Feature
DESCRIPTION:Crispy Chicken Club Panini\nwith soup\, salad or fries $16.99 \nSoup of the Day: \nChicken Taco\nBeef Vegetable\nBroccoli & Cheddar \nDrink Special: \nPints of Flagship IPA $5.80\nLong Island Icedtea $5.40
URL:https://www.gameonsports.bar/event/friday-special-feature-18/
LOCATION:Game On Sports Bar & Grill\, 3701 Dewolf Way\, Merritt\, BC\, V1K 1C4\, Canada
ATTACH;FMTTYPE=image/jpeg:https://www.gameonsports.bar/wp-content/uploads/2023/09/Friday-September-1-2023-Special-calendar.jpeg
ORGANIZER;CN="Jim%20Cooley":MAILTO:jim.cooley@live.ca
END:VEVENT
BEGIN:VEVENT
DTSTART;TZID=America/Vancouver:20230902T120000
DTEND;TZID=America/Vancouver:20230902T160000
DTSTAMP:20260422T135315
CREATED:20230902T194239Z
LAST-MODIFIED:20230902T194239Z
UID:1989-1693656000-1693670400@www.gameonsports.bar
SUMMARY:Saturday Special Feature
DESCRIPTION:Grilled Cheese with Tomato & Bacon with soup\, salad or fries $14.99 \nSoup of the Day: \nSplit Pea & Ham\nPhilly Beef \nDrink Special: \nPints of Lions Gate Lager $5.80\nGrowers Dry Apple Cider $5.00
URL:https://www.gameonsports.bar/event/saturday-special-feature-19/
LOCATION:Game On Sports Bar & Grill\, 3701 Dewolf Way\, Merritt\, BC\, V1K 1C4\, Canada
ATTACH;FMTTYPE=image/jpeg:https://www.gameonsports.bar/wp-content/uploads/2023/09/Saturday-September-2-2023-Special-calendar.jpeg
ORGANIZER;CN="Jim%20Cooley":MAILTO:jim.cooley@live.ca
END:VEVENT
BEGIN:VEVENT
DTSTART;TZID=America/Vancouver:20230904T120000
DTEND;TZID=America/Vancouver:20230904T160000
DTSTAMP:20260422T135315
CREATED:20230904T200842Z
LAST-MODIFIED:20230904T200842Z
UID:1992-1693828800-1693843200@www.gameonsports.bar
SUMMARY:Monday Special Feature
DESCRIPTION:Mushroom & Swiss Beef Dip\nwith soup\, salad or fries $16.99 \nSoup of the Day: \nBeef Vegetable\nChicken Taco \nDrink Special: \nPints of Canadian $5.80\nTwisted Tea $5.00
URL:https://www.gameonsports.bar/event/monday-special-feature-18/
LOCATION:Game On Sports Bar & Grill\, 3701 Dewolf Way\, Merritt\, BC\, V1K 1C4\, Canada
ATTACH;FMTTYPE=image/jpeg:https://www.gameonsports.bar/wp-content/uploads/2023/09/Monday-September-4-2023-Special-calendar.jpeg
ORGANIZER;CN="Jim%20Cooley":MAILTO:jim.cooley@live.ca
END:VEVENT
BEGIN:VEVENT
DTSTART;TZID=America/Vancouver:20230905T120000
DTEND;TZID=America/Vancouver:20230905T160000
DTSTAMP:20260422T135315
CREATED:20230905T183940Z
LAST-MODIFIED:20230905T183940Z
UID:1995-1693915200-1693929600@www.gameonsports.bar
SUMMARY:Tuesday Special Feature
DESCRIPTION:Spicy Popcorn Shrimp Caesar Wrap\, with Soup. Salad or Fries $16.99 \nSoup of the Day: \nPhilly Beef\nBeef Veg\nSplit Pea & Ham \nDrink Special: \nPints of 1516 $5.80\nBottles of Smirnoff Ice $5.00
URL:https://www.gameonsports.bar/event/tuesday-special-feature-18/
LOCATION:Game On Sports Bar & Grill\, 3701 Dewolf Way\, Merritt\, BC\, V1K 1C4\, Canada
ATTACH;FMTTYPE=image/jpeg:https://www.gameonsports.bar/wp-content/uploads/2023/09/Tuesday-September-5-2023-Special-calendar.jpeg
ORGANIZER;CN="Jim%20Cooley":MAILTO:jim.cooley@live.ca
END:VEVENT
BEGIN:VEVENT
DTSTART;TZID=America/Vancouver:20230906T123000
DTEND;TZID=America/Vancouver:20230906T160000
DTSTAMP:20260422T135315
CREATED:20230906T174114Z
LAST-MODIFIED:20230906T174117Z
UID:1998-1694003400-1694016000@www.gameonsports.bar
SUMMARY:Wednesday Special Feature
DESCRIPTION:Western Burger\nwith Soup\, Salad or Fries $16.99 \nSoup of the Day: \nPhilly Beef\nBorscht \nDrink Special: \nPints of Flagship I.P.A. $5.80\nGame On Ice Tea $5.40
URL:https://www.gameonsports.bar/event/wednesday-special-feature-17/
LOCATION:Game On Sports Bar & Grill\, 3701 Dewolf Way\, Merritt\, BC\, V1K 1C4\, Canada
ATTACH;FMTTYPE=image/jpeg:https://www.gameonsports.bar/wp-content/uploads/2023/09/Wednesday-September-6-2023-Special-calendar.jpeg
ORGANIZER;CN="Jim%20Cooley":MAILTO:jim.cooley@live.ca
END:VEVENT
END:VCALENDAR